BEGIN:VCALENDAR
VERSION:2.0
PRODID:-//The Center for Learning Unlimited - ECPv6.10.1//NONSGML v1.0//EN
CALSCALE:GREGORIAN
METHOD:PUBLISH
X-WR-CALNAME:The Center for Learning Unlimited
X-ORIGINAL-URL:https://cflu.org
X-WR-CALDESC:Events for The Center for Learning Unlimited
REFRESH-INTERVAL;VALUE=DURATION:PT1H
X-Robots-Tag:noindex
X-PUBLISHED-TTL:PT1H
BEGIN:VTIMEZONE
TZID:America/Los_Angeles
BEGIN:DAYLIGHT
TZOFFSETFROM:-0800
TZOFFSETTO:-0700
TZNAME:PDT
DTSTART:20150308T100000
END:DAYLIGHT
BEGIN:STANDARD
TZOFFSETFROM:-0700
TZOFFSETTO:-0800
TZNAME:PST
DTSTART:20151101T090000
END:STANDARD
END:VTIMEZONE
BEGIN:VEVENT
DTSTART;VALUE=DATE:20150522
DTEND;VALUE=DATE:20150523
DTSTAMP:20260425T134946
CREATED:20150508T185729Z
LAST-MODIFIED:20150508T185729Z
UID:2752-1432252800-1432339199@cflu.org
SUMMARY:2014 - 2015 CLU Yearbook Order Forms and Dedication Ads Due
DESCRIPTION:Parents\, \nOrder forms and payment for the 2014 -2015 CLU Yearbook are due today!  Please contact Rosie Chavez with any questions. \nIf you are purchasing a dedication ad in the yearbook\, please be sure to submit your design to Sabrina Meza as well. \nThanks! \nEricka
URL:https://cflu.org/event/yearbook/
END:VEVENT
BEGIN:VEVENT
DTSTART;VALUE=DATE:20150522
DTEND;VALUE=DATE:20150523
DTSTAMP:20260425T134946
CREATED:20150508T194504Z
LAST-MODIFIED:20150508T194504Z
UID:2753-1432252800-1432339199@cflu.org
SUMMARY:Robinson Helicopter Company Career Exploration (Parent RSVP due)
DESCRIPTION:Please email Mr. Darryl Coit by this date if you’d like to attend the Personal Milestones Career Exploration tour of Robinson Helicopter Company on Thursday\, May 28th
URL:https://cflu.org/event/robparnt/
END:VEVENT
BEGIN:VEVENT
DTSTART;VALUE=DATE:20150522
DTEND;VALUE=DATE:20150523
DTSTAMP:20260425T134946
CREATED:20150515T041348Z
LAST-MODIFIED:20150515T041348Z
UID:2757-1432252800-1432339199@cflu.org
SUMMARY:Torrance Beach Outing Permission Slip Due (select students)
DESCRIPTION:Parents\, if your student will be participating in the Torrance Beach field trips on June 2nd and 4th\, please be sure to submit a signed participation form to your student’s teacher by this date.
URL:https://cflu.org/event/bchprm/
END:VEVENT
BEGIN:VEVENT
DTSTART;TZID=America/Los_Angeles:20150522T090000
DTEND;TZID=America/Los_Angeles:20150522T094500
DTSTAMP:20260425T134946
CREATED:20150311T172555Z
LAST-MODIFIED:20150311T172555Z
UID:2636-1432285200-1432287900@cflu.org
SUMMARY:PMP Parent Meeting
DESCRIPTION:
URL:https://cflu.org/event/pmp-parent-meeting-2/
LOCATION:CLU Conference Room
END:VEVENT
BEGIN:VEVENT
DTSTART;TZID=America/Los_Angeles:20150522T130000
DTEND;TZID=America/Los_Angeles:20150522T130000
DTSTAMP:20260425T134946
CREATED:20140714T230715Z
LAST-MODIFIED:20140714T230715Z
UID:2203-1432299600-1432299600@cflu.org
SUMMARY:Min. Day (1:00 p.m. Dismissal)
DESCRIPTION:Please share this early pick-up time with caregivers or drivers for their awareness.
URL:https://cflu.org/event/min-day-100-p-m-dismissal-11/
END:VEVENT
END:VCALENDAR