BEGIN:VCALENDAR
VERSION:2.0
PRODID:-//The Center for Learning Unlimited - ECPv6.10.1//NONSGML v1.0//EN
CALSCALE:GREGORIAN
METHOD:PUBLISH
X-WR-CALNAME:The Center for Learning Unlimited
X-ORIGINAL-URL:https://cflu.org
X-WR-CALDESC:Events for The Center for Learning Unlimited
REFRESH-INTERVAL;VALUE=DURATION:PT1H
X-Robots-Tag:noindex
X-PUBLISHED-TTL:PT1H
BEGIN:VTIMEZONE
TZID:America/Los_Angeles
BEGIN:DAYLIGHT
TZOFFSETFROM:-0800
TZOFFSETTO:-0700
TZNAME:PDT
DTSTART:20150308T100000
END:DAYLIGHT
BEGIN:STANDARD
TZOFFSETFROM:-0700
TZOFFSETTO:-0800
TZNAME:PST
DTSTART:20151101T090000
END:STANDARD
END:VTIMEZONE
BEGIN:VEVENT
DTSTART;TZID=America/Los_Angeles:20150528T103000
DTEND;TZID=America/Los_Angeles:20150528T120000
DTSTAMP:20260425T152632
CREATED:20150105T210407Z
LAST-MODIFIED:20150506T185747Z
UID:2511-1432809000-1432814400@cflu.org
SUMMARY:Library Field Trip (Lower School Only)
DESCRIPTION:Lower school students and staff will be taking a field trip to a local library and will visit a nearby park afterwards. \nPlease remember to send students with their library card and a lunch from home!
URL:https://cflu.org/event/low10/
END:VEVENT
BEGIN:VEVENT
DTSTART;TZID=America/Los_Angeles:20150528T130000
DTEND;TZID=America/Los_Angeles:20150528T143000
DTSTAMP:20260425T152632
CREATED:20150429T193403Z
LAST-MODIFIED:20150429T193403Z
UID:2722-1432818000-1432823400@cflu.org
SUMMARY:Personal Milestones Career Exploration (Robinson Helicopter Company)
DESCRIPTION:As part of our efforts to help your young adult get acquainted with the world of work\, we’re thrilled to announce that our young adult transition program\, Personal Milestones\, will tour the Robinson Helicopter Company facility. \nFounded in 1973 by Frank Robinson\, Robinson Helicopter employs approximately 1000 employees and is currently the world’s leading manufacturer of civil helicopters.  Located in Torrance\, Robinson’s factory was designed and built for helicopter manufacturing. The facility is equipped with the latest state-of-the-art machinery\, including CNC (computer numerically controlled) machining centers and CMM (coordinate measuring machines). To maintain the highest quality\, most operations including welding\, machining\, assembly\, painting and flight testing are performed at the Torrance facility. In 2010 Robinson added 133\,000 sq feet of manufacturing space bringing the company’s total manufacturing space to 617\,000 sq feet.
URL:https://cflu.org/event/pmprob/
LOCATION:Robinson Helicopter Company\, 2901 Airport Drive\, Torrance\, 90505
END:VEVENT
END:VCALENDAR