BEGIN:VCALENDAR
VERSION:2.0
PRODID:-//The Center for Learning Unlimited - ECPv6.10.1//NONSGML v1.0//EN
CALSCALE:GREGORIAN
METHOD:PUBLISH
X-WR-CALNAME:The Center for Learning Unlimited
X-ORIGINAL-URL:https://cflu.org
X-WR-CALDESC:Events for The Center for Learning Unlimited
REFRESH-INTERVAL;VALUE=DURATION:PT1H
X-Robots-Tag:noindex
X-PUBLISHED-TTL:PT1H
BEGIN:VTIMEZONE
TZID:America/Los_Angeles
BEGIN:DAYLIGHT
TZOFFSETFROM:-0800
TZOFFSETTO:-0700
TZNAME:PDT
DTSTART:20150308T100000
END:DAYLIGHT
BEGIN:STANDARD
TZOFFSETFROM:-0700
TZOFFSETTO:-0800
TZNAME:PST
DTSTART:20151101T090000
END:STANDARD
END:VTIMEZONE
BEGIN:VEVENT
DTSTART;TZID=America/Los_Angeles:20150611T103000
DTEND;TZID=America/Los_Angeles:20150611T120000
DTSTAMP:20260425T121942
CREATED:20150109T054230Z
LAST-MODIFIED:20150601T042403Z
UID:2542-1434018600-1434024000@cflu.org
SUMMARY:Hike at Del Cerro (Lower School Only)
DESCRIPTION:Lower school students and staff will be spending part of the morning at Del Cerro.
URL:https://cflu.org/event/lib-low-11/
END:VEVENT
END:VCALENDAR