BEGIN:VCALENDAR
VERSION:2.0
PRODID:-//The Center for Learning Unlimited - ECPv6.10.1//NONSGML v1.0//EN
CALSCALE:GREGORIAN
METHOD:PUBLISH
X-ORIGINAL-URL:https://cflu.org
X-WR-CALDESC:Events for The Center for Learning Unlimited
REFRESH-INTERVAL;VALUE=DURATION:PT1H
X-Robots-Tag:noindex
X-PUBLISHED-TTL:PT1H
BEGIN:VTIMEZONE
TZID:America/Los_Angeles
BEGIN:DAYLIGHT
TZOFFSETFROM:-0800
TZOFFSETTO:-0700
TZNAME:PDT
DTSTART:20150308T100000
END:DAYLIGHT
BEGIN:STANDARD
TZOFFSETFROM:-0700
TZOFFSETTO:-0800
TZNAME:PST
DTSTART:20151101T090000
END:STANDARD
END:VTIMEZONE
BEGIN:VEVENT
DTSTART;TZID=America/Los_Angeles:20150709T091500
DTEND;TZID=America/Los_Angeles:20150709T123000
DTSTAMP:20260425T135031
CREATED:20150622T185138Z
LAST-MODIFIED:20150702T212932Z
UID:2815-1436433300-1436445000@cflu.org
SUMMARY:California Science Center (Middle School students)
DESCRIPTION:Students and staff will spend the say at the CA Science Center. \nPlease send your student with a disposable lunch.  Comfortable walking shoes recommended.
URL:https://cflu.org/event/cascnc/
LOCATION:California Science Center\, 700 Exposition Park Dr.\, Los Angeles\, 90037
END:VEVENT
END:VCALENDAR