BEGIN:VCALENDAR
VERSION:2.0
PRODID:-//The Center for Learning Unlimited - ECPv6.10.1//NONSGML v1.0//EN
CALSCALE:GREGORIAN
METHOD:PUBLISH
X-WR-CALNAME:The Center for Learning Unlimited
X-ORIGINAL-URL:https://cflu.org
X-WR-CALDESC:Events for The Center for Learning Unlimited
REFRESH-INTERVAL;VALUE=DURATION:PT1H
X-Robots-Tag:noindex
X-PUBLISHED-TTL:PT1H
BEGIN:VTIMEZONE
TZID:America/Los_Angeles
BEGIN:DAYLIGHT
TZOFFSETFROM:-0800
TZOFFSETTO:-0700
TZNAME:PDT
DTSTART:20250309T100000
END:DAYLIGHT
BEGIN:STANDARD
TZOFFSETFROM:-0700
TZOFFSETTO:-0800
TZNAME:PST
DTSTART:20251102T090000
END:STANDARD
END:VTIMEZONE
BEGIN:VEVENT
DTSTART;VALUE=DATE:20251111
DTEND;VALUE=DATE:20251112
DTSTAMP:20260421T072920
CREATED:20250625T181018Z
LAST-MODIFIED:20250625T181018Z
UID:5389-1762819200-1762905599@cflu.org
SUMMARY:Veterans Day - School Closed
DESCRIPTION:
URL:https://cflu.org/event/veterans-day-school-closed-9/
END:VEVENT
END:VCALENDAR