BEGIN:VCALENDAR
VERSION:2.0
PRODID:-//The Center for Learning Unlimited - ECPv6.10.1//NONSGML v1.0//EN
CALSCALE:GREGORIAN
METHOD:PUBLISH
X-WR-CALNAME:The Center for Learning Unlimited
X-ORIGINAL-URL:https://cflu.org
X-WR-CALDESC:Events for The Center for Learning Unlimited
REFRESH-INTERVAL;VALUE=DURATION:PT1H
X-Robots-Tag:noindex
X-PUBLISHED-TTL:PT1H
BEGIN:VTIMEZONE
TZID:America/Los_Angeles
BEGIN:DAYLIGHT
TZOFFSETFROM:-0800
TZOFFSETTO:-0700
TZNAME:PDT
DTSTART:20160313T100000
END:DAYLIGHT
BEGIN:STANDARD
TZOFFSETFROM:-0700
TZOFFSETTO:-0800
TZNAME:PST
DTSTART:20161106T090000
END:STANDARD
BEGIN:DAYLIGHT
TZOFFSETFROM:-0800
TZOFFSETTO:-0700
TZNAME:PDT
DTSTART:20170312T100000
END:DAYLIGHT
BEGIN:STANDARD
TZOFFSETFROM:-0700
TZOFFSETTO:-0800
TZNAME:PST
DTSTART:20171105T090000
END:STANDARD
END:VTIMEZONE
BEGIN:VEVENT
DTSTART;VALUE=DATE:20170116
DTEND;VALUE=DATE:20170117
DTSTAMP:20260421T105402
CREATED:20160707T040643Z
LAST-MODIFIED:20160707T040643Z
UID:3356-1484524800-1484611199@cflu.org
SUMMARY:Martin Luther King\, Jr. Day (School Closed)
DESCRIPTION:
URL:https://cflu.org/event/martin-luther-king-jr-day-school-closed-2/
END:VEVENT
BEGIN:VEVENT
DTSTART;TZID=America/Los_Angeles:20170113T130000
DTEND;TZID=America/Los_Angeles:20170113T130000
DTSTAMP:20260421T105402
CREATED:20160707T035727Z
LAST-MODIFIED:20160707T035727Z
UID:3355-1484312400-1484312400@cflu.org
SUMMARY:Minimum Day Dismissal
DESCRIPTION:All students will be dismissed at 1:00 p.m.   Please ensure that your student’s transportation provider is aware of this early pick-up time.
URL:https://cflu.org/event/minimum-day-6/
END:VEVENT
BEGIN:VEVENT
DTSTART;TZID=America/Los_Angeles:20170103T084000
DTEND;TZID=America/Los_Angeles:20170103T084000
DTSTAMP:20260421T105402
CREATED:20160707T035110Z
LAST-MODIFIED:20160707T035110Z
UID:3354-1483432800-1483432800@cflu.org
SUMMARY:Classes Resume
DESCRIPTION:
URL:https://cflu.org/event/classes-resume-3/
END:VEVENT
BEGIN:VEVENT
DTSTART;VALUE=DATE:20170102
DTEND;VALUE=DATE:20170103
DTSTAMP:20260421T105402
CREATED:20160707T034829Z
LAST-MODIFIED:20160707T034829Z
UID:3353-1483315200-1483401599@cflu.org
SUMMARY:School Closed
DESCRIPTION:
URL:https://cflu.org/event/school-closed-6/
END:VEVENT
BEGIN:VEVENT
DTSTART;VALUE=DATE:20161226
DTEND;VALUE=DATE:20161231
DTSTAMP:20260421T105402
CREATED:20160707T034659Z
LAST-MODIFIED:20160707T034659Z
UID:3352-1482710400-1483142399@cflu.org
SUMMARY:Winter Break (School Closed)
DESCRIPTION:
URL:https://cflu.org/event/winter-break-school-closed-7/
END:VEVENT
BEGIN:VEVENT
DTSTART;VALUE=DATE:20161219
DTEND;VALUE=DATE:20161224
DTSTAMP:20260421T105402
CREATED:20160707T034614Z
LAST-MODIFIED:20160707T034614Z
UID:3351-1482105600-1482537599@cflu.org
SUMMARY:Winter Break (School Closed)
DESCRIPTION:
URL:https://cflu.org/event/winter-break-school-closed-6/
END:VEVENT
BEGIN:VEVENT
DTSTART;TZID=America/Los_Angeles:20161216T130000
DTEND;TZID=America/Los_Angeles:20161216T130000
DTSTAMP:20260421T105402
CREATED:20160707T034439Z
LAST-MODIFIED:20160707T034439Z
UID:3350-1481893200-1481893200@cflu.org
SUMMARY:Minimum Day Dismissal (1:00 p.m.)
DESCRIPTION:All students will be dismissed at 1:00 p.m.  Please ensure that your student’s transportation is aware of this early pick-up time.
URL:https://cflu.org/event/minimum-day-dismissal-100-p-m-4/
END:VEVENT
BEGIN:VEVENT
DTSTART;TZID=America/Los_Angeles:20161216T100000
DTEND;TZID=America/Los_Angeles:20161216T123000
DTSTAMP:20260421T105402
CREATED:20161207T190524Z
LAST-MODIFIED:20161207T190524Z
UID:3640-1481882400-1481891400@cflu.org
SUMMARY:Student Holiday Potluck
DESCRIPTION:Parents\, please be aware of the following reminders:\n\nIf your student will be bringing their contribution with them to school\, please make sure it is securely packaged so that it arrives in its original/intended form.\nContributions can be dropped off in our lobby (by 10 a.m. at the latest please).\nAssume 10 servings for planning purposes.\nNote that some students have dietary restrictions (i.e.\, gluten-free\, lactose intolerance\, low sugar)\, so if you’re sending homemade treats\, please include a recipe so that teachers can monitor intake for students with these needs.\nLabel all containers so that we can return them at the end of the day!\nStudents are welcome to bring their regular lunch from home if the potluck menu is not a fit.
URL:https://cflu.org/event/student-holiday-potluck-2/
END:VEVENT
BEGIN:VEVENT
DTSTART;TZID=America/Los_Angeles:20161215T000000
DTEND;TZID=America/Los_Angeles:20161215T140000
DTSTAMP:20260421T105402
CREATED:20161207T190733Z
LAST-MODIFIED:20161207T190733Z
UID:3642-1481760000-1481810400@cflu.org
SUMMARY:PMP MMCC Field Trip
DESCRIPTION:PMP students and staff will drop off donations and have a picnic at the Marine Mammal Care Center in San Pedro.
URL:https://cflu.org/event/pmp-mmcc-field-trip/
END:VEVENT
BEGIN:VEVENT
DTSTART;TZID=America/Los_Angeles:20161212T090000
DTEND;TZID=America/Los_Angeles:20161212T150000
DTSTAMP:20260421T105402
CREATED:20161129T190217Z
LAST-MODIFIED:20161129T190217Z
UID:3621-1481533200-1481554800@cflu.org
SUMMARY:Giving Back to the Community: Marine Mammal Care Center Los Angeles
DESCRIPTION:Each holiday season\, CLU picks a local nonprofit to support through financial and in-kind donations.  This year we are partnering with Marine Mammal Care Center Los Angeles (MMCC) which is a hospital for sick an injured marine animals located in San Pedro. \nIf you’d like to make an in-kind donation\, please contribute your item(s) by December 12th in our school lobby. Click here to see the MMCC’s wish list and other ways to support this local nonprofit. \n  \n 
URL:https://cflu.org/event/giving-back-community-marine-mammal-care-center-los-angeles/
LOCATION:CLU\, 2785 PCH Suite G\, Torrance\, CA\, 90505\, United States
END:VEVENT
BEGIN:VEVENT
DTSTART;VALUE=DATE:20161209
DTEND;VALUE=DATE:20161210
DTSTAMP:20260421T105402
CREATED:20161129T193237Z
LAST-MODIFIED:20161129T193237Z
UID:3635-1481241600-1481327999@cflu.org
SUMMARY:2016-2017 Student Portraits Sent Home!
DESCRIPTION:Parents\, if you ordered copies of your student’s 2016-2017 student portrait\, they will be sent home on Friday\, December 9th!
URL:https://cflu.org/event/2016-2017-student-portraits-sent-home/
END:VEVENT
BEGIN:VEVENT
DTSTART;TZID=America/Los_Angeles:20161206T090500
DTEND;TZID=America/Los_Angeles:20161206T103000
DTSTAMP:20260421T105402
CREATED:20161129T192255Z
LAST-MODIFIED:20161129T192255Z
UID:3632-1481015100-1481020200@cflu.org
SUMMARY:CLU PTO Meeting
DESCRIPTION:All CLU parents are welcome to attend this meeting in the CLU conference room.  Email the PTO for dial-in information.
URL:https://cflu.org/event/clu-pto-meeting-7/
LOCATION:CLU Conference Room
END:VEVENT
BEGIN:VEVENT
DTSTART;VALUE=DATE:20161129
DTEND;VALUE=DATE:20161130
DTSTAMP:20260421T105402
CREATED:20161013T204615Z
LAST-MODIFIED:20161013T204615Z
UID:3485-1480377600-1480463999@cflu.org
SUMMARY:Recycling Drop-off Date
DESCRIPTION:CLU families and friends are invited to contribute to our student-driven recycling fundraising program. \nThe goal of this program is to raise money for a catered lunch for students and staff as well as a new basketball hoop. \nIf participating\, please bag and drop off the following recyclables: cans\, plastic bottles and glass bottles. All donations are greatly appreciated.
URL:https://cflu.org/event/recycling-drop-off-date-4/
END:VEVENT
BEGIN:VEVENT
DTSTART;VALUE=DATE:20161125
DTEND;VALUE=DATE:20161126
DTSTAMP:20260421T105402
CREATED:20160707T033917Z
LAST-MODIFIED:20160707T034057Z
UID:3349-1480032000-1480118399@cflu.org
SUMMARY:Thanksgiving (School Closed)
DESCRIPTION:
URL:https://cflu.org/event/thanksgiving-school-closed-5/
END:VEVENT
BEGIN:VEVENT
DTSTART;VALUE=DATE:20161124
DTEND;VALUE=DATE:20161125
DTSTAMP:20260421T105402
CREATED:20160707T033832Z
LAST-MODIFIED:20160707T033832Z
UID:3348-1479945600-1480031999@cflu.org
SUMMARY:Thanksgiving (School Closed)
DESCRIPTION:
URL:https://cflu.org/event/thanksgiving-school-closed-4/
END:VEVENT
BEGIN:VEVENT
DTSTART;TZID=America/Los_Angeles:20161123T130000
DTEND;TZID=America/Los_Angeles:20161123T130000
DTSTAMP:20260421T105402
CREATED:20160707T033759Z
LAST-MODIFIED:20160707T033759Z
UID:3347-1479906000-1479906000@cflu.org
SUMMARY:Minimum Day Dismissal (1:00 p.m.)
DESCRIPTION:All students will be dismissed at 1:00 p.m.  Please ensure that your student’s transportation provider is aware of this early pick-up time.
URL:https://cflu.org/event/minimum-day-dismissal-100-p-m-3/
END:VEVENT
BEGIN:VEVENT
DTSTART;TZID=America/Los_Angeles:20161118T130000
DTEND;TZID=America/Los_Angeles:20161118T130000
DTSTAMP:20260421T105402
CREATED:20160707T033517Z
LAST-MODIFIED:20160707T033517Z
UID:3346-1479474000-1479474000@cflu.org
SUMMARY:Parent Conferences (Minimum Day Dismissal)
DESCRIPTION:All students will be dismissed at 1:00 p.m. to accommodate teacher/parent conferences.  Please ensure that your student’s transportation provider is aware of the early pick-up time.
URL:https://cflu.org/event/parent-conferences-minimum-day-dismissal-3/
END:VEVENT
BEGIN:VEVENT
DTSTART;TZID=America/Los_Angeles:20161117T130000
DTEND;TZID=America/Los_Angeles:20161117T130000
DTSTAMP:20260421T105402
CREATED:20160707T033433Z
LAST-MODIFIED:20160707T033433Z
UID:3345-1479387600-1479387600@cflu.org
SUMMARY:Parent Conferences (Minimum Day Dismissal)
DESCRIPTION:All students will be dismissed at 1:00 p.m. to accommodate teacher/parent conferences.  Please ensure that your student’s transportation provider is aware of the early pick-up time.
URL:https://cflu.org/event/parent-conferences-minimum-day-dismissal-2/
END:VEVENT
BEGIN:VEVENT
DTSTART;TZID=America/Los_Angeles:20161116T130000
DTEND;TZID=America/Los_Angeles:20161116T130000
DTSTAMP:20260421T105402
CREATED:20160707T033352Z
LAST-MODIFIED:20160707T033352Z
UID:3344-1479301200-1479301200@cflu.org
SUMMARY:Parent Conferences (Minimum Day Dismissal)
DESCRIPTION:All students will be dismissed at 1:00 p.m. to accommodate teacher/parent conferences.  Please ensure that your student’s transportation provider is aware of the early pick-up time.
URL:https://cflu.org/event/parent-conferences-minimum-day-dismissal/
END:VEVENT
BEGIN:VEVENT
DTSTART;VALUE=DATE:20161115
DTEND;VALUE=DATE:20161116
DTSTAMP:20260421T105402
CREATED:20161019T192750Z
LAST-MODIFIED:20161103T231245Z
UID:3511-1479168000-1479254399@cflu.org
SUMMARY:AAYF Project #2 "Boom for Real" (Lower School)
DESCRIPTION:A mixed-media project in which students create a painting inspired by the paintings of Jean-Michel Basquiat using a variety of layered drawing and painting techniques. \n \nProject created by Marianne Coble \nParents: We encourage sending students in “art friendly” clothing and will have smocks available to students should they wish to wear one.
URL:https://cflu.org/event/aayf-project-2-boom-real-lower-school/
END:VEVENT
BEGIN:VEVENT
DTSTART;VALUE=DATE:20161115
DTEND;VALUE=DATE:20161116
DTSTAMP:20260421T105402
CREATED:20161013T204508Z
LAST-MODIFIED:20161013T204508Z
UID:3483-1479168000-1479254399@cflu.org
SUMMARY:Recycling Drop-off Date
DESCRIPTION:CLU families and friends are invited to contribute to our student-driven recycling fundraising program. \nThe goal of this program is to raise money for a catered lunch for students and staff as well as a new basketball hoop. \nIf participating\, please bag and drop off the following recyclables: cans\, plastic bottles and glass bottles. All donations are greatly appreciated.
URL:https://cflu.org/event/recycling-drop-off-date-3/
END:VEVENT
BEGIN:VEVENT
DTSTART;TZID=America/Los_Angeles:20161113T143000
DTEND;TZID=America/Los_Angeles:20161113T160000
DTSTAMP:20260421T105402
CREATED:20161019T203207Z
LAST-MODIFIED:20161019T203207Z
UID:3540-1479047400-1479052800@cflu.org
SUMMARY:The Mostly Mozart Music Festival (Free and Open to the Public!)
DESCRIPTION:
URL:https://cflu.org/event/mostly-mozart-music-festival-free-open-public/
LOCATION:Rolling Hills Prep Auditorium\, 1 Rolling Hills Prep Way\, San Pedro\, CA\, 90732
END:VEVENT
BEGIN:VEVENT
DTSTART;VALUE=DATE:20161111
DTEND;VALUE=DATE:20161112
DTSTAMP:20260421T105402
CREATED:20160707T033129Z
LAST-MODIFIED:20160707T033129Z
UID:3343-1478822400-1478908799@cflu.org
SUMMARY:Veterans Day (School Closed)
DESCRIPTION:
URL:https://cflu.org/event/veterans-day-school-closed-3/
END:VEVENT
BEGIN:VEVENT
DTSTART;TZID=America/Los_Angeles:20161110T130000
DTEND;TZID=America/Los_Angeles:20161110T130000
DTSTAMP:20260421T105402
CREATED:20160707T033038Z
LAST-MODIFIED:20160707T033038Z
UID:3342-1478782800-1478782800@cflu.org
SUMMARY:Minimum Day Dismissal (1:00 p.m.)
DESCRIPTION:All students will be dismissed at 1:00 p.m. \nParents\, please ensure that your student’s transportation provider is aware of this early pick-up time.
URL:https://cflu.org/event/minimum-day-dismissal-100-p-m-2/
END:VEVENT
BEGIN:VEVENT
DTSTART;TZID=America/Los_Angeles:20161110T080000
DTEND;TZID=America/Los_Angeles:20161110T170000
DTSTAMP:20260421T105402
CREATED:20161019T193231Z
LAST-MODIFIED:20161019T193231Z
UID:3519-1478764800-1478797200@cflu.org
SUMMARY:AAYF Project #2 "Boom for Real" (PMP\, US\, MS students)
DESCRIPTION:A mixed-media project in which students create a painting inspired by the paintings of Jean-Michel Basquiat using a variety of layered drawing and painting techniques. \n \nProject created by Marianne Coble \nParents: We encourage sending students in “art friendly” clothing and will have smocks available to students should they wish to wear one.
URL:https://cflu.org/event/aayf-project-2-boom-real-pmp-us-ms-students/
END:VEVENT
BEGIN:VEVENT
DTSTART;TZID=America/Los_Angeles:20161109T090500
DTEND;TZID=America/Los_Angeles:20161109T223000
DTSTAMP:20260421T105402
CREATED:20161103T232710Z
LAST-MODIFIED:20161103T232710Z
UID:3569-1478682300-1478730600@cflu.org
SUMMARY:CLU PTO meeting (all parents welcome)
DESCRIPTION:Please join us as we plan staff appreciation activities as well as WBFF 2017.  Email the PTO for dial-in information.
URL:https://cflu.org/event/clu-pto-meeting-parents-welcome/
LOCATION:CLU Conference Room
END:VEVENT
BEGIN:VEVENT
DTSTART;VALUE=DATE:20161101
DTEND;VALUE=DATE:20161102
DTSTAMP:20260421T105402
CREATED:20161013T204414Z
LAST-MODIFIED:20161013T204414Z
UID:3481-1477958400-1478044799@cflu.org
SUMMARY:Recycling Drop-off Date!
DESCRIPTION:CLU families and friends are invited to contribute to our student-driven recycling fundraising program. \nThe goal of this program is to raise money for a catered lunch for students and staff as well as a new basketball hoop. \nIf participating\, please bag and drop off the following recyclables: cans\, plastic bottles and glass bottles. All donations are greatly appreciated.
URL:https://cflu.org/event/recycling-drop-off-date-2/
END:VEVENT
BEGIN:VEVENT
DTSTART;TZID=America/Los_Angeles:20161031T093000
DTEND;TZID=America/Los_Angeles:20161031T093000
DTSTAMP:20260421T105402
CREATED:20160706T185204Z
LAST-MODIFIED:20160706T185204Z
UID:3333-1477906200-1477906200@cflu.org
SUMMARY:Monday Late Start (9:30 a.m.)
DESCRIPTION:Our campus opens at 9:30 a.m. on Mondays.  Students will not be allowed onto campus until this time.
URL:https://cflu.org/event/monday-late-start-930-m-8/
END:VEVENT
BEGIN:VEVENT
DTSTART;TZID=America/Los_Angeles:20161028T130000
DTEND;TZID=America/Los_Angeles:20161028T130000
DTSTAMP:20260421T105402
CREATED:20160706T185927Z
LAST-MODIFIED:20160706T185927Z
UID:3340-1477659600-1477659600@cflu.org
SUMMARY:End of Quarter (Minimum Day Dismissal)
DESCRIPTION:All students will be dismissed at 1:00 p.m. Please ensure your student’s transportation provider is aware of this early pick-up time.
URL:https://cflu.org/event/end-quarter-minimum-day-dismissal/
END:VEVENT
BEGIN:VEVENT
DTSTART;VALUE=DATE:20161028
DTEND;VALUE=DATE:20161029
DTSTAMP:20260421T105402
CREATED:20161014T203610Z
LAST-MODIFIED:20161014T203610Z
UID:3500-1477612800-1477699199@cflu.org
SUMMARY:Box Tops for Education Due
DESCRIPTION:Please drop-off Box Top for Education coupons in the box in our lobby.
URL:https://cflu.org/event/box-tops-education-due/
END:VEVENT
END:VCALENDAR