BEGIN:VCALENDAR
VERSION:2.0
PRODID:-//The Center for Learning Unlimited - ECPv6.10.1//NONSGML v1.0//EN
CALSCALE:GREGORIAN
METHOD:PUBLISH
X-WR-CALNAME:The Center for Learning Unlimited
X-ORIGINAL-URL:https://cflu.org
X-WR-CALDESC:Events for The Center for Learning Unlimited
REFRESH-INTERVAL;VALUE=DURATION:PT1H
X-Robots-Tag:noindex
X-PUBLISHED-TTL:PT1H
BEGIN:VTIMEZONE
TZID:America/Los_Angeles
BEGIN:DAYLIGHT
TZOFFSETFROM:-0800
TZOFFSETTO:-0700
TZNAME:PDT
DTSTART:20150308T100000
END:DAYLIGHT
BEGIN:STANDARD
TZOFFSETFROM:-0700
TZOFFSETTO:-0800
TZNAME:PST
DTSTART:20151101T090000
END:STANDARD
BEGIN:DAYLIGHT
TZOFFSETFROM:-0800
TZOFFSETTO:-0700
TZNAME:PDT
DTSTART:20160313T100000
END:DAYLIGHT
BEGIN:STANDARD
TZOFFSETFROM:-0700
TZOFFSETTO:-0800
TZNAME:PST
DTSTART:20161106T090000
END:STANDARD
END:VTIMEZONE
BEGIN:VEVENT
DTSTART;VALUE=DATE:20160506
DTEND;VALUE=DATE:20160507
DTSTAMP:20260422T001427
CREATED:20150803T171444Z
LAST-MODIFIED:20150803T171444Z
UID:2916-1462492800-1462579199@cflu.org
SUMMARY:New School Pictures (M - Z)
DESCRIPTION:
URL:https://cflu.org/event/new-school-pictures-m-z/
END:VEVENT
BEGIN:VEVENT
DTSTART;VALUE=DATE:20160505
DTEND;VALUE=DATE:20160506
DTSTAMP:20260422T001427
CREATED:20150803T171403Z
LAST-MODIFIED:20150803T171403Z
UID:2915-1462406400-1462492799@cflu.org
SUMMARY:New Student School Pictures (A - L)
DESCRIPTION:
URL:https://cflu.org/event/new-student-school-pictures-a-l-3/
END:VEVENT
BEGIN:VEVENT
DTSTART;TZID=America/Los_Angeles:20160430T110000
DTEND;TZID=America/Los_Angeles:20160430T150000
DTSTAMP:20260422T001427
CREATED:20160315T193313Z
LAST-MODIFIED:20160315T193433Z
UID:3244-1462014000-1462028400@cflu.org
SUMMARY:Ride to Fly Country Carnival
DESCRIPTION:Ride to Fly will be hosting it’s annual Country Carnival fundraiser on Saturday\, April 30th\, from 11:00 a.m. to 3:00 p.m. at the Empty Saddle Club in Rolling Hills Estates.  Free parking and admission! \nCome and enjoy this fun\, family-friendly afternoon willed with yummy food\, live music\, arts & crafts\, and pony rides! \nAnd be on the lookout for CLU students volunteering their time to help with this terrific\, local organization!
URL:https://cflu.org/event/ride-to-fly-country-carnival/
LOCATION:The Empty Saddle Club
END:VEVENT
BEGIN:VEVENT
DTSTART;TZID=America/Los_Angeles:20160429T130000
DTEND;TZID=America/Los_Angeles:20160429T130000
DTSTAMP:20260422T001427
CREATED:20150728T173050Z
LAST-MODIFIED:20150728T173050Z
UID:2905-1461934800-1461934800@cflu.org
SUMMARY:Spring Parent Conferences (Minimum Day Dismissal)
DESCRIPTION:Students will be dismissed at 1:00 p.m. \nParents\, please ensure that your student’s transportation provider is aware of this early pick-up time.
URL:https://cflu.org/event/spring-parent-conferences-minimum-day-dismissal-3/
END:VEVENT
BEGIN:VEVENT
DTSTART;TZID=America/Los_Angeles:20160428T130000
DTEND;TZID=America/Los_Angeles:20160428T130000
DTSTAMP:20260422T001427
CREATED:20150728T173005Z
LAST-MODIFIED:20150728T173005Z
UID:2904-1461848400-1461848400@cflu.org
SUMMARY:Spring Parent Conferences (Minimum Day Dismissal)
DESCRIPTION:Students will be dismissed at 1:00 p.m. \nParents\, please ensure that your student’s transportation provider is aware of this early pick-up time.
URL:https://cflu.org/event/spring-parent-conferences-minimum-day-dismissal-2/
END:VEVENT
BEGIN:VEVENT
DTSTART;TZID=America/Los_Angeles:20160427T130000
DTEND;TZID=America/Los_Angeles:20160427T130000
DTSTAMP:20260422T001427
CREATED:20150728T172916Z
LAST-MODIFIED:20150728T172916Z
UID:2903-1461762000-1461762000@cflu.org
SUMMARY:Spring Parent Conferences (Minimum Day Dismissal)
DESCRIPTION:Students will be dismissed at 1:00 p.m. \nParents\, please ensure that your student’s transportation provider is aware of this early pick-up time.
URL:https://cflu.org/event/spring-parent-conferences-minimum-day-dismissal/
END:VEVENT
BEGIN:VEVENT
DTSTART;TZID=America/Los_Angeles:20160420T130000
DTEND;TZID=America/Los_Angeles:20160420T130000
DTSTAMP:20260422T001427
CREATED:20150728T172808Z
LAST-MODIFIED:20150728T172808Z
UID:2902-1461157200-1461157200@cflu.org
SUMMARY:Minimum Day
DESCRIPTION:Students will be dismissed at 1:00 p.m. \nParents\, please ensure that your student’s transportation provider is aware of this early pick-up time.
URL:https://cflu.org/event/minimum-day-3/
END:VEVENT
BEGIN:VEVENT
DTSTART;VALUE=DATE:20160418
DTEND;VALUE=DATE:20160419
DTSTAMP:20260422T001427
CREATED:20160323T165512Z
LAST-MODIFIED:20160323T165512Z
UID:3252-1460937600-1461023999@cflu.org
SUMMARY:Ride to Fly Country Carnival Volunteers Due
DESCRIPTION:Upper School and Personal Milestone program students have the opportunity to earn community service hours while volunteering at Ride to Fly’s Country Carnival Fundraiser on Saturday\, April 30th.  Contact feedback@cflu.org with questions and inquiries.
URL:https://cflu.org/event/ride-to-fly-country-carnival-volunteers-due/
END:VEVENT
BEGIN:VEVENT
DTSTART;TZID=America/Los_Angeles:20160412T091500
DTEND;TZID=America/Los_Angeles:20160412T101500
DTSTAMP:20260422T001427
CREATED:20160323T165138Z
LAST-MODIFIED:20160330T193015Z
UID:3250-1460452500-1460456100@cflu.org
SUMMARY:CLU PTO Meeting
DESCRIPTION:The mission of the CLU PTO is to support the teachers and staff at CLU to help each student achieve their full potential. \nAll CLU parents are welcome to attend this meeting. Contact pto@cflu.org with questions.
URL:https://cflu.org/event/clu-pto-meeting-5/
LOCATION:CLU Conference Room
END:VEVENT
BEGIN:VEVENT
DTSTART;VALUE=DATE:20160404
DTEND;VALUE=DATE:20160409
DTSTAMP:20260422T001427
CREATED:20150803T171224Z
LAST-MODIFIED:20150803T171224Z
UID:2914-1459728000-1460159999@cflu.org
SUMMARY:Spring Break (School Closed)
DESCRIPTION:
URL:https://cflu.org/event/spring-break-school-closed-4/
END:VEVENT
BEGIN:VEVENT
DTSTART;TZID=America/Los_Angeles:20160401T130000
DTEND;TZID=America/Los_Angeles:20160401T130000
DTSTAMP:20260422T001427
CREATED:20150728T172118Z
LAST-MODIFIED:20150803T171121Z
UID:2901-1459515600-1459515600@cflu.org
SUMMARY:End of Quarter (Minimum Day)
DESCRIPTION:Students will be dismissed at 1:00 p.m. \nParents\, please ensure that your student’s transportation provider is aware of this early pick-up time.
URL:https://cflu.org/event/end-of-quarter-minimum-day/
END:VEVENT
BEGIN:VEVENT
DTSTART;TZID=America/Los_Angeles:20160318T093000
DTEND;TZID=America/Los_Angeles:20160318T113000
DTSTAMP:20260422T001427
CREATED:20160315T193810Z
LAST-MODIFIED:20160315T193810Z
UID:3248-1458293400-1458300600@cflu.org
SUMMARY:Music Mobile Visit
DESCRIPTION:Thanks to the Peninsula Committee Los Angeles Philharmonic and other Los Angeles Philharmonic Affiliates\, and we are thrilled to announce that their popular Music Mobile\, a mini-van stocked with instruments and visual aids\, will be coming to the CLU campus on March 18th. The Music Mobile’s visit will compliment our music program led by AJ Dvorak and will provide an introduction to the Philharmonic\, classical music\, the instruments of the orchestra\, and the instrumental families. \nCLICK here to see the fun we had during the Music Mobile’s first visit to our campus 3/11/15.
URL:https://cflu.org/event/music-mobile-visit/
END:VEVENT
BEGIN:VEVENT
DTSTART;VALUE=DATE:20160223
DTEND;VALUE=DATE:20160224
DTSTAMP:20260422T001427
CREATED:20160127T191301Z
LAST-MODIFIED:20160127T191301Z
UID:3231-1456185600-1456271999@cflu.org
SUMMARY:BoxTops for Education Spring Submission Deadline
DESCRIPTION:Please be sure to drop-off your Boxtops for Education coupons by this date so that we can include them in our March 2 submission. \n 
URL:https://cflu.org/event/boxtops-for-education-spring-submission-deadline/
END:VEVENT
BEGIN:VEVENT
DTSTART;VALUE=DATE:20160218
DTEND;VALUE=DATE:20160219
DTSTAMP:20260422T001427
CREATED:20160126T175256Z
LAST-MODIFIED:20160126T175256Z
UID:3228-1455753600-1455839999@cflu.org
SUMMARY:Art At Your Fingertips "Roaring Rothko" (Middle/Upper and Personal Milestones)
DESCRIPTION:Inspired by Abstract Expressionist Mark Rothko\, students will discover and experiment with color theory; the link between color and emotions and the symbolic significance of color through a hands-on experience. Using chalk pastels on black paper students will mix and blend colors to express their emotion\, through an abstract work of art.
URL:https://cflu.org/event/art-at-your-fingertips-roaring-rothko-middleupper-and-personal-milestones/
END:VEVENT
BEGIN:VEVENT
DTSTART;TZID=America/Los_Angeles:20160216T130000
DTEND;TZID=America/Los_Angeles:20160216T140000
DTSTAMP:20260422T001427
CREATED:20160126T175150Z
LAST-MODIFIED:20160126T175150Z
UID:3227-1455627600-1455631200@cflu.org
SUMMARY:Art At Your Fingertips "Roaring Rothko" (Lower School)
DESCRIPTION:Inspired by Abstract Expressionist Mark Rothko\, students will discover and experiment with color theory; the link between color and emotions and the symbolic significance of color through a hands-on experience. Using chalk pastels on black paper students will mix and blend colors to express their emotion\, through an abstract work of art.
URL:https://cflu.org/event/art-at-your-fingertips-roaring-rothko-lower-school/
END:VEVENT
BEGIN:VEVENT
DTSTART;VALUE=DATE:20160215
DTEND;VALUE=DATE:20160216
DTSTAMP:20260422T001427
CREATED:20150728T171822Z
LAST-MODIFIED:20160203T203158Z
UID:2900-1455494400-1455580799@cflu.org
SUMMARY:Presidents' Day/Washington's Birthday (School Closed)
DESCRIPTION:
URL:https://cflu.org/event/presidents-daywashingtons-birthday-school-closed/
END:VEVENT
BEGIN:VEVENT
DTSTART;TZID=America/Los_Angeles:20160212T130000
DTEND;TZID=America/Los_Angeles:20160212T130000
DTSTAMP:20260422T001427
CREATED:20150728T171337Z
LAST-MODIFIED:20150728T171337Z
UID:2898-1455282000-1455282000@cflu.org
SUMMARY:Minimum Day
DESCRIPTION:Students will be dismissed at 1:00 p.m. \nParents\, please ensure that your student’s transportation provider is aware of this early pick-up time.
URL:https://cflu.org/event/minimum-day-2/
END:VEVENT
BEGIN:VEVENT
DTSTART;VALUE=DATE:20160208
DTEND;VALUE=DATE:20160209
DTSTAMP:20260422T001427
CREATED:20150728T171740Z
LAST-MODIFIED:20150728T171740Z
UID:2899-1454889600-1454975999@cflu.org
SUMMARY:Lincoln's Birthday Observation (School Closed)
DESCRIPTION:
URL:https://cflu.org/event/lincolns-birthday-observation-school-closed/
END:VEVENT
BEGIN:VEVENT
DTSTART;TZID=America/Los_Angeles:20160205T130000
DTEND;TZID=America/Los_Angeles:20160205T130000
DTSTAMP:20260422T001427
CREATED:20150728T171252Z
LAST-MODIFIED:20150728T171252Z
UID:2897-1454677200-1454677200@cflu.org
SUMMARY:Minimum Day
DESCRIPTION:Students will be dismissed at 1:00 p.m. \nParents\, please ensure that your student’s transportation provider is aware of this early pick-up time.
URL:https://cflu.org/event/minimum-day/
END:VEVENT
BEGIN:VEVENT
DTSTART;VALUE=DATE:20160127
DTEND;VALUE=DATE:20160128
DTSTAMP:20260422T001427
CREATED:20160112T183934Z
LAST-MODIFIED:20160112T183934Z
UID:3208-1453852800-1453939199@cflu.org
SUMMARY:2nd Semester Pizza Friday Payment Due
DESCRIPTION:This optional lunch program offers cheese and pepperoni pizza\, fruit\, and juice for $5.00 per lunch. Participation is done on a semester basis and requires advance payment.  Second semester Pizza Friday lunches start Friday\, January 29th. \nPlease see CLU email communications for more details.
URL:https://cflu.org/event/2nd-semester-pizza-friday-payment-due/
END:VEVENT
BEGIN:VEVENT
DTSTART;TZID=America/Los_Angeles:20160122T130000
DTEND;TZID=America/Los_Angeles:20160122T130000
DTSTAMP:20260422T001427
CREATED:20150728T041816Z
LAST-MODIFIED:20150728T041847Z
UID:2896-1453467600-1453467600@cflu.org
SUMMARY:End of First Semester (Minimum Day Dismissal)
DESCRIPTION:Parents\, please ensure that your student’s transportation provider is aware of this early pick-up time.
URL:https://cflu.org/event/end-of-first-semester-minimum-day-dismissal/
END:VEVENT
BEGIN:VEVENT
DTSTART;TZID=America/Los_Angeles:20160121T090000
DTEND;TZID=America/Los_Angeles:20160121T113000
DTSTAMP:20260422T001427
CREATED:20160112T182735Z
LAST-MODIFIED:20160112T182735Z
UID:3207-1453366800-1453375800@cflu.org
SUMMARY:Art At Your Fingertips "Flip Out" (Upper School & Personal Milestones)
DESCRIPTION:This project will introduce students to the history and art of traditional animation created by artist/inventors Eadweard James Muybridge and Walt Disney. Students will learn how animation is created and about the art and illusion of movement when they create their own hand drawn flipbook.
URL:https://cflu.org/event/art-at-your-fingertips-flip-out-upper-school-personal-milestones/
END:VEVENT
BEGIN:VEVENT
DTSTART;TZID=America/Los_Angeles:20160120T140000
DTEND;TZID=America/Los_Angeles:20160120T150000
DTSTAMP:20260422T001427
CREATED:20160112T182558Z
LAST-MODIFIED:20160112T182558Z
UID:3206-1453298400-1453302000@cflu.org
SUMMARY:Art At Your Fingertips "Flip Out" (Middle School)
DESCRIPTION:This project will introduce students to the history and art of traditional animation created by artist/inventors Eadweard James Muybridge and Walt Disney. Students will learn how animation is created and about the art and illusion of movement when they create their own hand drawn flipbook.
URL:https://cflu.org/event/art-at-your-fingertips-flip-out-middle-school/
END:VEVENT
BEGIN:VEVENT
DTSTART;TZID=America/Los_Angeles:20160119T130000
DTEND;TZID=America/Los_Angeles:20160119T140000
DTSTAMP:20260422T001427
CREATED:20160112T182353Z
LAST-MODIFIED:20160112T182353Z
UID:3205-1453208400-1453212000@cflu.org
SUMMARY:Art At Your Fingertips "Flip Out" (Lower School)
DESCRIPTION:  \nThis AAYF project will introduce students to the history and art of traditional animation created by artist/inventors Eadweard James Muybridge and Walt Disney. Students will learn how animation is created and about the art and illusion of movement when they create their own hand drawn flipbook.
URL:https://cflu.org/event/art-at-your-fingertips-flip-out/
END:VEVENT
BEGIN:VEVENT
DTSTART;VALUE=DATE:20160118
DTEND;VALUE=DATE:20160119
DTSTAMP:20260422T001427
CREATED:20150728T041628Z
LAST-MODIFIED:20150728T041628Z
UID:2895-1453075200-1453161599@cflu.org
SUMMARY:Martin Luther King\, Jr. Day (school closed)
DESCRIPTION:
URL:https://cflu.org/event/martin-luther-king-jr-day-school-closed/
END:VEVENT
BEGIN:VEVENT
DTSTART;TZID=America/Los_Angeles:20160115T130000
DTEND;TZID=America/Los_Angeles:20160115T130000
DTSTAMP:20260422T001427
CREATED:20150728T041411Z
LAST-MODIFIED:20150728T041411Z
UID:2894-1452862800-1452862800@cflu.org
SUMMARY:Minimum Day (1:00 p.m. dismissal)
DESCRIPTION:Parents\, please ensure that your student’s transportation provider is aware of the early pick-up time.
URL:https://cflu.org/event/minimum-day-100-p-m-dismissal-3/
END:VEVENT
BEGIN:VEVENT
DTSTART;TZID=America/Los_Angeles:20160108T113000
DTEND;TZID=America/Los_Angeles:20160108T130000
DTSTAMP:20260422T001427
CREATED:20151229T034158Z
LAST-MODIFIED:20151229T034158Z
UID:3202-1452252600-1452258000@cflu.org
SUMMARY:Personal Milestones Lunch Outing
DESCRIPTION:Parents\, please see additional detail in the On the Horizon classroom notes for 1/04/16.
URL:https://cflu.org/event/personal-milestones-lunch-outing/
END:VEVENT
BEGIN:VEVENT
DTSTART;VALUE=DATE:20151229
DTEND;VALUE=DATE:20160102
DTSTAMP:20260422T001427
CREATED:20150728T041225Z
LAST-MODIFIED:20150728T041225Z
UID:2893-1451347200-1451692799@cflu.org
SUMMARY:Winter Break
DESCRIPTION:
URL:https://cflu.org/event/winter-break-2/
END:VEVENT
BEGIN:VEVENT
DTSTART;VALUE=DATE:20151221
DTEND;VALUE=DATE:20151226
DTSTAMP:20260422T001427
CREATED:20150728T041043Z
LAST-MODIFIED:20150728T041043Z
UID:2892-1450656000-1451087999@cflu.org
SUMMARY:Winter Break
DESCRIPTION:
URL:https://cflu.org/event/winter-break/
END:VEVENT
BEGIN:VEVENT
DTSTART;TZID=America/Los_Angeles:20151218T130000
DTEND;TZID=America/Los_Angeles:20151218T130000
DTSTAMP:20260422T001427
CREATED:20150728T040925Z
LAST-MODIFIED:20150728T040925Z
UID:2891-1450443600-1450443600@cflu.org
SUMMARY:Minimum Day (1:00 p.m. dismissal)
DESCRIPTION:Parents\, please ensure that your student’s transportation provider is aware of the early pick-up time.
URL:https://cflu.org/event/minimum-day-100-p-m-dismissal-2/
END:VEVENT
END:VCALENDAR