BEGIN:VCALENDAR
VERSION:2.0
PRODID:-//The Center for Learning Unlimited - ECPv6.10.1//NONSGML v1.0//EN
CALSCALE:GREGORIAN
METHOD:PUBLISH
X-WR-CALNAME:The Center for Learning Unlimited
X-ORIGINAL-URL:https://cflu.org
X-WR-CALDESC:Events for The Center for Learning Unlimited
REFRESH-INTERVAL;VALUE=DURATION:PT1H
X-Robots-Tag:noindex
X-PUBLISHED-TTL:PT1H
BEGIN:VTIMEZONE
TZID:America/Los_Angeles
BEGIN:DAYLIGHT
TZOFFSETFROM:-0800
TZOFFSETTO:-0700
TZNAME:PDT
DTSTART:20150308T100000
END:DAYLIGHT
BEGIN:STANDARD
TZOFFSETFROM:-0700
TZOFFSETTO:-0800
TZNAME:PST
DTSTART:20151101T090000
END:STANDARD
BEGIN:DAYLIGHT
TZOFFSETFROM:-0800
TZOFFSETTO:-0700
TZNAME:PDT
DTSTART:20160313T100000
END:DAYLIGHT
BEGIN:STANDARD
TZOFFSETFROM:-0700
TZOFFSETTO:-0800
TZNAME:PST
DTSTART:20161106T090000
END:STANDARD
END:VTIMEZONE
BEGIN:VEVENT
DTSTART;TZID=America/Los_Angeles:20160119T130000
DTEND;TZID=America/Los_Angeles:20160119T140000
DTSTAMP:20260422T153900
CREATED:20160112T182353Z
LAST-MODIFIED:20160112T182353Z
UID:3205-1453208400-1453212000@cflu.org
SUMMARY:Art At Your Fingertips "Flip Out" (Lower School)
DESCRIPTION:  \nThis AAYF project will introduce students to the history and art of traditional animation created by artist/inventors Eadweard James Muybridge and Walt Disney. Students will learn how animation is created and about the art and illusion of movement when they create their own hand drawn flipbook.
URL:https://cflu.org/event/art-at-your-fingertips-flip-out/
END:VEVENT
BEGIN:VEVENT
DTSTART;VALUE=DATE:20160118
DTEND;VALUE=DATE:20160119
DTSTAMP:20260422T153900
CREATED:20150728T041628Z
LAST-MODIFIED:20150728T041628Z
UID:2895-1453075200-1453161599@cflu.org
SUMMARY:Martin Luther King\, Jr. Day (school closed)
DESCRIPTION:
URL:https://cflu.org/event/martin-luther-king-jr-day-school-closed/
END:VEVENT
BEGIN:VEVENT
DTSTART;TZID=America/Los_Angeles:20160115T130000
DTEND;TZID=America/Los_Angeles:20160115T130000
DTSTAMP:20260422T153900
CREATED:20150728T041411Z
LAST-MODIFIED:20150728T041411Z
UID:2894-1452862800-1452862800@cflu.org
SUMMARY:Minimum Day (1:00 p.m. dismissal)
DESCRIPTION:Parents\, please ensure that your student’s transportation provider is aware of the early pick-up time.
URL:https://cflu.org/event/minimum-day-100-p-m-dismissal-3/
END:VEVENT
BEGIN:VEVENT
DTSTART;TZID=America/Los_Angeles:20160108T113000
DTEND;TZID=America/Los_Angeles:20160108T130000
DTSTAMP:20260422T153900
CREATED:20151229T034158Z
LAST-MODIFIED:20151229T034158Z
UID:3202-1452252600-1452258000@cflu.org
SUMMARY:Personal Milestones Lunch Outing
DESCRIPTION:Parents\, please see additional detail in the On the Horizon classroom notes for 1/04/16.
URL:https://cflu.org/event/personal-milestones-lunch-outing/
END:VEVENT
BEGIN:VEVENT
DTSTART;VALUE=DATE:20151229
DTEND;VALUE=DATE:20160102
DTSTAMP:20260422T153900
CREATED:20150728T041225Z
LAST-MODIFIED:20150728T041225Z
UID:2893-1451347200-1451692799@cflu.org
SUMMARY:Winter Break
DESCRIPTION:
URL:https://cflu.org/event/winter-break-2/
END:VEVENT
BEGIN:VEVENT
DTSTART;VALUE=DATE:20151221
DTEND;VALUE=DATE:20151226
DTSTAMP:20260422T153900
CREATED:20150728T041043Z
LAST-MODIFIED:20150728T041043Z
UID:2892-1450656000-1451087999@cflu.org
SUMMARY:Winter Break
DESCRIPTION:
URL:https://cflu.org/event/winter-break/
END:VEVENT
BEGIN:VEVENT
DTSTART;TZID=America/Los_Angeles:20151218T130000
DTEND;TZID=America/Los_Angeles:20151218T130000
DTSTAMP:20260422T153900
CREATED:20150728T040925Z
LAST-MODIFIED:20150728T040925Z
UID:2891-1450443600-1450443600@cflu.org
SUMMARY:Minimum Day (1:00 p.m. dismissal)
DESCRIPTION:Parents\, please ensure that your student’s transportation provider is aware of the early pick-up time.
URL:https://cflu.org/event/minimum-day-100-p-m-dismissal-2/
END:VEVENT
BEGIN:VEVENT
DTSTART;TZID=America/Los_Angeles:20151217T113000
DTEND;TZID=America/Los_Angeles:20151217T130000
DTSTAMP:20260422T153900
CREATED:20151210T193341Z
LAST-MODIFIED:20151210T193341Z
UID:3185-1450351800-1450357200@cflu.org
SUMMARY:CLU Staff Appreciation Luncheon
DESCRIPTION:CLU PTO and parent community join together to host an annual staff appreciation luncheon for CLU’s professional community.  We are so very appreciative of the time\, dedication and heart our staff community gives to the children we serve and their forward growth!
URL:https://cflu.org/event/clu-staff-appreciation-luncheon/
END:VEVENT
BEGIN:VEVENT
DTSTART;TZID=America/Los_Angeles:20151216T100000
DTEND;TZID=America/Los_Angeles:20151216T113000
DTSTAMP:20260422T153900
CREATED:20151210T192800Z
LAST-MODIFIED:20151211T004052Z
UID:3184-1450260000-1450265400@cflu.org
SUMMARY:Guitar Center Field Trip (Upper School students)
DESCRIPTION:This group project and associated field trip focuses on students working together to develop a wish list\, put together a budget\, and calculate total cost (with tax) of purchasing materials for CLU’s music program.
URL:https://cflu.org/event/guitar-center-field-trip-upper-and-personal-milestones-students/
END:VEVENT
BEGIN:VEVENT
DTSTART;TZID=America/Los_Angeles:20151211T113000
DTEND;TZID=America/Los_Angeles:20151211T130000
DTSTAMP:20260422T153900
CREATED:20150910T211304Z
LAST-MODIFIED:20151204T043422Z
UID:3061-1449833400-1449838800@cflu.org
SUMMARY:Personal Milestones Program Lunch Outing
DESCRIPTION:Parents\, please see Personal Milestone’s classroom notes in OTH for more details about this off campus event.
URL:https://cflu.org/event/pmp_lunch5/
END:VEVENT
BEGIN:VEVENT
DTSTART;VALUE=DATE:20151127
DTEND;VALUE=DATE:20151128
DTSTAMP:20260422T153900
CREATED:20150623T190550Z
LAST-MODIFIED:20150623T190550Z
UID:2855-1448582400-1448668799@cflu.org
SUMMARY:School Closed
DESCRIPTION:
URL:https://cflu.org/event/school-closed-5/
END:VEVENT
BEGIN:VEVENT
DTSTART;VALUE=DATE:20151126
DTEND;VALUE=DATE:20151127
DTSTAMP:20260422T153900
CREATED:20150623T190521Z
LAST-MODIFIED:20150623T190521Z
UID:2854-1448496000-1448582399@cflu.org
SUMMARY:School Closed
DESCRIPTION:
URL:https://cflu.org/event/school-closed-4/
END:VEVENT
BEGIN:VEVENT
DTSTART;TZID=America/Los_Angeles:20151125T130000
DTEND;TZID=America/Los_Angeles:20151125T130000
DTSTAMP:20260422T153900
CREATED:20150623T185133Z
LAST-MODIFIED:20150623T185133Z
UID:2853-1448456400-1448456400@cflu.org
SUMMARY:Minimum Day (1:00 p.m. dismissal)
DESCRIPTION:Parents\, please ensure that your student’s transportation provider is aware of the early pick-up time.
URL:https://cflu.org/event/mindy5/
END:VEVENT
BEGIN:VEVENT
DTSTART;TZID=America/Los_Angeles:20151120T130000
DTEND;TZID=America/Los_Angeles:20151120T130000
DTSTAMP:20260422T153900
CREATED:20150623T185024Z
LAST-MODIFIED:20150623T185024Z
UID:2852-1448024400-1448024400@cflu.org
SUMMARY:1st Semester Parent Conferences (Minimum Day Dismissal)
DESCRIPTION:Parents\, please ensure that your student’s transportation provider is aware of the early pick-up time.
URL:https://cflu.org/event/mindy4/
END:VEVENT
BEGIN:VEVENT
DTSTART;TZID=America/Los_Angeles:20151119T130000
DTEND;TZID=America/Los_Angeles:20151119T130000
DTSTAMP:20260422T153900
CREATED:20150623T184934Z
LAST-MODIFIED:20150623T184934Z
UID:2851-1447938000-1447938000@cflu.org
SUMMARY:1st Semester Parent Conferences (Minimum Day Dismissal)
DESCRIPTION:Parents\, please ensure that your student’s transportation provider is aware of the early pick-up time.
URL:https://cflu.org/event/mindy3/
END:VEVENT
BEGIN:VEVENT
DTSTART;TZID=America/Los_Angeles:20151118T130000
DTEND;TZID=America/Los_Angeles:20151118T130000
DTSTAMP:20260422T153900
CREATED:20150623T184836Z
LAST-MODIFIED:20150623T184836Z
UID:2850-1447851600-1447851600@cflu.org
SUMMARY:1st Semester Parent Conferences (Minimum Day Dismissal)
DESCRIPTION:Parents\, please ensure that your student’s transportation provider is aware of the early pick-up time.
URL:https://cflu.org/event/mindy2/
END:VEVENT
BEGIN:VEVENT
DTSTART;TZID=America/Los_Angeles:20151112T210000
DTEND;TZID=America/Los_Angeles:20151112T210000
DTSTAMP:20260422T153900
CREATED:20151105T192625Z
LAST-MODIFIED:20151105T192807Z
UID:3179-1447362000-1447362000@cflu.org
SUMMARY:Art At Your Fingertips (Middle School\, Upper School and Personal Milestones Students))
DESCRIPTION:Drama Masks of Bali is inspired by the mask rituals performed on the Indonesian island of Bali for the last 1000 years. Students will explore drama\, expression and emotion while they sculpt their own unique mini dance/drama mask using a modeling compound that is then painted and adorned with feathers. \nClassrooms will rotate in to AAYF through out the day.
URL:https://cflu.org/event/art-at-your-fingertips-middle-school-2/
END:VEVENT
BEGIN:VEVENT
DTSTART;VALUE=DATE:20151111
DTEND;VALUE=DATE:20151112
DTSTAMP:20260422T153900
CREATED:20150623T184445Z
LAST-MODIFIED:20150623T184445Z
UID:2849-1447200000-1447286399@cflu.org
SUMMARY:Veterans Day (School Closed)
DESCRIPTION:School will be closed in observance of Veterans Day.
URL:https://cflu.org/event/vtday/
END:VEVENT
BEGIN:VEVENT
DTSTART;TZID=America/Los_Angeles:20151110T130000
DTEND;TZID=America/Los_Angeles:20151110T140000
DTSTAMP:20260422T153900
CREATED:20151105T192524Z
LAST-MODIFIED:20151105T192524Z
UID:3177-1447160400-1447164000@cflu.org
SUMMARY:Art At Your Fingertips (Lower School)
DESCRIPTION:Drama Masks of Bali is inspired by the mask rituals performed on the Indonesian island of Bali for the last 1000 years. Students will explore drama\, expression and emotion while they sculpt their own unique mini dance/drama mask using a modeling compound that is then painted and adorned with feathers.
URL:https://cflu.org/event/art-at-your-fingertips-lower-school-3/
END:VEVENT
BEGIN:VEVENT
DTSTART;TZID=America/Los_Angeles:20151106T113000
DTEND;TZID=America/Los_Angeles:20151106T130000
DTSTAMP:20260422T153900
CREATED:20150910T211151Z
LAST-MODIFIED:20151030T183751Z
UID:3059-1446809400-1446814800@cflu.org
SUMMARY:Personal Milestones Program Lunch Outing
DESCRIPTION:Parents\, please see Personal Milestone’s classroom notes in OTH for more details about this off campus event.
URL:https://cflu.org/event/pmp_lunch4/
END:VEVENT
BEGIN:VEVENT
DTSTART;TZID=America/Los_Angeles:20151101T103000
DTEND;TZID=America/Los_Angeles:20151101T143000
DTSTAMP:20260422T153900
CREATED:20150917T214448Z
LAST-MODIFIED:20151006T180732Z
UID:3090-1446373800-1446388200@cflu.org
SUMMARY:We Belong Family Festival
DESCRIPTION:
URL:https://cflu.org/event/calendar2015/
END:VEVENT
BEGIN:VEVENT
DTSTART;TZID=America/Los_Angeles:20151030T130000
DTEND;TZID=America/Los_Angeles:20151030T130000
DTSTAMP:20260422T153900
CREATED:20150623T184300Z
LAST-MODIFIED:20150623T184300Z
UID:2848-1446210000-1446210000@cflu.org
SUMMARY:End of Quarter (Minimum Day Dismissal)
DESCRIPTION:Parents\, please ensure that your student’s transportation provider is aware of the early pick-up time.
URL:https://cflu.org/event/mindyoct/
END:VEVENT
BEGIN:VEVENT
DTSTART;VALUE=DATE:20151028
DTEND;VALUE=DATE:20151029
DTSTAMP:20260422T153900
CREATED:20150311T172318Z
LAST-MODIFIED:20150311T172318Z
UID:2633-1445990400-1446076799@cflu.org
SUMMARY:BoxTops for Education Coupons Due
DESCRIPTION:Help the CLU PTO earn cash for school supplies! \nCLU parents\, families\, and friends are welcome to participate by clipping out BoxTop coupons from products and turning them into Rosie Chavez.   Every coupon helps and these little pink coupons are everywhere\, so we hope that you will consider participating!
URL:https://cflu.org/event/bx/
LOCATION:CLU Lobby
END:VEVENT
BEGIN:VEVENT
DTSTART;TZID=America/Los_Angeles:20151023T113000
DTEND;TZID=America/Los_Angeles:20151023T130000
DTSTAMP:20260422T153900
CREATED:20150910T211022Z
LAST-MODIFIED:20150910T211048Z
UID:3056-1445599800-1445605200@cflu.org
SUMMARY:Personal Milestones Program Lunch Outing
DESCRIPTION:Parents\, please see Personal Milestone’s classroom notes in OTH for more details about this off campus event.
URL:https://cflu.org/event/pmp_lunch3/
END:VEVENT
BEGIN:VEVENT
DTSTART;TZID=America/Los_Angeles:20151015T103000
DTEND;TZID=America/Los_Angeles:20151015T113000
DTSTAMP:20260422T153900
CREATED:20151009T043512Z
LAST-MODIFIED:20151009T043512Z
UID:3134-1444905000-1444908600@cflu.org
SUMMARY:Art At Your Fingertips (Personal Milestones)
DESCRIPTION:Giants of the Earth\, offers students an opportunity to learn about the life of giant sequoias\, John Muir\, and the history of Sequoia National Park.  Students will create their own vision of a giant sequoia forest from a worm’s eye view\, using the combination of watercolor and acrylic paint.
URL:https://cflu.org/event/art-at-your-fingertips-personal-milestones/
END:VEVENT
BEGIN:VEVENT
DTSTART;TZID=America/Los_Angeles:20151015T100000
DTEND;TZID=America/Los_Angeles:20151015T110000
DTSTAMP:20260422T153900
CREATED:20151008T175020Z
LAST-MODIFIED:20151008T175020Z
UID:3128-1444903200-1444906800@cflu.org
SUMMARY:SpaceX Tour (Robotics Program Students)
DESCRIPTION:Members of CLU’s Robotics Program have an opportunity to tour SpaceX designs which manufactures and launches advanced rockets and spacecraft.
URL:https://cflu.org/event/spacex-tour-robotics-program-students/
LOCATION:SpaceX Headquarters\, Rocket Road\, Hawthorne\, 90250\, United States
END:VEVENT
BEGIN:VEVENT
DTSTART;TZID=America/Los_Angeles:20151015T090000
DTEND;TZID=America/Los_Angeles:20151015T103000
DTSTAMP:20260422T153900
CREATED:20151009T043355Z
LAST-MODIFIED:20151009T043355Z
UID:3133-1444899600-1444905000@cflu.org
SUMMARY:Art At Your Fingertips (Upper School)
DESCRIPTION:Giants of the Earth\, offers students an opportunity to learn about the life of giant sequoias\, John Muir\, and the history of Sequoia National Park.  Students will create their own vision of a giant sequoia forest from a worm’s eye view\, using the combination of watercolor and acrylic paint.
URL:https://cflu.org/event/art-at-your-fingertips-upper-school/
END:VEVENT
BEGIN:VEVENT
DTSTART;TZID=America/Los_Angeles:20151014T140000
DTEND;TZID=America/Los_Angeles:20151014T150000
DTSTAMP:20260422T153900
CREATED:20151009T043253Z
LAST-MODIFIED:20151009T043253Z
UID:3132-1444831200-1444834800@cflu.org
SUMMARY:Art At Your Fingertips (Middle School)
DESCRIPTION:Giants of the Earth\, offers students an opportunity to learn about the life of giant sequoias\, John Muir\, and the history of Sequoia National Park.  Students will create their own vision of a giant sequoia forest from a worm’s eye view\, using the combination of watercolor and acrylic paint.
URL:https://cflu.org/event/art-at-your-fingertips-middle-school/
END:VEVENT
BEGIN:VEVENT
DTSTART;VALUE=DATE:20151014
DTEND;VALUE=DATE:20151015
DTSTAMP:20260422T153900
CREATED:20150623T184147Z
LAST-MODIFIED:20150623T184147Z
UID:2847-1444780800-1444867199@cflu.org
SUMMARY:Student Make-up Pictures
DESCRIPTION:A student portrait make-up session for those students who were not able to participate in earlier sessions.
URL:https://cflu.org/event/picmkup/
END:VEVENT
BEGIN:VEVENT
DTSTART;TZID=America/Los_Angeles:20151013T130000
DTEND;TZID=America/Los_Angeles:20151013T140000
DTSTAMP:20260422T153900
CREATED:20151009T043156Z
LAST-MODIFIED:20151009T043156Z
UID:3131-1444741200-1444744800@cflu.org
SUMMARY:Art At Your Fingertips (Lower School)
DESCRIPTION:Giants of the Earth\, offers students an opportunity to learn about the life of giant sequoias\, John Muir\, and the history of Sequoia National Park.  Students will create their own vision of a giant sequoia forest from a worm’s eye view\, using the combination of watercolor and acrylic paint.
URL:https://cflu.org/event/art-at-your-fingertips-lower-school-2/
END:VEVENT
END:VCALENDAR