BEGIN:VCALENDAR
VERSION:2.0
PRODID:-//The Center for Learning Unlimited - ECPv6.10.1//NONSGML v1.0//EN
CALSCALE:GREGORIAN
METHOD:PUBLISH
X-WR-CALNAME:The Center for Learning Unlimited
X-ORIGINAL-URL:https://cflu.org
X-WR-CALDESC:Events for The Center for Learning Unlimited
REFRESH-INTERVAL;VALUE=DURATION:PT1H
X-Robots-Tag:noindex
X-PUBLISHED-TTL:PT1H
BEGIN:VTIMEZONE
TZID:America/Los_Angeles
BEGIN:DAYLIGHT
TZOFFSETFROM:-0800
TZOFFSETTO:-0700
TZNAME:PDT
DTSTART:20150308T100000
END:DAYLIGHT
BEGIN:STANDARD
TZOFFSETFROM:-0700
TZOFFSETTO:-0800
TZNAME:PST
DTSTART:20151101T090000
END:STANDARD
END:VTIMEZONE
BEGIN:VEVENT
DTSTART;TZID=America/Los_Angeles:20151014T140000
DTEND;TZID=America/Los_Angeles:20151014T150000
DTSTAMP:20260422T154832
CREATED:20151009T043253Z
LAST-MODIFIED:20151009T043253Z
UID:3132-1444831200-1444834800@cflu.org
SUMMARY:Art At Your Fingertips (Middle School)
DESCRIPTION:Giants of the Earth\, offers students an opportunity to learn about the life of giant sequoias\, John Muir\, and the history of Sequoia National Park.  Students will create their own vision of a giant sequoia forest from a worm’s eye view\, using the combination of watercolor and acrylic paint.
URL:https://cflu.org/event/art-at-your-fingertips-middle-school/
END:VEVENT
BEGIN:VEVENT
DTSTART;VALUE=DATE:20151014
DTEND;VALUE=DATE:20151015
DTSTAMP:20260422T154832
CREATED:20150623T184147Z
LAST-MODIFIED:20150623T184147Z
UID:2847-1444780800-1444867199@cflu.org
SUMMARY:Student Make-up Pictures
DESCRIPTION:A student portrait make-up session for those students who were not able to participate in earlier sessions.
URL:https://cflu.org/event/picmkup/
END:VEVENT
BEGIN:VEVENT
DTSTART;TZID=America/Los_Angeles:20151013T130000
DTEND;TZID=America/Los_Angeles:20151013T140000
DTSTAMP:20260422T154832
CREATED:20151009T043156Z
LAST-MODIFIED:20151009T043156Z
UID:3131-1444741200-1444744800@cflu.org
SUMMARY:Art At Your Fingertips (Lower School)
DESCRIPTION:Giants of the Earth\, offers students an opportunity to learn about the life of giant sequoias\, John Muir\, and the history of Sequoia National Park.  Students will create their own vision of a giant sequoia forest from a worm’s eye view\, using the combination of watercolor and acrylic paint.
URL:https://cflu.org/event/art-at-your-fingertips-lower-school-2/
END:VEVENT
BEGIN:VEVENT
DTSTART;VALUE=DATE:20151013
DTEND;VALUE=DATE:20151014
DTSTAMP:20260422T154832
CREATED:20150902T212105Z
LAST-MODIFIED:20150902T212105Z
UID:3046-1444694400-1444780799@cflu.org
SUMMARY:Natural History Museum Field Trip (Middle School Students Only)
DESCRIPTION:Flora & fauna\, mummies\, and much much more are in store for our Middle School students as they take a field trip to the Natural History Museum Los Angeles County! \nParents\, please refer to the October 12th On the Horizon communication for more details.
URL:https://cflu.org/event/nat_hist_fld/
LOCATION:Natural History Museum Los Angeles County
END:VEVENT
BEGIN:VEVENT
DTSTART;VALUE=DATE:20151012
DTEND;VALUE=DATE:20151013
DTSTAMP:20260422T154832
CREATED:20150623T183239Z
LAST-MODIFIED:20150623T183239Z
UID:2844-1444608000-1444694399@cflu.org
SUMMARY:Columbus Day/Staff Development (School Closed)
DESCRIPTION:School will be closed to in observance of the Columbus Day holiday.  Staff Development will be held for our professional community.
URL:https://cflu.org/event/clmbsdy/
END:VEVENT
BEGIN:VEVENT
DTSTART;TZID=America/Los_Angeles:20151009T130000
DTEND;TZID=America/Los_Angeles:20151009T130000
DTSTAMP:20260422T154832
CREATED:20150623T182839Z
LAST-MODIFIED:20150623T182839Z
UID:2843-1444395600-1444395600@cflu.org
SUMMARY:Minimum Day (1:00 p.m. dismissal)
DESCRIPTION:Parents\, please ensure that your student’s transportation provider is is aware of the early pick-up time.
URL:https://cflu.org/event/mindy/
END:VEVENT
BEGIN:VEVENT
DTSTART;VALUE=DATE:20151008
DTEND;VALUE=DATE:20151009
DTSTAMP:20260422T154832
CREATED:20150623T183730Z
LAST-MODIFIED:20150728T035923Z
UID:2846-1444262400-1444348799@cflu.org
SUMMARY:Student Pictures (M - Z last names)
DESCRIPTION:All students attending CLU (i.e.\, Lower School through PMP programs) will have an opportunity to have their student portrait taken.  All portraits will be included in the 2015 -2016 yearbook.
URL:https://cflu.org/event/studpic2/
END:VEVENT
BEGIN:VEVENT
DTSTART;TZID=America/Los_Angeles:20151007T180000
DTEND;TZID=America/Los_Angeles:20151007T193000
DTSTAMP:20260422T154832
CREATED:20150623T182513Z
LAST-MODIFIED:20150925T034519Z
UID:2839-1444240800-1444246200@cflu.org
SUMMARY:Back to School Night (Mandatory Parent Attendance)
DESCRIPTION:B2SN attendance is  mandatory for Lower\, Middle\, Upper and Personal Milestones program parents\, or caregivers\, so please make every effort to attend this very informative evening. \nContact Jennifer Mize if you will not be able to attend.
URL:https://cflu.org/event/b2sn/
LOCATION:CLU
END:VEVENT
BEGIN:VEVENT
DTSTART;TZID=America/Los_Angeles:20151007T130000
DTEND;TZID=America/Los_Angeles:20151007T130000
DTSTAMP:20260422T154832
CREATED:20150623T182628Z
LAST-MODIFIED:20150623T182628Z
UID:2842-1444222800-1444222800@cflu.org
SUMMARY:Minimum Day (1:00 p.m. dismissal)
DESCRIPTION:Parents\, please ensure that your student’s transportation provider is aware of the early pick-up time.
URL:https://cflu.org/event/b2snmin/
END:VEVENT
BEGIN:VEVENT
DTSTART;VALUE=DATE:20151006
DTEND;VALUE=DATE:20151007
DTSTAMP:20260422T154832
CREATED:20150623T183640Z
LAST-MODIFIED:20150728T035847Z
UID:2845-1444089600-1444175999@cflu.org
SUMMARY:Student Pictures (A - L last names)
DESCRIPTION:All students attending CLU (i.e.\, Lower School through PMP programs) will have an opportunity to have their student portrait taken.  All portraits will be included in the 2015 -2016 yearbook.
URL:https://cflu.org/event/studpic/
END:VEVENT
BEGIN:VEVENT
DTSTART;TZID=America/Los_Angeles:20151005T093000
DTEND;TZID=America/Los_Angeles:20151005T093000
DTSTAMP:20260422T154832
CREATED:20150623T181822Z
LAST-MODIFIED:20150623T181822Z
UID:2837-1444037400-1444037400@cflu.org
SUMMARY:Staff Development Reminder (9:30 a.m. late start)
DESCRIPTION:Each Monday\, CLU staff participate in a staff development session before the start of school. \nParents\, please ensure that your student’s transportation provider is aware that school gates will open at 9:30 a.m. for the start of school.
URL:https://cflu.org/event/stafdv5/
END:VEVENT
BEGIN:VEVENT
DTSTART;TZID=America/Los_Angeles:20151002T113000
DTEND;TZID=America/Los_Angeles:20151002T130000
DTSTAMP:20260422T154832
CREATED:20150910T210859Z
LAST-MODIFIED:20150910T210859Z
UID:3054-1443785400-1443790800@cflu.org
SUMMARY:Personal Milestones Lunch Outing
DESCRIPTION:Parents\, please see Personal Milestone’s classroom notes in OTH for more details about this off campus event.
URL:https://cflu.org/event/pmp_lunch2/
END:VEVENT
BEGIN:VEVENT
DTSTART;TZID=America/Los_Angeles:20150928T093000
DTEND;TZID=America/Los_Angeles:20150928T093000
DTSTAMP:20260422T154832
CREATED:20150623T181728Z
LAST-MODIFIED:20150623T181728Z
UID:2836-1443432600-1443432600@cflu.org
SUMMARY:Staff Development Reminder (9:30 a.m. late start)
DESCRIPTION:Each Monday\, CLU staff participate in a staff development session before the start of school. \nParents\, please ensure that your student’s transportation provider is aware that school gates will open at 9:30 a.m. for the start of school.
URL:https://cflu.org/event/stafdv4/
END:VEVENT
BEGIN:VEVENT
DTSTART;TZID=America/Los_Angeles:20150924T120000
DTEND;TZID=America/Los_Angeles:20150924T133000
DTSTAMP:20260422T154832
CREATED:20150917T213853Z
LAST-MODIFIED:20150917T213853Z
UID:3088-1443096000-1443101400@cflu.org
SUMMARY:Portola Park Picnic (Middle School Students)
DESCRIPTION:After preparing stuffed tortillas the students will be walking to Portola Park on Thursday for a picnic lunch followed by an adapted football learning game.
URL:https://cflu.org/event/portola-park-picnic-middle-school-students/
END:VEVENT
BEGIN:VEVENT
DTSTART;TZID=America/Los_Angeles:20150921T093000
DTEND;TZID=America/Los_Angeles:20150921T093000
DTSTAMP:20260422T154832
CREATED:20150623T181632Z
LAST-MODIFIED:20150623T181632Z
UID:2835-1442827800-1442827800@cflu.org
SUMMARY:Staff Development Reminder (9:30 a.m. late start)
DESCRIPTION:Each Monday\, CLU staff participate in a staff development session before the start of school. \nParents\, please ensure that your student’s transportation provider is aware that school gates will open at 9:30 a.m. for the start of school.
URL:https://cflu.org/event/stafdv3/
END:VEVENT
BEGIN:VEVENT
DTSTART;TZID=America/Los_Angeles:20150918T113000
DTEND;TZID=America/Los_Angeles:20150918T130000
DTSTAMP:20260422T154832
CREATED:20150910T210803Z
LAST-MODIFIED:20150910T210803Z
UID:3052-1442575800-1442581200@cflu.org
SUMMARY:Personal Milestones Program Lunch Outing
DESCRIPTION:Parents\, please see Personal Milestone’s classroom notes in OTH for more details about this off campus event.
URL:https://cflu.org/event/pmp_lunch/
END:VEVENT
BEGIN:VEVENT
DTSTART;TZID=America/Los_Angeles:20150914T093000
DTEND;TZID=America/Los_Angeles:20150914T213000
DTSTAMP:20260422T154832
CREATED:20150623T181407Z
LAST-MODIFIED:20150623T181407Z
UID:2833-1442223000-1442266200@cflu.org
SUMMARY:Staff Development Reminder (9:30 late start)
DESCRIPTION:Each Monday\, CLU staff participate in a staff development session before the start of school. \nParents\, please ensure that your student’s transportation provider is aware that school gates will open at 9:30 a.m. for the start of school.
URL:https://cflu.org/event/stafdv1/
END:VEVENT
BEGIN:VEVENT
DTSTART;VALUE=DATE:20150909
DTEND;VALUE=DATE:20150910
DTSTAMP:20260422T154832
CREATED:20150728T175027Z
LAST-MODIFIED:20150728T175027Z
UID:2913-1441756800-1441843199@cflu.org
SUMMARY:1st Semester Pizza Friday Lunch Program Payment Due (Optional)
DESCRIPTION:Parents\, if you are choosing to participate in the 1st semester’s optional Pizza Friday lunch program\, please submit payment by this date.  Again\, program dates are September 11th \, 2015 – January 22nd\, 2016. \nNo “day of” payment for this program will be permitted.
URL:https://cflu.org/event/1st-semester-pizza-friday-lunch-program-payment-due-optional/
END:VEVENT
BEGIN:VEVENT
DTSTART;VALUE=DATE:20150907
DTEND;VALUE=DATE:20150908
DTSTAMP:20260422T154832
CREATED:20150623T181057Z
LAST-MODIFIED:20150623T181109Z
UID:2832-1441584000-1441670399@cflu.org
SUMMARY:Labor Day (School Closed)
DESCRIPTION:CLU will be closed in observance of the Labor Day Holiday.
URL:https://cflu.org/event/lbrdy/
END:VEVENT
BEGIN:VEVENT
DTSTART;TZID=America/Los_Angeles:20150904T130000
DTEND;TZID=America/Los_Angeles:20150904T130000
DTSTAMP:20260422T154832
CREATED:20150623T181001Z
LAST-MODIFIED:20150623T181001Z
UID:2831-1441371600-1441371600@cflu.org
SUMMARY:Minimum Day Dismissal
DESCRIPTION:Students will be dismissed at 1:00 p.m. \nParents\, please ensure that your student’s transportation provider is aware of this early pick-up time.
URL:https://cflu.org/event/94min/
END:VEVENT
BEGIN:VEVENT
DTSTART;VALUE=DATE:20150904
DTEND;VALUE=DATE:20150905
DTSTAMP:20260422T154832
CREATED:20150728T174710Z
LAST-MODIFIED:20150728T174710Z
UID:2912-1441324800-1441411199@cflu.org
SUMMARY:Complimentary Pizza Friday Lunch for all students
DESCRIPTION:To celebrate the start of 1st semester’s Pizza Friday lunch program on September 11th\, we’re offering a complimentary lunch to all students\, regardless of whether you choose for them to participate in the program. \n 
URL:https://cflu.org/event/complimentary-pizza-friday-lunch-for-all-students/
END:VEVENT
BEGIN:VEVENT
DTSTART;TZID=America/Los_Angeles:20150902T093000
DTEND;TZID=America/Los_Angeles:20150902T103000
DTSTAMP:20260422T154832
CREATED:20150819T183218Z
LAST-MODIFIED:20150819T183242Z
UID:3033-1441186200-1441189800@cflu.org
SUMMARY:Group Meal Grocery Shopping (PMP)
DESCRIPTION:PMP students and staff will be off-campus shopping for ingredients for their weekly group meal cooking session.
URL:https://cflu.org/event/pmpshop/
END:VEVENT
BEGIN:VEVENT
DTSTART;TZID=America/Los_Angeles:20150901T130000
DTEND;TZID=America/Los_Angeles:20150901T130000
DTSTAMP:20260422T154832
CREATED:20150623T180832Z
LAST-MODIFIED:20150623T180832Z
UID:2830-1441112400-1441112400@cflu.org
SUMMARY:1st Day of 2015 - 2016 School Year (Min. Day Dismissal)
DESCRIPTION:Students will be dismissed at 1:00 p.m. \nParents\, please ensure that your student’s transportation provider is aware of this early dismissal time.
URL:https://cflu.org/event/1stday/
END:VEVENT
BEGIN:VEVENT
DTSTART;TZID=America/Los_Angeles:20150731T103000
DTEND;TZID=America/Los_Angeles:20150731T123000
DTSTAMP:20260422T154832
CREATED:20150622T184715Z
LAST-MODIFIED:20150622T184743Z
UID:2812-1438338600-1438345800@cflu.org
SUMMARY:Scavenger Hunt in the Park/Picnic (Lower School)
DESCRIPTION:In celebration of the summer session’s last day\, Lower School students and staff will head to a local park for a scavenger hunt and picnic.
URL:https://cflu.org/event/svgrhnt/
LOCATION:De Portola Park\, 25615 Lazy Meadows\, Torrance
END:VEVENT
BEGIN:VEVENT
DTSTART;TZID=America/Los_Angeles:20150731T093000
DTEND;TZID=America/Los_Angeles:20150731T120000
DTSTAMP:20260422T154832
CREATED:20150622T190401Z
LAST-MODIFIED:20150622T190401Z
UID:2827-1438335000-1438344000@cflu.org
SUMMARY:South Bay Botanical Gardens (Middle School)
DESCRIPTION:Students and staff will head to the South Bay Botanical Gardens for outdoor fun.
URL:https://cflu.org/event/sumrgrdn/
LOCATION:South Coast Botanic Garden\, 26300 Crenshaw Blvd\, Palos Verdes Peninsula\, CA\, 90274
END:VEVENT
BEGIN:VEVENT
DTSTART;VALUE=DATE:20150731
DTEND;VALUE=DATE:20150801
DTSTAMP:20260422T154832
CREATED:20140714T231032Z
LAST-MODIFIED:20140714T231032Z
UID:2208-1438300800-1438387199@cflu.org
SUMMARY:Last day of academic summer school
DESCRIPTION:
URL:https://cflu.org/event/last-day-of-academic-summer-school/
END:VEVENT
BEGIN:VEVENT
DTSTART;TZID=America/Los_Angeles:20150728T103000
DTEND;TZID=America/Los_Angeles:20150728T120000
DTSTAMP:20260422T154832
CREATED:20150622T182534Z
LAST-MODIFIED:20150622T182534Z
UID:2802-1438079400-1438084800@cflu.org
SUMMARY:Torrance Certified Farmer's Market (Lower School)
DESCRIPTION:Lower School students will be spending time at the Torrance Certified Farmer’s Market. Staff and students will have an opportunity to talk with local farmers\, sample tasty fare\, and browse a wide selection of cut flowers and nursery stock. Students will return to CLU around lunchtime. \nPer your parental discretion\, students are welcome to bring money to purchase items. Please place monies in a sealed envelope with your student’s name on it.
URL:https://cflu.org/event/summkt6/
LOCATION:Torrance Certified Farmer’s Market\, 2200 Crenshaw Blvd.\, Torrance
END:VEVENT
BEGIN:VEVENT
DTSTART;TZID=America/Los_Angeles:20150721T103000
DTEND;TZID=America/Los_Angeles:20150721T120000
DTSTAMP:20260422T154832
CREATED:20150622T182334Z
LAST-MODIFIED:20150622T182334Z
UID:2799-1437474600-1437480000@cflu.org
SUMMARY:Torrance Certified Farmer's Market (Lower School)
DESCRIPTION:Lower School students will be spending time at the Torrance Certified Farmer’s Market. Staff and students will have an opportunity to talk with local farmers\, sample tasty fare\, and browse a wide selection of cut flowers and nursery stock. Students will return to CLU around lunchtime. \nPer your parental discretion\, students are welcome to bring money to purchase items. Please place monies in a sealed envelope with your student’s name on it.
URL:https://cflu.org/event/summkt5/
LOCATION:Torrance Certified Farmer’s Market\, 2200 Crenshaw Blvd.\, Torrance
END:VEVENT
BEGIN:VEVENT
DTSTART;TZID=America/Los_Angeles:20150717T091500
DTEND;TZID=America/Los_Angeles:20150717T123000
DTSTAMP:20260422T154832
CREATED:20150622T183345Z
LAST-MODIFIED:20150630T234418Z
UID:2805-1437124500-1437136200@cflu.org
SUMMARY:Aquarium of the Pacific (Middle School only)
DESCRIPTION:Students and staff will visit the Aquarium of the Pacific. \nPlease send students with a disposable lunch.
URL:https://cflu.org/event/sumfish/
LOCATION:Aquarium of the Pacific\, 100 Aquarium Way\, Long Beach\, 90802
END:VEVENT
BEGIN:VEVENT
DTSTART;TZID=America/Los_Angeles:20150716T103000
DTEND;TZID=America/Los_Angeles:20150716T120000
DTSTAMP:20260422T154832
CREATED:20150622T184041Z
LAST-MODIFIED:20150707T214133Z
UID:2809-1437042600-1437048000@cflu.org
SUMMARY:Beach Day (Lower School)
DESCRIPTION:Please sent students with a disposable lunch\, towel\, sunscreen and a change of clothes.
URL:https://cflu.org/event/sumbch/
LOCATION:Torrance Beach
END:VEVENT
END:VCALENDAR