BEGIN:VCALENDAR
VERSION:2.0
PRODID:-//The Center for Learning Unlimited - ECPv6.10.1//NONSGML v1.0//EN
CALSCALE:GREGORIAN
METHOD:PUBLISH
X-WR-CALNAME:The Center for Learning Unlimited
X-ORIGINAL-URL:https://cflu.org
X-WR-CALDESC:Events for The Center for Learning Unlimited
REFRESH-INTERVAL;VALUE=DURATION:PT1H
X-Robots-Tag:noindex
X-PUBLISHED-TTL:PT1H
BEGIN:VTIMEZONE
TZID:America/Los_Angeles
BEGIN:DAYLIGHT
TZOFFSETFROM:-0800
TZOFFSETTO:-0700
TZNAME:PDT
DTSTART:20150308T100000
END:DAYLIGHT
BEGIN:STANDARD
TZOFFSETFROM:-0700
TZOFFSETTO:-0800
TZNAME:PST
DTSTART:20151101T090000
END:STANDARD
END:VTIMEZONE
BEGIN:VEVENT
DTSTART;VALUE=DATE:20150525
DTEND;VALUE=DATE:20150526
DTSTAMP:20260422T151456
CREATED:20140714T230741Z
LAST-MODIFIED:20140714T230741Z
UID:2204-1432512000-1432598399@cflu.org
SUMMARY:Memorial Day (School Closed)
DESCRIPTION:
URL:https://cflu.org/event/memorial-day-school-closed-3/
END:VEVENT
BEGIN:VEVENT
DTSTART;TZID=America/Los_Angeles:20150522T130000
DTEND;TZID=America/Los_Angeles:20150522T130000
DTSTAMP:20260422T151456
CREATED:20140714T230715Z
LAST-MODIFIED:20140714T230715Z
UID:2203-1432299600-1432299600@cflu.org
SUMMARY:Min. Day (1:00 p.m. Dismissal)
DESCRIPTION:Please share this early pick-up time with caregivers or drivers for their awareness.
URL:https://cflu.org/event/min-day-100-p-m-dismissal-11/
END:VEVENT
BEGIN:VEVENT
DTSTART;TZID=America/Los_Angeles:20150522T090000
DTEND;TZID=America/Los_Angeles:20150522T094500
DTSTAMP:20260422T151456
CREATED:20150311T172555Z
LAST-MODIFIED:20150311T172555Z
UID:2636-1432285200-1432287900@cflu.org
SUMMARY:PMP Parent Meeting
DESCRIPTION:
URL:https://cflu.org/event/pmp-parent-meeting-2/
LOCATION:CLU Conference Room
END:VEVENT
BEGIN:VEVENT
DTSTART;VALUE=DATE:20150522
DTEND;VALUE=DATE:20150523
DTSTAMP:20260422T151456
CREATED:20150515T041348Z
LAST-MODIFIED:20150515T041348Z
UID:2757-1432252800-1432339199@cflu.org
SUMMARY:Torrance Beach Outing Permission Slip Due (select students)
DESCRIPTION:Parents\, if your student will be participating in the Torrance Beach field trips on June 2nd and 4th\, please be sure to submit a signed participation form to your student’s teacher by this date.
URL:https://cflu.org/event/bchprm/
END:VEVENT
BEGIN:VEVENT
DTSTART;VALUE=DATE:20150522
DTEND;VALUE=DATE:20150523
DTSTAMP:20260422T151456
CREATED:20150508T194504Z
LAST-MODIFIED:20150508T194504Z
UID:2753-1432252800-1432339199@cflu.org
SUMMARY:Robinson Helicopter Company Career Exploration (Parent RSVP due)
DESCRIPTION:Please email Mr. Darryl Coit by this date if you’d like to attend the Personal Milestones Career Exploration tour of Robinson Helicopter Company on Thursday\, May 28th
URL:https://cflu.org/event/robparnt/
END:VEVENT
BEGIN:VEVENT
DTSTART;VALUE=DATE:20150522
DTEND;VALUE=DATE:20150523
DTSTAMP:20260422T151456
CREATED:20150508T185729Z
LAST-MODIFIED:20150508T185729Z
UID:2752-1432252800-1432339199@cflu.org
SUMMARY:2014 - 2015 CLU Yearbook Order Forms and Dedication Ads Due
DESCRIPTION:Parents\, \nOrder forms and payment for the 2014 -2015 CLU Yearbook are due today!  Please contact Rosie Chavez with any questions. \nIf you are purchasing a dedication ad in the yearbook\, please be sure to submit your design to Sabrina Meza as well. \nThanks! \nEricka
URL:https://cflu.org/event/yearbook/
END:VEVENT
BEGIN:VEVENT
DTSTART;TZID=America/Los_Angeles:20150521T103000
DTEND;TZID=America/Los_Angeles:20150521T120000
DTSTAMP:20260422T151456
CREATED:20150515T041624Z
LAST-MODIFIED:20150515T041624Z
UID:2759-1432204200-1432209600@cflu.org
SUMMARY:Hike at Del Cerro (Lower School)
DESCRIPTION:Lower School students and staff will head to a local PV trail for some outdoor fun and exercise.
URL:https://cflu.org/event/lwrhk/
LOCATION:Del Cerro\, 2 Park Place\, Palos Verdes\, CA\, 90275
END:VEVENT
BEGIN:VEVENT
DTSTART;VALUE=DATE:20150521
DTEND;VALUE=DATE:20150522
DTSTAMP:20260422T151456
CREATED:20150429T203626Z
LAST-MODIFIED:20150429T211524Z
UID:2727-1432166400-1432252799@cflu.org
SUMMARY:2015 CLU Student Talent Show Forms Due
DESCRIPTION:Parents\, if your student will be participating in this year’s Student Talent Show\, please be sure to submit a signed participation form to Leah Paul by this date.
URL:https://cflu.org/event/2015-clu-student-talent-show-forms-due/
LOCATION:CLU Student Talent Show
END:VEVENT
BEGIN:VEVENT
DTSTART;VALUE=DATE:20150515
DTEND;VALUE=DATE:20150516
DTSTAMP:20260422T151456
CREATED:20150506T184741Z
LAST-MODIFIED:20150506T184741Z
UID:2745-1431648000-1431734399@cflu.org
SUMMARY:Personal Milestones Lunch Outing
DESCRIPTION:Please provide your student with the appropriate funds to cover their cost of our Friday outing.
URL:https://cflu.org/event/pmplun2/
END:VEVENT
BEGIN:VEVENT
DTSTART;TZID=America/Los_Angeles:20150514T103000
DTEND;TZID=America/Los_Angeles:20150514T120000
DTSTAMP:20260422T151456
CREATED:20150105T210326Z
LAST-MODIFIED:20150506T185628Z
UID:2509-1431599400-1431604800@cflu.org
SUMMARY:Library Field Trip (Lower School Only)
DESCRIPTION:Lower school students and staff will be taking a field trip to a local library and will visit a nearby park afterwards. \nPlease remember to send students with their library card and a lunch from home!
URL:https://cflu.org/event/lowlib9/
END:VEVENT
BEGIN:VEVENT
DTSTART;TZID=America/Los_Angeles:20150514T100000
DTEND;TZID=America/Los_Angeles:20150514T123000
DTSTAMP:20260422T151456
CREATED:20150501T032728Z
LAST-MODIFIED:20150504T233045Z
UID:2735-1431597600-1431606600@cflu.org
SUMMARY:Personal Milestones Career Exploration (Motorcar Parts of America)
DESCRIPTION:As part of our efforts to help your young adult get acquainted with the world of work\, we’re thrilled to announce that our young adult transition program\, Personal Milestones\, will tour the Motorcar Parts of America headquarters and technical operations facility in Torrance. \n \n 
URL:https://cflu.org/event/personal-milestones-career-exploration-motorcar-parts-of-america/
LOCATION:Motorcar Parts of America
END:VEVENT
BEGIN:VEVENT
DTSTART;TZID=America/Los_Angeles:20150513T130000
DTEND;TZID=America/Los_Angeles:20150513T143000
DTSTAMP:20260422T151456
CREATED:20150506T185429Z
LAST-MODIFIED:20150506T185429Z
UID:2747-1431522000-1431527400@cflu.org
SUMMARY:Art At Your Fingertips Student Exhibit Field Trip (Lower and Personal Milestones
DESCRIPTION:  \n  \n  \nLower School and Personal Milestone program students will travel with Ms. Lisa and other staff to the PV Arts Center to view student art from this year’s AAYF program.
URL:https://cflu.org/event/aayfexbt/
LOCATION:Palos Verdes Art Center\, 5504 West Crestridge Road\, Rancho Palos Verdes\, CA\, 90275\, United States
END:VEVENT
BEGIN:VEVENT
DTSTART;TZID=America/Los_Angeles:20150513T090000
DTEND;TZID=America/Los_Angeles:20150513T103000
DTSTAMP:20260422T151456
CREATED:20150428T213102Z
LAST-MODIFIED:20150428T213102Z
UID:2717-1431507600-1431513000@cflu.org
SUMMARY:We Belong Family Festival 2015 Planning Meeting
DESCRIPTION:All CLU parents are welcome to attend as we prepare for WBFF 2015! \n \n 
URL:https://cflu.org/event/wbff-2015-a/
LOCATION:CLU Conference Room
END:VEVENT
BEGIN:VEVENT
DTSTART;TZID=America/Los_Angeles:20150512T103000
DTEND;TZID=America/Los_Angeles:20150512T120000
DTSTAMP:20260422T151456
CREATED:20150105T205433Z
LAST-MODIFIED:20150105T205433Z
UID:2490-1431426600-1431432000@cflu.org
SUMMARY:Torrance Certified Farmer's Market (Lower School Only)
DESCRIPTION:Students will be spending time at the Torrance Certified Farmer’s Market. Staff and students will have an opportunity to talk with local farmers\, sample tasty fare\, and browse a wide selection of cut flowers and nursery stock. Students will return to CLU around lunchtime. \nPer your parental discretion\, students are welcome to bring money to purchase items. Please place monies in a sealed envelope with your student’s name on it.
URL:https://cflu.org/event/torrance-certified-farmers-market-lower-school-only-5/
LOCATION:Wilson Park
END:VEVENT
BEGIN:VEVENT
DTSTART;VALUE=DATE:20150508
DTEND;VALUE=DATE:20150509
DTSTAMP:20260422T151456
CREATED:20150501T031923Z
LAST-MODIFIED:20150506T184626Z
UID:2733-1431043200-1431129599@cflu.org
SUMMARY:Personal Milestones Lunch Outing
DESCRIPTION:Please provide your student with the appropriate funds to cover their cost of our Friday outing.
URL:https://cflu.org/event/pmlun/
END:VEVENT
BEGIN:VEVENT
DTSTART;VALUE=DATE:20150507
DTEND;VALUE=DATE:20150508
DTSTAMP:20260422T151456
CREATED:20150424T201057Z
LAST-MODIFIED:20150424T201057Z
UID:2713-1430956800-1431043199@cflu.org
SUMMARY:Teacher/Staff Appreciation: Potluck Lunch
DESCRIPTION:Thanks CLU Teachers and Staff for ALL that you do to support the forward growth of the students you serve!
URL:https://cflu.org/event/teacherstaff-appreciation-potluck-lunch/
END:VEVENT
BEGIN:VEVENT
DTSTART;VALUE=DATE:20150506
DTEND;VALUE=DATE:20150507
DTSTAMP:20260422T151456
CREATED:20150424T201007Z
LAST-MODIFIED:20150424T201007Z
UID:2711-1430870400-1430956799@cflu.org
SUMMARY:Teacher/Staff Appreciation: Deck CLU's Halls With Flowers!
DESCRIPTION:Thanks CLU Teachers and Staff for ALL that you do to support the forward growth of the students you serve!
URL:https://cflu.org/event/teacherstaff-appreciation-deck-clus-halls-with-flowers/
END:VEVENT
BEGIN:VEVENT
DTSTART;TZID=America/Los_Angeles:20150505T103000
DTEND;TZID=America/Los_Angeles:20150505T120000
DTSTAMP:20260422T151456
CREATED:20150501T031738Z
LAST-MODIFIED:20150501T031738Z
UID:2730-1430821800-1430827200@cflu.org
SUMMARY:Hike at Del Cerro (Lower School)
DESCRIPTION:Lower School students and staff will head to a local PV trail for some outdoor fun and exercise.
URL:https://cflu.org/event/hike-at-del-cerro-lower-school/
LOCATION:Del Cerro\, 2 Park Place\, Rancho Palos Verdes\, 90275
END:VEVENT
BEGIN:VEVENT
DTSTART;VALUE=DATE:20150505
DTEND;VALUE=DATE:20150506
DTSTAMP:20260422T151456
CREATED:20150424T200914Z
LAST-MODIFIED:20150424T200914Z
UID:2709-1430784000-1430870399@cflu.org
SUMMARY:Teacher/Staff Appreciation Week: Breakfast!
DESCRIPTION:Thanks CLU Teachers and Staff for ALL that you do to support the forward growth of the students you serve!
URL:https://cflu.org/event/teacherstaff-appreciation-week-breakfast/
END:VEVENT
BEGIN:VEVENT
DTSTART;TZID=America/Los_Angeles:20150502T110000
DTEND;TZID=America/Los_Angeles:20150502T150000
DTSTAMP:20260422T151456
CREATED:20150420T201851Z
LAST-MODIFIED:20150420T201851Z
UID:2703-1430564400-1430578800@cflu.org
SUMMARY:Ride to Fly Country Carnival Fundraiser
DESCRIPTION:Ride to Fly will be hosting it’s annual Country Carnival fundraiser on Saturday\, May 2nd\, from 11:00 a.m. to 3:00 p.m. at the Empty Saddle Club in Rolling Hills Estates.  Free parking and admission! \nCome and enjoy this fun\, family-friendly afternoon willed with yummy food\, live music\, arts & crafts\, and pony rides! \nAnd be on the lookout for CLU students volunteering their time to help with this terrific\, local organization! \n  \n \n 
URL:https://cflu.org/event/ride-to-fly-country-carnival-fundraiser/
LOCATION:The Empty Saddle Club\, 39 Empty Saddle Road\, Rolling Hills Estates\, CA\, 90275
END:VEVENT
BEGIN:VEVENT
DTSTART;TZID=America/Los_Angeles:20150501T130000
DTEND;TZID=America/Los_Angeles:20150501T130000
DTSTAMP:20260422T151456
CREATED:20140714T230406Z
LAST-MODIFIED:20150311T172740Z
UID:2200-1430485200-1430485200@cflu.org
SUMMARY:Spring Semester Parent Conferences (Min. Day - 1:00 p.m.)
DESCRIPTION:Please share this early pick-up time with caregivers or drivers for their awareness.
URL:https://cflu.org/event/spgc2/
END:VEVENT
BEGIN:VEVENT
DTSTART;TZID=America/Los_Angeles:20150430T130000
DTEND;TZID=America/Los_Angeles:20150430T130000
DTSTAMP:20260422T151456
CREATED:20140714T230132Z
LAST-MODIFIED:20150311T172715Z
UID:2199-1430398800-1430398800@cflu.org
SUMMARY:Spring Semester Parent Conferences (Min. Day - 1:00 Dismissal)
DESCRIPTION:Please share this early pick-up time with caregivers or drivers for their awareness.
URL:https://cflu.org/event/spgc/
END:VEVENT
BEGIN:VEVENT
DTSTART;TZID=America/Los_Angeles:20150430T103000
DTEND;TZID=America/Los_Angeles:20150430T120000
DTSTAMP:20260422T151456
CREATED:20150424T041844Z
LAST-MODIFIED:20150424T041844Z
UID:2708-1430389800-1430395200@cflu.org
SUMMARY:Library and Picnic (Lower School)
DESCRIPTION:Lower school students and staff will be taking a field trip to a local library and will picnic at a nearby park afterwards. \nPlease remember to send you student with their library card and a lunch from home.
URL:https://cflu.org/event/library-and-picnic-lower-school/
END:VEVENT
BEGIN:VEVENT
DTSTART;TZID=America/Los_Angeles:20150429T130000
DTEND;TZID=America/Los_Angeles:20150429T130000
DTSTAMP:20260422T151456
CREATED:20140714T230039Z
LAST-MODIFIED:20140714T230039Z
UID:2198-1430312400-1430312400@cflu.org
SUMMARY:Spring Parent Conferences (Min. Day - 1:00 p.m. Dismissal)
DESCRIPTION:Please share this early pick-up time with caregivers or drivers for their awareness.
URL:https://cflu.org/event/spring-parent-conferences-min-day-100-p-m-dismissal/
END:VEVENT
BEGIN:VEVENT
DTSTART;VALUE=DATE:20150424
DTEND;VALUE=DATE:20150425
DTSTAMP:20260422T151456
CREATED:20150415T193353Z
LAST-MODIFIED:20150416T183130Z
UID:2686-1429833600-1429919999@cflu.org
SUMMARY:Personal Milestones Lunch Outing
DESCRIPTION:Please provide your student with the appropriate funds to cover their cost of our Friday outing.
URL:https://cflu.org/event/pmlnch/
END:VEVENT
BEGIN:VEVENT
DTSTART;TZID=America/Los_Angeles:20150423T103000
DTEND;TZID=America/Los_Angeles:20150423T120000
DTSTAMP:20260422T151456
CREATED:20150415T194005Z
LAST-MODIFIED:20150415T194005Z
UID:2691-1429785000-1429790400@cflu.org
SUMMARY:Picnic in the park (Lower School)
DESCRIPTION:Lower school students and staff will be taking a field trip to a nearby park for a picnic. \nPlease remember to send students with a sack lunch!
URL:https://cflu.org/event/picnic-in-the-park-lower-school/
END:VEVENT
BEGIN:VEVENT
DTSTART;TZID=America/Los_Angeles:20150422T133000
DTEND;TZID=America/Los_Angeles:20150422T140000
DTSTAMP:20260422T151456
CREATED:20150416T180837Z
LAST-MODIFIED:20150416T182821Z
UID:2692-1429709400-1429711200@cflu.org
SUMMARY:Torrance Police Department "Cyber Safety" Presentation (Middle/Upper School Students)
DESCRIPTION:On Wednesday\, April 22nd\, Officer Bardales from the Torrance Police Department will host a presentation entitled “Cyber Safety” for all CLU Middle and Upper School students from 1:30 p.m. to 2:30 p.m.
URL:https://cflu.org/event/torrance-police-department-cyber-safety-presentation-middleupper-school-students/
END:VEVENT
BEGIN:VEVENT
DTSTART;TZID=America/Los_Angeles:20150421T103000
DTEND;TZID=America/Los_Angeles:20150421T120000
DTSTAMP:20260422T151456
CREATED:20150415T193701Z
LAST-MODIFIED:20150416T183337Z
UID:2688-1429612200-1429617600@cflu.org
SUMMARY:Hike at Del Cerro (Lower School)
DESCRIPTION:In celebration of Earth Day on April 22nd\, Lower School students and staff will head to a local PV trail for some outdoor fun and exercise.
URL:https://cflu.org/event/delclwr/
LOCATION:Del Cerro\, 2 Park Place\, Rancho Palos Verdes\, 90275\, United States
END:VEVENT
BEGIN:VEVENT
DTSTART;TZID=America/Los_Angeles:20150421T090000
DTEND;TZID=America/Los_Angeles:20150421T100000
DTSTAMP:20260422T151456
CREATED:20150416T182947Z
LAST-MODIFIED:20150416T182947Z
UID:2693-1429606800-1429610400@cflu.org
SUMMARY:CLU PTO Meeting
DESCRIPTION:All CLU parents\, past or present\, are welcome to attend.
URL:https://cflu.org/event/clu-pto-meeting-4/
LOCATION:CLU Conference Room
ORGANIZER;CN="CLU PTO":MAILTO:pto@cflu.org
END:VEVENT
BEGIN:VEVENT
DTSTART;VALUE=DATE:20150417
DTEND;VALUE=DATE:20150418
DTSTAMP:20260422T151456
CREATED:20150406T212054Z
LAST-MODIFIED:20150406T212054Z
UID:2674-1429228800-1429315199@cflu.org
SUMMARY:Personal Milestones program student lunch outing
DESCRIPTION:Please provide your student with the appropriate funds to cover their cost of our Friday outing.
URL:https://cflu.org/event/personal-milestones-program-student-lunch-outing/
END:VEVENT
END:VCALENDAR