BEGIN:VCALENDAR
VERSION:2.0
PRODID:-//The Center for Learning Unlimited - ECPv6.10.1//NONSGML v1.0//EN
CALSCALE:GREGORIAN
METHOD:PUBLISH
X-WR-CALNAME:The Center for Learning Unlimited
X-ORIGINAL-URL:https://cflu.org
X-WR-CALDESC:Events for The Center for Learning Unlimited
REFRESH-INTERVAL;VALUE=DURATION:PT1H
X-Robots-Tag:noindex
X-PUBLISHED-TTL:PT1H
BEGIN:VTIMEZONE
TZID:America/Los_Angeles
BEGIN:DAYLIGHT
TZOFFSETFROM:-0800
TZOFFSETTO:-0700
TZNAME:PDT
DTSTART:20150308T100000
END:DAYLIGHT
BEGIN:STANDARD
TZOFFSETFROM:-0700
TZOFFSETTO:-0800
TZNAME:PST
DTSTART:20151101T090000
END:STANDARD
END:VTIMEZONE
BEGIN:VEVENT
DTSTART;TZID=America/Los_Angeles:20150422T133000
DTEND;TZID=America/Los_Angeles:20150422T140000
DTSTAMP:20260422T145737
CREATED:20150416T180837Z
LAST-MODIFIED:20150416T182821Z
UID:2692-1429709400-1429711200@cflu.org
SUMMARY:Torrance Police Department "Cyber Safety" Presentation (Middle/Upper School Students)
DESCRIPTION:On Wednesday\, April 22nd\, Officer Bardales from the Torrance Police Department will host a presentation entitled “Cyber Safety” for all CLU Middle and Upper School students from 1:30 p.m. to 2:30 p.m.
URL:https://cflu.org/event/torrance-police-department-cyber-safety-presentation-middleupper-school-students/
END:VEVENT
BEGIN:VEVENT
DTSTART;TZID=America/Los_Angeles:20150421T103000
DTEND;TZID=America/Los_Angeles:20150421T120000
DTSTAMP:20260422T145737
CREATED:20150415T193701Z
LAST-MODIFIED:20150416T183337Z
UID:2688-1429612200-1429617600@cflu.org
SUMMARY:Hike at Del Cerro (Lower School)
DESCRIPTION:In celebration of Earth Day on April 22nd\, Lower School students and staff will head to a local PV trail for some outdoor fun and exercise.
URL:https://cflu.org/event/delclwr/
LOCATION:Del Cerro\, 2 Park Place\, Rancho Palos Verdes\, 90275\, United States
END:VEVENT
BEGIN:VEVENT
DTSTART;TZID=America/Los_Angeles:20150421T090000
DTEND;TZID=America/Los_Angeles:20150421T100000
DTSTAMP:20260422T145737
CREATED:20150416T182947Z
LAST-MODIFIED:20150416T182947Z
UID:2693-1429606800-1429610400@cflu.org
SUMMARY:CLU PTO Meeting
DESCRIPTION:All CLU parents\, past or present\, are welcome to attend.
URL:https://cflu.org/event/clu-pto-meeting-4/
LOCATION:CLU Conference Room
ORGANIZER;CN="CLU PTO":MAILTO:pto@cflu.org
END:VEVENT
BEGIN:VEVENT
DTSTART;VALUE=DATE:20150417
DTEND;VALUE=DATE:20150418
DTSTAMP:20260422T145737
CREATED:20150406T212054Z
LAST-MODIFIED:20150406T212054Z
UID:2674-1429228800-1429315199@cflu.org
SUMMARY:Personal Milestones program student lunch outing
DESCRIPTION:Please provide your student with the appropriate funds to cover their cost of our Friday outing.
URL:https://cflu.org/event/personal-milestones-program-student-lunch-outing/
END:VEVENT
BEGIN:VEVENT
DTSTART;TZID=America/Los_Angeles:20150416T103000
DTEND;TZID=America/Los_Angeles:20150416T123000
DTSTAMP:20260422T145737
CREATED:20150406T212332Z
LAST-MODIFIED:20150406T212332Z
UID:2677-1429180200-1429187400@cflu.org
SUMMARY:Library and Picnic Field Trip (Lower School only)
DESCRIPTION:Lower school students and staff will be taking a field trip to a local library and will picnic at a nearby park afterwards. \nPlease remember to send students with their library card and a sack lunch!
URL:https://cflu.org/event/library-and-picnic-field-trip-lower-school-only-3/
END:VEVENT
BEGIN:VEVENT
DTSTART;TZID=America/Los_Angeles:20150415T183000
DTEND;TZID=America/Los_Angeles:20150415T210000
DTSTAMP:20260422T145737
CREATED:20150219T180353Z
LAST-MODIFIED:20150219T180353Z
UID:2587-1429122600-1429131600@cflu.org
SUMMARY:SW SELPA Community Advisory Council Presents "Sexuality Education Workshop"
DESCRIPTION:The SW SELPA Community Advisory Council is sponsoring a free sex education event for parents\, educators\, and self advocates. \nSexuality Education Workshop with Terri Couwenhoven \n\n\nWednesday\, April 15\, 2015 \n6:30 – 9:00 P.M. @ Centinela Center for the Arts \nFree parking and childcare available. \nThis training is best suited for puberty-aged and older participants. \nFor more info: 310-994-3217\, X248 \n\n 
URL:https://cflu.org/event/selpa/
LOCATION:Centinela Center for the Arts\, 14901 South Inglewood\, Ave.\, Lawndale\, CA\, 90260\, United States
END:VEVENT
BEGIN:VEVENT
DTSTART;TZID=America/Los_Angeles:20150414T103000
DTEND;TZID=America/Los_Angeles:20150414T120000
DTSTAMP:20260422T145737
CREATED:20150105T205255Z
LAST-MODIFIED:20150105T205255Z
UID:2487-1429007400-1429012800@cflu.org
SUMMARY:Torrance Certified Farmer's Market (Lower School Only)
DESCRIPTION:Students will be spending time at the Torrance Certified Farmer’s Market. Staff and students will have an opportunity to talk with local farmers\, sample tasty fare\, and browse a wide selection of cut flowers and nursery stock. Students will return to CLU around lunchtime. \nPer your parental discretion\, students are welcome to bring money to purchase items. Please place monies in a sealed envelope with your student’s name on it.
URL:https://cflu.org/event/torrance-certified-farmers-market-lower-school-only-4/
LOCATION:Wilson Park
END:VEVENT
BEGIN:VEVENT
DTSTART;VALUE=DATE:20150406
DTEND;VALUE=DATE:20150411
DTSTAMP:20260422T145738
CREATED:20140714T225910Z
LAST-MODIFIED:20140714T225910Z
UID:2197-1428278400-1428710399@cflu.org
SUMMARY:Spring Break (School Closed)
DESCRIPTION:
URL:https://cflu.org/event/spring-break-school-closed-3/
END:VEVENT
BEGIN:VEVENT
DTSTART;TZID=America/Los_Angeles:20150403T130000
DTEND;TZID=America/Los_Angeles:20150403T130000
DTSTAMP:20260422T145738
CREATED:20150319T210832Z
LAST-MODIFIED:20150319T210832Z
UID:2648-1428066000-1428066000@cflu.org
SUMMARY:Min. Day (1:00 p.m. Dismissal)
DESCRIPTION:Please share this early pick-up time with caregivers or drivers for their awareness.
URL:https://cflu.org/event/min-day-100-p-m-dismissal-8/
END:VEVENT
BEGIN:VEVENT
DTSTART;TZID=America/Los_Angeles:20150402T103000
DTEND;TZID=America/Los_Angeles:20150402T123000
DTSTAMP:20260422T145738
CREATED:20150325T235541Z
LAST-MODIFIED:20150325T235541Z
UID:2657-1427970600-1427977800@cflu.org
SUMMARY:Library and Picnic Field Trip (Lower School only)
DESCRIPTION:Lower school students and staff will be taking a field trip to a local library and will picnic at a nearby park afterwards. \nPlease remember to send students with their library card and a sack lunch!
URL:https://cflu.org/event/library-and-picnic-field-trip-lower-school-only-2/
END:VEVENT
BEGIN:VEVENT
DTSTART;TZID=America/Los_Angeles:20150327T090000
DTEND;TZID=America/Los_Angeles:20150327T094500
DTSTAMP:20260422T145738
CREATED:20150309T195003Z
LAST-MODIFIED:20150309T195003Z
UID:2631-1427446800-1427449500@cflu.org
SUMMARY:PMP Parent Meeting
DESCRIPTION:
URL:https://cflu.org/event/pmppm/
LOCATION:CLU Conference Room
END:VEVENT
BEGIN:VEVENT
DTSTART;VALUE=DATE:20150327
DTEND;VALUE=DATE:20150328
DTSTAMP:20260422T145738
CREATED:20150320T040203Z
LAST-MODIFIED:20150320T040308Z
UID:2649-1427414400-1427500799@cflu.org
SUMMARY:Personal Milestones Lunch Outing
DESCRIPTION:Students will confirm an individual\, total cost for this outing during the week’s activities.  As general guidance\, please provide $12 – $15 to cover the cost of your student’s meal as well as $3 to cover the cost of bus fare\, or ensure that your student brings their bus pass.
URL:https://cflu.org/event/pmplnch/
LOCATION:Del Amo Mall
END:VEVENT
BEGIN:VEVENT
DTSTART;VALUE=DATE:20150327
DTEND;VALUE=DATE:20150328
DTSTAMP:20260422T145738
CREATED:20150319T210733Z
LAST-MODIFIED:20150319T210733Z
UID:2647-1427414400-1427500799@cflu.org
SUMMARY:End of Quarter
DESCRIPTION:
URL:https://cflu.org/event/end-of-quarter/
END:VEVENT
BEGIN:VEVENT
DTSTART;TZID=America/Los_Angeles:20150326T103000
DTEND;TZID=America/Los_Angeles:20150326T120000
DTSTAMP:20260422T145738
CREATED:20150105T210107Z
LAST-MODIFIED:20150320T040703Z
UID:2503-1427365800-1427371200@cflu.org
SUMMARY:Picnic In The Park (Lower School Only)
DESCRIPTION:Lower school students and staff will be taking a field trip to a local park for a picnic. \nPlease remember to send students with a sack lunch!
URL:https://cflu.org/event/lowpnc/
END:VEVENT
BEGIN:VEVENT
DTSTART;TZID=America/Los_Angeles:20150324T130000
DTEND;TZID=America/Los_Angeles:20150324T140000
DTSTAMP:20260422T145738
CREATED:20150322T220503Z
LAST-MODIFIED:20150322T220503Z
UID:2654-1427202000-1427205600@cflu.org
SUMMARY:Personal Milestones Kobata Growers\, Inc. Tour
DESCRIPTION:Personal Milestones program students will be taking a small\, introductory tour of Kobata Growers\, Inc.
URL:https://cflu.org/event/personal-milestones-kobata-growers-inc-tour/
LOCATION:Kobata Growers\, Inc.\, 17622 Van Ness Ave\, Torrance\, 90504\, United States
END:VEVENT
BEGIN:VEVENT
DTSTART;VALUE=DATE:20150320
DTEND;VALUE=DATE:20150321
DTSTAMP:20260422T145738
CREATED:20150313T010033Z
LAST-MODIFIED:20150313T010033Z
UID:2645-1426809600-1426895999@cflu.org
SUMMARY:Personal Milestones Program Lunch Outing
DESCRIPTION:Please provide $12 – $15 to cover the cost of your student’s meal as well as $3 to cover the cost of bus fare\, or ensure that your student brings their bus pass.
URL:https://cflu.org/event/personal-milestones-program-lunch-outing/
END:VEVENT
BEGIN:VEVENT
DTSTART;VALUE=DATE:20150320
DTEND;VALUE=DATE:20150321
DTSTAMP:20260422T145738
CREATED:20150312T200800Z
LAST-MODIFIED:20150312T200800Z
UID:2642-1426809600-1426895999@cflu.org
SUMMARY:CLU Spirit Week: "CLU Spiritwear and Crazy Socks" Day
DESCRIPTION:Students are welcome to wear their CLU Spirit Wear t-shirt and silly\, or favorite\, socks.
URL:https://cflu.org/event/clu-spirit-week-clu-spiritwear-and-crazy-socks-day/
END:VEVENT
BEGIN:VEVENT
DTSTART;TZID=America/Los_Angeles:20150319T110000
DTEND;TZID=America/Los_Angeles:20150319T120000
DTSTAMP:20260422T145738
CREATED:20150210T200400Z
LAST-MODIFIED:20150311T173731Z
UID:2575-1426762800-1426766400@cflu.org
SUMMARY:Art At Your Fingertips for PMP Students (Joyous Abandon)
DESCRIPTION:Art At Your Fingertips (AAYF) is the Palos Verdes Art Center’s visual arts outreach program which brings standards-based education to local schools and aims to help participants feel comfortable using art as a means of expression.  Five AAYF projects will be interspersed through out the 2014 – 2015 school year. Each project will be completed in a single session. \nOur last 2014-2015 project applies the painting techniques used by Abstract Expressionist artists of the mid-twentieth century. Using the pouring techniques made famous by American Color Field painter Helen Frankenthaler\, students will work individually\, as well as in groups\, to create a truly original piece of abstract art. By allowing diluted paint to flow freely before soaking into the canvas\, students will learn to paint with joyous abandon. \nParents: this is a messy project\, so please encourage your student to wear “slop” clothes (i.e.\, clothing that can get dirty) to school on this day. \n 
URL:https://cflu.org/event/af5/
END:VEVENT
BEGIN:VEVENT
DTSTART;TZID=America/Los_Angeles:20150319T103000
DTEND;TZID=America/Los_Angeles:20150319T123000
DTSTAMP:20260422T145738
CREATED:20150312T201027Z
LAST-MODIFIED:20150312T201027Z
UID:2643-1426761000-1426768200@cflu.org
SUMMARY:Library and Picnic Field Trip (Lower School Only)
DESCRIPTION:Lower school students and staff will be taking a field trip to a local library and will picnic at a nearby park afterwards. \nPlease remember to send students with their library card and a sack lunch!
URL:https://cflu.org/event/library-and-picnic-field-trip-lower-school-only/
END:VEVENT
BEGIN:VEVENT
DTSTART;VALUE=DATE:20150319
DTEND;VALUE=DATE:20150320
DTSTAMP:20260422T145738
CREATED:20150312T200714Z
LAST-MODIFIED:20150312T200714Z
UID:2641-1426723200-1426809599@cflu.org
SUMMARY:CLU Spirit Week: "Sports" Day
DESCRIPTION:Students are welcome to wear sports-related clothing (e.g.\, favorite team  jersey\, t-shirt\, beanie\, etc).
URL:https://cflu.org/event/clu-spirit-week-sports-day/
END:VEVENT
BEGIN:VEVENT
DTSTART;VALUE=DATE:20150318
DTEND;VALUE=DATE:20150319
DTSTAMP:20260422T145738
CREATED:20150312T200632Z
LAST-MODIFIED:20150312T200632Z
UID:2640-1426636800-1426723199@cflu.org
SUMMARY:CLU Spirit Week: "Pajama" Day
DESCRIPTION:Students are invited to wear their pajamas to school. \nLower\, Middle\, and Upper School parents\, please be advised that Wednesday’s AAYF project is particularly messy.  Please send your student with “slop” clothes to change into\, as appropriate.
URL:https://cflu.org/event/clu-spirit-week-pajama-day/
END:VEVENT
BEGIN:VEVENT
DTSTART;VALUE=DATE:20150318
DTEND;VALUE=DATE:20150319
DTSTAMP:20260422T145738
CREATED:20150210T200215Z
LAST-MODIFIED:20150311T173818Z
UID:2572-1426636800-1426723199@cflu.org
SUMMARY:Art At Your Fingertips for Lower\, Middle and Upper School Students (Joyous Abandon)
DESCRIPTION:Art At Your Fingertips (AAYF) is the Palos Verdes Art Center’s visual arts outreach program which brings standards-based education to local schools and aims to help participants feel comfortable using art as a means of expression.  Five AAYF projects will be interspersed through out the 2014 – 2015 school year. Each project will be completed in a single session. \nOur last 2014-2015 project applies the painting techniques used by Abstract Expressionist artists of the mid-twentieth century. Using the pouring techniques made famous by American Color Field painter Helen Frankenthaler\, students will work individually\, as well as in groups\, to create a truly original piece of abstract art. By allowing diluted paint to flow freely before soaking into the canvas\, students will learn to paint with joyous abandon. \nParents: this is a messy project\, so please encourage your student to wear “slop” clothes (i.e.\, clothing that can get dirty) to school on this day.
URL:https://cflu.org/event/yf/
END:VEVENT
BEGIN:VEVENT
DTSTART;VALUE=DATE:20150317
DTEND;VALUE=DATE:20150318
DTSTAMP:20260422T145738
CREATED:20150312T200452Z
LAST-MODIFIED:20150312T200452Z
UID:2639-1426550400-1426636799@cflu.org
SUMMARY:CLU Spirit Week: "Green for St. Patrick" Day
DESCRIPTION:Students are welcome to wear something green (e.g.\, clothing\, socks\, festive headband) to celebrate St. Patrick’s Day.
URL:https://cflu.org/event/clu-spirit-week-green-for-st-patrick-day/
END:VEVENT
BEGIN:VEVENT
DTSTART;VALUE=DATE:20150316
DTEND;VALUE=DATE:20150317
DTSTAMP:20260422T145738
CREATED:20140714T225118Z
LAST-MODIFIED:20140714T225118Z
UID:2194-1426464000-1426550399@cflu.org
SUMMARY:Student Free Day / Staff Development (School Closed)
DESCRIPTION:
URL:https://cflu.org/event/student-free-day-staff-development-school-closed/
END:VEVENT
BEGIN:VEVENT
DTSTART;TZID=America/Los_Angeles:20150313T130000
DTEND;TZID=America/Los_Angeles:20150313T130000
DTSTAMP:20260422T145738
CREATED:20140714T225034Z
LAST-MODIFIED:20140714T225034Z
UID:2193-1426251600-1426251600@cflu.org
SUMMARY:Min. Day (1:00 p.m. Dismissal)
DESCRIPTION:Please share this early pick-up time with caregivers or drivers for their awareness.
URL:https://cflu.org/event/min-day-100-p-m-dismissal-9/
END:VEVENT
BEGIN:VEVENT
DTSTART;TZID=America/Los_Angeles:20150312T103000
DTEND;TZID=America/Los_Angeles:20150312T120000
DTSTAMP:20260422T145738
CREATED:20150105T210024Z
LAST-MODIFIED:20150305T191154Z
UID:2501-1426156200-1426161600@cflu.org
SUMMARY:Picnic in the Park (Lower School Only)
DESCRIPTION:Please send your student with a sack lunch.
URL:https://cflu.org/event/pcn/
END:VEVENT
BEGIN:VEVENT
DTSTART;TZID=America/Los_Angeles:20150311T103000
DTEND;TZID=America/Los_Angeles:20150311T123000
DTSTAMP:20260422T145738
CREATED:20150226T181114Z
LAST-MODIFIED:20150309T193055Z
UID:2612-1426069800-1426077000@cflu.org
SUMMARY:Music Mobile Visit
DESCRIPTION:Thanks to the Peninsula Committee Los Angeles Philharmonic and other Los Angeles Philharmonic Affiliates\, and we are thrilled to announce that their popular Music Mobile\, a mini-van stocked with instruments and visual aids\, will be coming to the CLU campus on March 11th. The Music Mobile’s visit will compliment our music program led by Leah Paul and will provide an introduction to the Philharmonic\, classical music\, the instruments of the orchestra\, and the instrumental families.
URL:https://cflu.org/event/m/
LOCATION:Los Angeles Philharmonic Affiliates’ Music Mobile
END:VEVENT
BEGIN:VEVENT
DTSTART;TZID=America/Los_Angeles:20150310T103000
DTEND;TZID=America/Los_Angeles:20150310T120000
DTSTAMP:20260422T145738
CREATED:20150105T205141Z
LAST-MODIFIED:20150105T205141Z
UID:2484-1425983400-1425988800@cflu.org
SUMMARY:Torrance Certified Farmer's Market (Lower School Only)
DESCRIPTION:Students will be spending time at the Torrance Certified Farmer’s Market. Staff and students will have an opportunity to talk with local farmers\, sample tasty fare\, and browse a wide selection of cut flowers and nursery stock. Students will return to CLU around lunchtime. \nPer your parental discretion\, students are welcome to bring money to purchase items. Please place monies in a sealed envelope with your student’s name on it.
URL:https://cflu.org/event/torrance-certified-farmers-market-lower-school-only-3/
LOCATION:Wilson Park
END:VEVENT
BEGIN:VEVENT
DTSTART;TZID=America/Los_Angeles:20150307T170000
DTEND;TZID=America/Los_Angeles:20150307T190000
DTSTAMP:20260422T145738
CREATED:20150129T182313Z
LAST-MODIFIED:20150204T192150Z
UID:2551-1425747600-1425754800@cflu.org
SUMMARY:CLU Family Dinner (Islands Restaurant\, South Bay Galleria)
DESCRIPTION:CLU Families (current AND alumni) are welcome to attend this informal gathering. We have reserved the outside patio to avoid as much noise as possible and provide a casual environment for old and new families alike to connect. \nWe hope to see you there!
URL:https://cflu.org/event/fm-is/
LOCATION:Islands Fine Burgers & Drinks\, 1609 Hawthorne Blvd\, Redondo Beach\, 90278\, United States
END:VEVENT
BEGIN:VEVENT
DTSTART;VALUE=DATE:20150306
DTEND;VALUE=DATE:20150307
DTSTAMP:20260422T145738
CREATED:20150226T190226Z
LAST-MODIFIED:20150226T190226Z
UID:2619-1425600000-1425686399@cflu.org
SUMMARY:Personal Milestones Lunch Outing
DESCRIPTION:Please provide $12 – $15 to cover the cost of your student’s meal as well as $3 to cover the cost of bus fare\, or ensure that your student brings their bus pass.
URL:https://cflu.org/event/lnh/
LOCATION:TBD
END:VEVENT
END:VCALENDAR