BEGIN:VCALENDAR
VERSION:2.0
PRODID:-//The Center for Learning Unlimited - ECPv6.10.1//NONSGML v1.0//EN
CALSCALE:GREGORIAN
METHOD:PUBLISH
X-WR-CALNAME:The Center for Learning Unlimited
X-ORIGINAL-URL:https://cflu.org
X-WR-CALDESC:Events for The Center for Learning Unlimited
REFRESH-INTERVAL;VALUE=DURATION:PT1H
X-Robots-Tag:noindex
X-PUBLISHED-TTL:PT1H
BEGIN:VTIMEZONE
TZID:America/Los_Angeles
BEGIN:DAYLIGHT
TZOFFSETFROM:-0800
TZOFFSETTO:-0700
TZNAME:PDT
DTSTART:20150308T100000
END:DAYLIGHT
BEGIN:STANDARD
TZOFFSETFROM:-0700
TZOFFSETTO:-0800
TZNAME:PST
DTSTART:20151101T090000
END:STANDARD
END:VTIMEZONE
BEGIN:VEVENT
DTSTART;VALUE=DATE:20150217
DTEND;VALUE=DATE:20150218
DTSTAMP:20260423T023245
CREATED:20150203T210800Z
LAST-MODIFIED:20150203T210800Z
UID:2558-1424131200-1424217599@cflu.org
SUMMARY:CLU Spirit Week (Hat Day)
DESCRIPTION:A monthly\, fun-filled week with daily opportunities for all students to show their CLU spirit!  More details will be distributed to parents via the On the Horizon communications.
URL:https://cflu.org/event/hat-d/
END:VEVENT
BEGIN:VEVENT
DTSTART;VALUE=DATE:20150216
DTEND;VALUE=DATE:20150217
DTSTAMP:20260423T023245
CREATED:20140714T224828Z
LAST-MODIFIED:20140714T224828Z
UID:2191-1424044800-1424131199@cflu.org
SUMMARY:Washington Day (School Closed)
DESCRIPTION:
URL:https://cflu.org/event/washington-day-school-closed/
END:VEVENT
BEGIN:VEVENT
DTSTART;TZID=America/Los_Angeles:20150213T130000
DTEND;TZID=America/Los_Angeles:20150213T130000
DTSTAMP:20260423T023245
CREATED:20140714T224802Z
LAST-MODIFIED:20140714T224802Z
UID:2190-1423832400-1423832400@cflu.org
SUMMARY:Min. Day (1:00 p.m. Dismissal)
DESCRIPTION:Please share this early pick-up time with caregivers or drivers for their awareness.
URL:https://cflu.org/event/min-day-100-p-m-dismissal-7/
END:VEVENT
BEGIN:VEVENT
DTSTART;TZID=America/Los_Angeles:20150213T090000
DTEND;TZID=America/Los_Angeles:20150213T100000
DTSTAMP:20260423T023245
CREATED:20150204T210815Z
LAST-MODIFIED:20150204T211044Z
UID:2562-1423818000-1423821600@cflu.org
SUMMARY:CLU PTO Meeting
DESCRIPTION:All CLU parents are welcome to join.
URL:https://cflu.org/event/pa/
LOCATION:Panera\, 2733 Pacific Coast Highway\, Torrance\, CA\, 90505\, United States
END:VEVENT
BEGIN:VEVENT
DTSTART;TZID=America/Los_Angeles:20150212T103000
DTEND;TZID=America/Los_Angeles:20150212T120000
DTSTAMP:20260423T023245
CREATED:20150105T205901Z
LAST-MODIFIED:20150129T180153Z
UID:2497-1423737000-1423742400@cflu.org
SUMMARY:Library Field Trip (Lower School Only)
DESCRIPTION:Lower school students and staff will be taking a field trip to a local library the 2nd and 4th Thursday of each month.  Student will return to campus around lunchtime. \nPlease remember to send students with their library card!
URL:https://cflu.org/event/lib-low-3/
END:VEVENT
BEGIN:VEVENT
DTSTART;TZID=America/Los_Angeles:20150210T103000
DTEND;TZID=America/Los_Angeles:20150210T120000
DTSTAMP:20260423T023245
CREATED:20150105T205046Z
LAST-MODIFIED:20150105T205046Z
UID:2481-1423564200-1423569600@cflu.org
SUMMARY:Torrance Certified Farmer's Market (Lower School Only)
DESCRIPTION:Students will be spending time at the Torrance Certified Farmer’s Market. Staff and students will have an opportunity to talk with local farmers\, sample tasty fare\, and browse a wide selection of cut flowers and nursery stock. Students will return to CLU around lunchtime. \nPer your parental discretion\, students are welcome to bring money to purchase items. Please place monies in a sealed envelope with your student’s name on it.
URL:https://cflu.org/event/torrance-certified-farmers-market-lower-school-only-2/
LOCATION:Wilson Park
END:VEVENT
BEGIN:VEVENT
DTSTART;VALUE=DATE:20150209
DTEND;VALUE=DATE:20150210
DTSTAMP:20260423T023245
CREATED:20140714T224458Z
LAST-MODIFIED:20140714T224458Z
UID:2189-1423440000-1423526399@cflu.org
SUMMARY:Lincoln’s Birthday (School Closed)
DESCRIPTION:
URL:https://cflu.org/event/lincolns-birthday-school-closed/
END:VEVENT
BEGIN:VEVENT
DTSTART;TZID=America/Los_Angeles:20150206T130000
DTEND;TZID=America/Los_Angeles:20150206T130000
DTSTAMP:20260423T023245
CREATED:20140714T224404Z
LAST-MODIFIED:20140714T224404Z
UID:2188-1423227600-1423227600@cflu.org
SUMMARY:Min. Day (1:00 p.m. Dismissal)
DESCRIPTION:Please share this early pick-up time with caregivers or drivers for their awareness.
URL:https://cflu.org/event/min-day-100-p-m-dismissal-6/
END:VEVENT
BEGIN:VEVENT
DTSTART;TZID=America/Los_Angeles:20150130T113000
DTEND;TZID=America/Los_Angeles:20150130T130000
DTSTAMP:20260423T023245
CREATED:20150123T012950Z
LAST-MODIFIED:20150123T012950Z
UID:2548-1422617400-1422622800@cflu.org
SUMMARY:Lunch Outing (PMP only)
DESCRIPTION:Please provide your student with $12 – $15 to cover the cost of the meal plus gratuity. We will ensure that all students are provided a receipt and change to bring home.
URL:https://cflu.org/event/pmp-lnch/
END:VEVENT
BEGIN:VEVENT
DTSTART;VALUE=DATE:20150130
DTEND;VALUE=DATE:20150131
DTSTAMP:20260423T023245
CREATED:20150108T203825Z
LAST-MODIFIED:20150108T203825Z
UID:2541-1422576000-1422662399@cflu.org
SUMMARY:2nd Semester Pizza Friday Lunch Program Starts
DESCRIPTION:
URL:https://cflu.org/event/2nd-pizza-starts/
END:VEVENT
BEGIN:VEVENT
DTSTART;TZID=America/Los_Angeles:20150129T103000
DTEND;TZID=America/Los_Angeles:20150129T123000
DTSTAMP:20260423T023245
CREATED:20150105T205742Z
LAST-MODIFIED:20150123T012654Z
UID:2495-1422527400-1422534600@cflu.org
SUMMARY:Library Field Trip and Picnic (Lower School Only)
DESCRIPTION:Lower school students and staff will be taking a field trip to a local library the 2nd and 4th Thursday of each month.  Student will return to campus around lunchtime. \nPlease remember to send students with their library card!
URL:https://cflu.org/event/lib-low-2/
END:VEVENT
BEGIN:VEVENT
DTSTART;TZID=America/Los_Angeles:20150128T113000
DTEND;TZID=America/Los_Angeles:20150128T130000
DTSTAMP:20260423T023245
CREATED:20150127T233943Z
LAST-MODIFIED:20150127T233943Z
UID:2549-1422444600-1422450000@cflu.org
SUMMARY:Celebratory Pizza Lunch for Students and Staff Hosted by Jeff Frankel
DESCRIPTION:Students are welcome to bring their sack lunch or participate in this celebratory lunch!
URL:https://cflu.org/event/celebratory-pizza-lunch-for-students-and-staff-hosted-by-jeff-frankel/
END:VEVENT
BEGIN:VEVENT
DTSTART;VALUE=DATE:20150127
DTEND;VALUE=DATE:20150128
DTSTAMP:20260423T023245
CREATED:20150108T203656Z
LAST-MODIFIED:20150108T203656Z
UID:2540-1422316800-1422403199@cflu.org
SUMMARY:2nd Semester Pizza Friday Payment Deadline
DESCRIPTION:This optional lunch program will run Friday\, January 30th\, through Friday June 7th.  Please make checks payable to CLU.
URL:https://cflu.org/event/2nd-pizza-friday/
END:VEVENT
BEGIN:VEVENT
DTSTART;TZID=America/Los_Angeles:20150123T113000
DTEND;TZID=America/Los_Angeles:20150123T123000
DTSTAMP:20260423T023245
CREATED:20150106T181156Z
LAST-MODIFIED:20150106T181156Z
UID:2526-1422012600-1422016200@cflu.org
SUMMARY:CLU PTO meeting
DESCRIPTION:
URL:https://cflu.org/event/clu-pto-meeting-3/
LOCATION:Jersey Mike’s Subs\, 24631 Crenshaw Blvd\, Torrance\, 90505
END:VEVENT
BEGIN:VEVENT
DTSTART;VALUE=DATE:20150123
DTEND;VALUE=DATE:20150124
DTSTAMP:20260423T023245
CREATED:20150105T210936Z
LAST-MODIFIED:20150105T210936Z
UID:2520-1421971200-1422057599@cflu.org
SUMMARY:CLU Spirit Week (Spirit Wear t-shirt)
DESCRIPTION:A monthly\, fun-filled week with daily opportunities for all students to show their CLU spirit!  More details will be distributed to parents via the On the Horizon communications.
URL:https://cflu.org/event/clu-spirit-week-spirit-wear-t-shirt/
END:VEVENT
BEGIN:VEVENT
DTSTART;VALUE=DATE:20150123
DTEND;VALUE=DATE:20150124
DTSTAMP:20260423T023245
CREATED:20150105T204544Z
LAST-MODIFIED:20150109T054517Z
UID:2475-1421971200-1422057599@cflu.org
SUMMARY:Jersey Mike's Subs Fundraiser (All day @ their Torrance Location)
DESCRIPTION:This fundraising occasion is open to the public and can be applied to dine-in\, take-out and catering orders. We welcome participation in this phenomenal fundraising opportunity for our school! \nCLICK HERE to for a printable version of the flyer.
URL:https://cflu.org/event/jm-2015/
LOCATION:Jersey Mike’s Subs\, 24631 Crenshaw Blvd\, Torrance\, CA\, 90505\, United States
END:VEVENT
BEGIN:VEVENT
DTSTART;VALUE=DATE:20150123
DTEND;VALUE=DATE:20150124
DTSTAMP:20260423T023245
CREATED:20140714T224257Z
LAST-MODIFIED:20140910T233009Z
UID:2187-1421971200-1422057599@cflu.org
SUMMARY:End of 1st Semester
DESCRIPTION:
URL:https://cflu.org/event/end-of-1st-semester-3/
END:VEVENT
BEGIN:VEVENT
DTSTART;TZID=America/Los_Angeles:20150122T100000
DTEND;TZID=America/Los_Angeles:20150122T120000
DTSTAMP:20260423T023245
CREATED:20150107T052424Z
LAST-MODIFIED:20150108T193728Z
UID:2532-1421920800-1421928000@cflu.org
SUMMARY:Art At Your Fiingertips for PMP Students (Abstract Vistas)
DESCRIPTION:Art At Your Fingertips (AAYF) is the Palos Verdes Art Center’s visual arts outreach program which brings standards-based education to local schools and aims to help participants feel comfortable using art as a means of expression.  Five AAYF projects will be interspersed through out the 2014 – 2015 school year. Each project will be completed in a single session. \nJanuary’s project\, Abstract Vistas\, is inspired by Jerry Schurr’s abstract landscapes featuring magnificent vistas of distant canyons\, rugged shorelines and other natural wonders.  Students will use their imagination to construct their own landscape compositions using watercolors and torn paper. \nWe will announce the dates of future AAYF project sessions as they become available.
URL:https://cflu.org/event/aayf-abstract-pmp/
LOCATION:CLU Campus
END:VEVENT
BEGIN:VEVENT
DTSTART;VALUE=DATE:20150122
DTEND;VALUE=DATE:20150123
DTSTAMP:20260423T023245
CREATED:20150105T210850Z
LAST-MODIFIED:20150105T211219Z
UID:2518-1421884800-1421971199@cflu.org
SUMMARY:CLU Spirit Week (Sports)
DESCRIPTION:A monthly\, fun-filled week with daily opportunities for all students to show their CLU spirit!  More details will be distributed to parents via the On the Horizon communications.
URL:https://cflu.org/event/clu-spirit-day-sports/
END:VEVENT
BEGIN:VEVENT
DTSTART;VALUE=DATE:20150121
DTEND;VALUE=DATE:20150122
DTSTAMP:20260423T023245
CREATED:20150107T052311Z
LAST-MODIFIED:20150108T193758Z
UID:2529-1421798400-1421884799@cflu.org
SUMMARY:Art At Your Fingertips for Lower\, Middle and Upper School Students (Abstract Vistas)
DESCRIPTION:Art At Your Fingertips (AAYF) is the Palos Verdes Art Center’s visual arts outreach program which brings standards-based education to local schools and aims to help participants feel comfortable using art as a means of expression.  Five AAYF projects will be interspersed through out the 2014 – 2015 school year. Each project will be completed in a single session. \nJanuary’s project\, Abstract Vistas\, is inspired by Jerry Schurr’s abstract landscapes featuring magnificent vistas of distant canyons\, rugged shorelines and other natural wonders.  Students will use their imagination to construct their own landscape compositions using watercolors and torn paper. \nWe will announce the dates of future AAYF project sessions as they become available.
URL:https://cflu.org/event/aayf-abstract-all/
LOCATION:CLU Campus
END:VEVENT
BEGIN:VEVENT
DTSTART;VALUE=DATE:20150121
DTEND;VALUE=DATE:20150122
DTSTAMP:20260423T023245
CREATED:20150105T210816Z
LAST-MODIFIED:20150105T210816Z
UID:2516-1421798400-1421884799@cflu.org
SUMMARY:CLU Spirit Week (Pajamas Day)
DESCRIPTION:A monthly\, fun-filled week with daily opportunities for all students to show their CLU spirit!  More details will be distributed to parents via the On the Horizon communications.
URL:https://cflu.org/event/clu-spirit-week-pajamas-day/
END:VEVENT
BEGIN:VEVENT
DTSTART;TZID=America/Los_Angeles:20150120T103000
DTEND;TZID=America/Los_Angeles:20150120T120000
DTSTAMP:20260423T023245
CREATED:20150105T204942Z
LAST-MODIFIED:20150115T202945Z
UID:2478-1421749800-1421755200@cflu.org
SUMMARY:Torrance Certified Farmer's Market (Lower School Only)
DESCRIPTION:Students will be spending time at the Torrance Certified Farmer’s Market. Staff and students will have an opportunity to talk with local farmers\, sample tasty fare\, and browse a wide selection of cut flowers and nursery stock. Students will return to CLU around lunchtime. \nPer your parental discretion\, students are welcome to bring money to purchase items. Please place monies in a sealed envelope with your student’s name on it.
URL:https://cflu.org/event/lw_sc_frm/
LOCATION:Wilson Park
END:VEVENT
BEGIN:VEVENT
DTSTART;VALUE=DATE:20150120
DTEND;VALUE=DATE:20150121
DTSTAMP:20260423T023245
CREATED:20150105T210737Z
LAST-MODIFIED:20150105T210737Z
UID:2515-1421712000-1421798399@cflu.org
SUMMARY:CLU Spirit Week (Twin Day)
DESCRIPTION:A monthly\, fun-filled week with daily opportunities for all students to show their CLU spirit!  More details will be distributed to parents via the On the Horizon communications.
URL:https://cflu.org/event/clu-spirit-week-twin-day/
END:VEVENT
BEGIN:VEVENT
DTSTART;VALUE=DATE:20150119
DTEND;VALUE=DATE:20150120
DTSTAMP:20260423T023245
CREATED:20140714T224219Z
LAST-MODIFIED:20150109T055412Z
UID:2186-1421625600-1421711999@cflu.org
SUMMARY:Martin Luther King\, Jr. Day  (School Closed)
DESCRIPTION:
URL:https://cflu.org/event/martin-luther-king-school-closed-2/
END:VEVENT
BEGIN:VEVENT
DTSTART;TZID=America/Los_Angeles:20150116T130000
DTEND;TZID=America/Los_Angeles:20150116T130000
DTSTAMP:20260423T023245
CREATED:20140714T224146Z
LAST-MODIFIED:20140714T224146Z
UID:2185-1421413200-1421413200@cflu.org
SUMMARY:Min. Day (1:00 P.M. Dismissal)
DESCRIPTION:Please share this early pick-up time with caregivers or drivers for their awareness.
URL:https://cflu.org/event/min-day-100-p-m-dismissal-5/
END:VEVENT
BEGIN:VEVENT
DTSTART;TZID=America/Los_Angeles:20150116T090000
DTEND;TZID=America/Los_Angeles:20150116T100000
DTSTAMP:20260423T023245
CREATED:20150105T201544Z
LAST-MODIFIED:20150105T201544Z
UID:2472-1421398800-1421402400@cflu.org
SUMMARY:PMP Parent Advisory Meeting
DESCRIPTION:
URL:https://cflu.org/event/pmp-parent-advisory-meeting/
LOCATION:CLU Conference Room
ORGANIZER;CN="Darryl Coit":MAILTO:darryl@cflu.org
END:VEVENT
BEGIN:VEVENT
DTSTART;TZID=America/Los_Angeles:20150112T103000
DTEND;TZID=America/Los_Angeles:20150112T120000
DTSTAMP:20260423T023245
CREATED:20150105T205633Z
LAST-MODIFIED:20150109T053532Z
UID:2493-1421058600-1421064000@cflu.org
SUMMARY:Library Field Trip (Lower School Only)
DESCRIPTION:Lower school students and staff will be taking a field trip to a local library the 2nd and 4th Monday of each month.  Student will return to campus around lunchtime. \nPlease remember to send students with their library card!
URL:https://cflu.org/event/lib-lower-1/
END:VEVENT
BEGIN:VEVENT
DTSTART;TZID=America/Los_Angeles:20150109T123000
DTEND;TZID=America/Los_Angeles:20150109T140000
DTSTAMP:20260423T023245
CREATED:20150102T040013Z
LAST-MODIFIED:20150102T040013Z
UID:2464-1420806600-1420812000@cflu.org
SUMMARY:Madrona Marsh Hike (PMP)
DESCRIPTION:Students will be enjoying some low impact exercise at the Madrona Marsh.
URL:https://cflu.org/event/madrona-marsh-hike-pmp-3/
LOCATION:Madrona Marsh
ORGANIZER;CN="Darryl Coit":MAILTO:darryl@cflu.org
END:VEVENT
BEGIN:VEVENT
DTSTART;VALUE=DATE:20150109
DTEND;VALUE=DATE:20150110
DTSTAMP:20260423T023245
CREATED:20150102T040356Z
LAST-MODIFIED:20150102T040356Z
UID:2470-1420761600-1420847999@cflu.org
SUMMARY:Woodworking Unit Donation Materials Due
DESCRIPTION:Please refer to the January 5th OTH parent note for more information on this request.
URL:https://cflu.org/event/woodworking-unit-donation-materials-due/
END:VEVENT
BEGIN:VEVENT
DTSTART;TZID=America/Los_Angeles:20150106T100000
DTEND;TZID=America/Los_Angeles:20150106T120000
DTSTAMP:20260423T023245
CREATED:20150102T040209Z
LAST-MODIFIED:20150102T040209Z
UID:2467-1420538400-1420545600@cflu.org
SUMMARY:Torrance Farmer's Market (PMP)
DESCRIPTION:These outings will be used for our PMP students to practice consumer skills.
URL:https://cflu.org/event/torrance-farmers-market-pmp-3/
LOCATION:Torrance Certified Farmer’s Market
ORGANIZER;CN="Darryl Coit":MAILTO:darryl@cflu.org
END:VEVENT
END:VCALENDAR