BEGIN:VCALENDAR
VERSION:2.0
PRODID:-//The Center for Learning Unlimited - ECPv6.10.1//NONSGML v1.0//EN
CALSCALE:GREGORIAN
METHOD:PUBLISH
X-WR-CALNAME:The Center for Learning Unlimited
X-ORIGINAL-URL:https://cflu.org
X-WR-CALDESC:Events for The Center for Learning Unlimited
REFRESH-INTERVAL;VALUE=DURATION:PT1H
X-Robots-Tag:noindex
X-PUBLISHED-TTL:PT1H
BEGIN:VTIMEZONE
TZID:America/Los_Angeles
BEGIN:DAYLIGHT
TZOFFSETFROM:-0800
TZOFFSETTO:-0700
TZNAME:PDT
DTSTART:20140309T100000
END:DAYLIGHT
BEGIN:STANDARD
TZOFFSETFROM:-0700
TZOFFSETTO:-0800
TZNAME:PST
DTSTART:20141102T090000
END:STANDARD
BEGIN:DAYLIGHT
TZOFFSETFROM:-0800
TZOFFSETTO:-0700
TZNAME:PDT
DTSTART:20150308T100000
END:DAYLIGHT
BEGIN:STANDARD
TZOFFSETFROM:-0700
TZOFFSETTO:-0800
TZNAME:PST
DTSTART:20151101T090000
END:STANDARD
END:VTIMEZONE
BEGIN:VEVENT
DTSTART;VALUE=DATE:20150121
DTEND;VALUE=DATE:20150122
DTSTAMP:20260423T054236
CREATED:20150105T210816Z
LAST-MODIFIED:20150105T210816Z
UID:2516-1421798400-1421884799@cflu.org
SUMMARY:CLU Spirit Week (Pajamas Day)
DESCRIPTION:A monthly\, fun-filled week with daily opportunities for all students to show their CLU spirit!  More details will be distributed to parents via the On the Horizon communications.
URL:https://cflu.org/event/clu-spirit-week-pajamas-day/
END:VEVENT
BEGIN:VEVENT
DTSTART;TZID=America/Los_Angeles:20150120T103000
DTEND;TZID=America/Los_Angeles:20150120T120000
DTSTAMP:20260423T054236
CREATED:20150105T204942Z
LAST-MODIFIED:20150115T202945Z
UID:2478-1421749800-1421755200@cflu.org
SUMMARY:Torrance Certified Farmer's Market (Lower School Only)
DESCRIPTION:Students will be spending time at the Torrance Certified Farmer’s Market. Staff and students will have an opportunity to talk with local farmers\, sample tasty fare\, and browse a wide selection of cut flowers and nursery stock. Students will return to CLU around lunchtime. \nPer your parental discretion\, students are welcome to bring money to purchase items. Please place monies in a sealed envelope with your student’s name on it.
URL:https://cflu.org/event/lw_sc_frm/
LOCATION:Wilson Park
END:VEVENT
BEGIN:VEVENT
DTSTART;VALUE=DATE:20150120
DTEND;VALUE=DATE:20150121
DTSTAMP:20260423T054236
CREATED:20150105T210737Z
LAST-MODIFIED:20150105T210737Z
UID:2515-1421712000-1421798399@cflu.org
SUMMARY:CLU Spirit Week (Twin Day)
DESCRIPTION:A monthly\, fun-filled week with daily opportunities for all students to show their CLU spirit!  More details will be distributed to parents via the On the Horizon communications.
URL:https://cflu.org/event/clu-spirit-week-twin-day/
END:VEVENT
BEGIN:VEVENT
DTSTART;VALUE=DATE:20150119
DTEND;VALUE=DATE:20150120
DTSTAMP:20260423T054236
CREATED:20140714T224219Z
LAST-MODIFIED:20150109T055412Z
UID:2186-1421625600-1421711999@cflu.org
SUMMARY:Martin Luther King\, Jr. Day  (School Closed)
DESCRIPTION:
URL:https://cflu.org/event/martin-luther-king-school-closed-2/
END:VEVENT
BEGIN:VEVENT
DTSTART;TZID=America/Los_Angeles:20150116T130000
DTEND;TZID=America/Los_Angeles:20150116T130000
DTSTAMP:20260423T054236
CREATED:20140714T224146Z
LAST-MODIFIED:20140714T224146Z
UID:2185-1421413200-1421413200@cflu.org
SUMMARY:Min. Day (1:00 P.M. Dismissal)
DESCRIPTION:Please share this early pick-up time with caregivers or drivers for their awareness.
URL:https://cflu.org/event/min-day-100-p-m-dismissal-5/
END:VEVENT
BEGIN:VEVENT
DTSTART;TZID=America/Los_Angeles:20150116T090000
DTEND;TZID=America/Los_Angeles:20150116T100000
DTSTAMP:20260423T054236
CREATED:20150105T201544Z
LAST-MODIFIED:20150105T201544Z
UID:2472-1421398800-1421402400@cflu.org
SUMMARY:PMP Parent Advisory Meeting
DESCRIPTION:
URL:https://cflu.org/event/pmp-parent-advisory-meeting/
LOCATION:CLU Conference Room
ORGANIZER;CN="Darryl Coit":MAILTO:darryl@cflu.org
END:VEVENT
BEGIN:VEVENT
DTSTART;TZID=America/Los_Angeles:20150112T103000
DTEND;TZID=America/Los_Angeles:20150112T120000
DTSTAMP:20260423T054236
CREATED:20150105T205633Z
LAST-MODIFIED:20150109T053532Z
UID:2493-1421058600-1421064000@cflu.org
SUMMARY:Library Field Trip (Lower School Only)
DESCRIPTION:Lower school students and staff will be taking a field trip to a local library the 2nd and 4th Monday of each month.  Student will return to campus around lunchtime. \nPlease remember to send students with their library card!
URL:https://cflu.org/event/lib-lower-1/
END:VEVENT
BEGIN:VEVENT
DTSTART;TZID=America/Los_Angeles:20150109T123000
DTEND;TZID=America/Los_Angeles:20150109T140000
DTSTAMP:20260423T054236
CREATED:20150102T040013Z
LAST-MODIFIED:20150102T040013Z
UID:2464-1420806600-1420812000@cflu.org
SUMMARY:Madrona Marsh Hike (PMP)
DESCRIPTION:Students will be enjoying some low impact exercise at the Madrona Marsh.
URL:https://cflu.org/event/madrona-marsh-hike-pmp-3/
LOCATION:Madrona Marsh
ORGANIZER;CN="Darryl Coit":MAILTO:darryl@cflu.org
END:VEVENT
BEGIN:VEVENT
DTSTART;VALUE=DATE:20150109
DTEND;VALUE=DATE:20150110
DTSTAMP:20260423T054236
CREATED:20150102T040356Z
LAST-MODIFIED:20150102T040356Z
UID:2470-1420761600-1420847999@cflu.org
SUMMARY:Woodworking Unit Donation Materials Due
DESCRIPTION:Please refer to the January 5th OTH parent note for more information on this request.
URL:https://cflu.org/event/woodworking-unit-donation-materials-due/
END:VEVENT
BEGIN:VEVENT
DTSTART;TZID=America/Los_Angeles:20150106T100000
DTEND;TZID=America/Los_Angeles:20150106T120000
DTSTAMP:20260423T054236
CREATED:20150102T040209Z
LAST-MODIFIED:20150102T040209Z
UID:2467-1420538400-1420545600@cflu.org
SUMMARY:Torrance Farmer's Market (PMP)
DESCRIPTION:These outings will be used for our PMP students to practice consumer skills.
URL:https://cflu.org/event/torrance-farmers-market-pmp-3/
LOCATION:Torrance Certified Farmer’s Market
ORGANIZER;CN="Darryl Coit":MAILTO:darryl@cflu.org
END:VEVENT
BEGIN:VEVENT
DTSTART;TZID=America/Los_Angeles:20150105T093000
DTEND;TZID=America/Los_Angeles:20150105T093000
DTSTAMP:20260423T054236
CREATED:20140714T223807Z
LAST-MODIFIED:20140714T223807Z
UID:2183-1420450200-1420450200@cflu.org
SUMMARY:Classes Resume (Staff Development - 9:30 a.m. start time)
DESCRIPTION:
URL:https://cflu.org/event/classes-resume-staff-development-930-a-m-start-time/
END:VEVENT
BEGIN:VEVENT
DTSTART;VALUE=DATE:20150102
DTEND;VALUE=DATE:20150103
DTSTAMP:20260423T054236
CREATED:20140714T223308Z
LAST-MODIFIED:20140714T223308Z
UID:2181-1420156800-1420243199@cflu.org
SUMMARY:School Closed
DESCRIPTION:
URL:https://cflu.org/event/school-closed-3/
END:VEVENT
BEGIN:VEVENT
DTSTART;VALUE=DATE:20150101
DTEND;VALUE=DATE:20150102
DTSTAMP:20260423T054236
CREATED:20140714T223245Z
LAST-MODIFIED:20140714T223245Z
UID:2180-1420070400-1420156799@cflu.org
SUMMARY:New Year’s Day (School Closed)
DESCRIPTION:
URL:https://cflu.org/event/new-years-day-school-closed-3/
END:VEVENT
BEGIN:VEVENT
DTSTART;VALUE=DATE:20141229
DTEND;VALUE=DATE:20150101
DTSTAMP:20260423T054236
CREATED:20140714T223216Z
LAST-MODIFIED:20140714T223216Z
UID:2179-1419811200-1420070399@cflu.org
SUMMARY:Winter Break (School Closed)
DESCRIPTION:
URL:https://cflu.org/event/winter-break-school-closed-5/
END:VEVENT
BEGIN:VEVENT
DTSTART;TZID=America/Los_Angeles:20141227T103000
DTEND;TZID=America/Los_Angeles:20141227T103000
DTSTAMP:20260423T054236
CREATED:20141210T210828Z
LAST-MODIFIED:20141210T210828Z
UID:2449-1419676200-1419676200@cflu.org
SUMMARY:CLU Garden Planting Party
DESCRIPTION:To quickly get the edible seedlings selected for our winter planting in the ground\, we’re coordinating a “planting party” on Saturday\, December 27th\, starting at 10:30 a.m.  Students and their families are welcome. \nPlease email the CLU PTO at pto@cflu.org if you’d like to join the fun!
URL:https://cflu.org/event/clu-garden-planting-party/
LOCATION:CLU Garden
ORGANIZER;CN="CLU PTO":MAILTO:pto@cflu.org
END:VEVENT
BEGIN:VEVENT
DTSTART;VALUE=DATE:20141222
DTEND;VALUE=DATE:20141227
DTSTAMP:20260423T054236
CREATED:20140714T223151Z
LAST-MODIFIED:20140714T223151Z
UID:2178-1419206400-1419638399@cflu.org
SUMMARY:Winter Break (School Closed)
DESCRIPTION:
URL:https://cflu.org/event/winter-break-school-closed-4/
END:VEVENT
BEGIN:VEVENT
DTSTART;TZID=America/Los_Angeles:20141219T130000
DTEND;TZID=America/Los_Angeles:20141219T130000
DTSTAMP:20260423T054236
CREATED:20140714T223058Z
LAST-MODIFIED:20140714T223058Z
UID:2177-1418994000-1418994000@cflu.org
SUMMARY:Min. Day (1:00 p.m. Dismissal)
DESCRIPTION:Please share this early pick-up time with caregivers or drivers for their awareness.
URL:https://cflu.org/event/min-day-100-p-m-dismissal-4/
END:VEVENT
BEGIN:VEVENT
DTSTART;TZID=America/Los_Angeles:20141219T120000
DTEND;TZID=America/Los_Angeles:20141219T120000
DTSTAMP:20260423T054236
CREATED:20141211T201444Z
LAST-MODIFIED:20141212T044449Z
UID:2456-1418990400-1418990400@cflu.org
SUMMARY:Student Holiday Potluck
DESCRIPTION:Our PMP students will be voting on a main dish recipe which they will shop\, prepare and serve.  Upper School students are also asked to bring main dishes and Lower/Middle school families will be asked to bring sides or desserts should they wish to contribute.  Please refer to the On the Horizon and classroom specific communications for additional details.
URL:https://cflu.org/event/student-holiday-potluck/
LOCATION:CLU Kitchen
END:VEVENT
BEGIN:VEVENT
DTSTART;TZID=America/Los_Angeles:20141218T153000
DTEND;TZID=America/Los_Angeles:20141218T173000
DTSTAMP:20260423T054236
CREATED:20140903T173809Z
LAST-MODIFIED:20141212T043339Z
UID:2300-1418916600-1418923800@cflu.org
SUMMARY:RAP - Winter Fun (Snow Day)
DESCRIPTION:Participants will make pretend snow and then use that in the creation of a snow globe. \nThe Center’s Relationship Activity Program (RAP) emphasizes episodic memory work and offers opportunities to practice the relationship building skills that are crucial in our student’s success.  This program is a good match for middle school/early high school age students who have difficulty with making friends\, are isolated from peers/adults\, or who have had poor outcome from other social skills training. \nTo sign-up for RAP or if you have any questions\, please contact Jasmine Otero.
URL:https://cflu.org/event/rap-wtr-fn-sw-dy/
ORGANIZER;CN="Jasmine Otero":MAILTO:Jotero@cflu.org
END:VEVENT
BEGIN:VEVENT
DTSTART;TZID=America/Los_Angeles:20141218T120000
DTEND;TZID=America/Los_Angeles:20141218T120000
DTSTAMP:20260423T054236
CREATED:20141215T191920Z
LAST-MODIFIED:20141215T191920Z
UID:2459-1418904000-1418904000@cflu.org
SUMMARY:Rescheduled Pizza Friday Lunch
DESCRIPTION:We’re rescheduling Pizza Friday to Thursday\, December 18th\, this week due to Friday’s Annual Student Holiday Potluck. Participating students will receive pizza\, fruit and juice for Thursday’s lunch. \n 
URL:https://cflu.org/event/rescheduled-pizza-friday-lunch/
LOCATION:CLU Campus
END:VEVENT
BEGIN:VEVENT
DTSTART;TZID=America/Los_Angeles:20141218T110000
DTEND;TZID=America/Los_Angeles:20141218T110000
DTSTAMP:20260423T054236
CREATED:20141210T210622Z
LAST-MODIFIED:20141210T210622Z
UID:2445-1418900400-1418900400@cflu.org
SUMMARY:Staff Appreciation Luncheon
DESCRIPTION:For the last four years the CLU PTO has organized a holiday luncheon for the CLU staff (i.e.\, teachers\, paraprofessionals\, and professional service providers).  It’s a small thank you to show our appreciation for all their hard work. \nThis year we plan to host the luncheon on the last full day prior to the school’s winter break\, Thursday\, December. 18th. The CLU PTO will provide the main course\, and we are asking parents to help augment the luncheon with sides\, salads\, desserts\, beverages\, and set-up items.  We are coordinating contributions via the “Perfect Potluck” website and would welcome families signing-up by Monday\, December 15th: \n\nClick here to access Perfect Potluck\nEnter login information (coordinator last name = baxter; password = cflu)\nEnter your personal information under a contribution heading that interests you\n\nThanks in advance for helping to acknowledge the staff for all their amazing care for our students!
URL:https://cflu.org/event/staff-appreciation-luncheon/
LOCATION:CLU Kitchen
END:VEVENT
BEGIN:VEVENT
DTSTART;TZID=America/Los_Angeles:20141216T100000
DTEND;TZID=America/Los_Angeles:20141216T120000
DTSTAMP:20260423T054236
CREATED:20141211T200732Z
LAST-MODIFIED:20141211T200732Z
UID:2453-1418724000-1418731200@cflu.org
SUMMARY:Torrance Farmer's Market (PMP)
DESCRIPTION:These outings will be used for our PMP students to practice consumer skills.
URL:https://cflu.org/event/torrance-farmers-market-pmp-2/
LOCATION:Torrance Certified Farmer’s Market
END:VEVENT
BEGIN:VEVENT
DTSTART;TZID=America/Los_Angeles:20141215T083000
DTEND;TZID=America/Los_Angeles:20141215T093000
DTSTAMP:20260423T054236
CREATED:20140729T223620Z
LAST-MODIFIED:20140729T223620Z
UID:2235-1418632200-1418635800@cflu.org
SUMMARY:Staff Development (9:30 a.m. school start time)
DESCRIPTION:
URL:https://cflu.org/event/staff-development-930-a-m-school-start-time-14/
END:VEVENT
BEGIN:VEVENT
DTSTART;TZID=America/Los_Angeles:20141212T123000
DTEND;TZID=America/Los_Angeles:20141212T140000
DTSTAMP:20260423T054236
CREATED:20141205T055655Z
LAST-MODIFIED:20141205T055655Z
UID:2442-1418387400-1418392800@cflu.org
SUMMARY:Madrona Marsh Hike (PMP)
DESCRIPTION:Students will be enjoying some low impact exercise at the Madrona Marsh.
URL:https://cflu.org/event/madrona-marsh-hike-pmp-2/
LOCATION:Madrona Marsh
END:VEVENT
BEGIN:VEVENT
DTSTART;TZID=America/Los_Angeles:20141211T153000
DTEND;TZID=America/Los_Angeles:20141211T173000
DTSTAMP:20260423T054236
CREATED:20140903T173634Z
LAST-MODIFIED:20140903T173634Z
UID:2298-1418311800-1418319000@cflu.org
SUMMARY:RAP - Winter Fun (Winter Nature Hike)
DESCRIPTION:Participants will do the Bluff Cove hike again to collect pine cones for a decorative tree making craft. \nThe Center’s Relationship Activity Program (RAP) emphasizes episodic memory work and offers opportunities to practice the relationship building skills that are crucial in our student’s success.  This program is a good match for middle school/early high school age students who have difficulty with making friends\, are isolated from peers/adults\, or who have had poor outcome from other social skills training. \nTo sign-up for RAP or if you have any questions\, please contact Jasmine Otero.
URL:https://cflu.org/event/rap-winter-fun-winter-nature-hike/
ORGANIZER;CN="Jasmine Otero":MAILTO:Jotero@cflu.org
END:VEVENT
BEGIN:VEVENT
DTSTART;TZID=America/Los_Angeles:20141211T103000
DTEND;TZID=America/Los_Angeles:20141211T120000
DTSTAMP:20260423T054236
CREATED:20141205T054443Z
LAST-MODIFIED:20141205T054443Z
UID:2438-1418293800-1418299200@cflu.org
SUMMARY:Library Field Trip (Lower and Middle School)
DESCRIPTION:Students and staff will be visiting a local library in the morning and will return to the CLU campus by lunchtime.
URL:https://cflu.org/event/library-field-trip-lower-and-middle-school/
END:VEVENT
BEGIN:VEVENT
DTSTART;VALUE=DATE:20141210
DTEND;VALUE=DATE:20141211
DTSTAMP:20260423T054236
CREATED:20141203T190034Z
LAST-MODIFIED:20141203T190034Z
UID:2432-1418169600-1418255999@cflu.org
SUMMARY:Holiday Wreath Making Project
DESCRIPTION:In preparation for the holidays\, CLU is hosting a student wreath making project in lieu of our weekly Art Wednesday sessions with Ms. Lisa.  A special thanks to CLU parent Dyan Gregg for her help with this activity! \n 
URL:https://cflu.org/event/holiday-wreath-making-project/
LOCATION:CLU Campus
END:VEVENT
BEGIN:VEVENT
DTSTART;TZID=America/Los_Angeles:20141209T100000
DTEND;TZID=America/Los_Angeles:20141209T120000
DTSTAMP:20260423T054236
CREATED:20141205T055459Z
LAST-MODIFIED:20141205T055459Z
UID:2439-1418119200-1418126400@cflu.org
SUMMARY:Torrance Farmer's Market (Torrance)
DESCRIPTION:These outings will be used for our PMP students to practice consumer skills.
URL:https://cflu.org/event/torrance-farmers-market-torrance/
LOCATION:Torrance Certified Farmer’s Market
END:VEVENT
BEGIN:VEVENT
DTSTART;TZID=America/Los_Angeles:20141208T083000
DTEND;TZID=America/Los_Angeles:20141208T093000
DTSTAMP:20260423T054236
CREATED:20140729T223549Z
LAST-MODIFIED:20140729T223549Z
UID:2234-1418027400-1418031000@cflu.org
SUMMARY:Staff Development (9:30 a.m. school start time)
DESCRIPTION:
URL:https://cflu.org/event/staff-development-930-a-m-school-start-time-13/
END:VEVENT
BEGIN:VEVENT
DTSTART;TZID=America/Los_Angeles:20141205T123000
DTEND;TZID=America/Los_Angeles:20141205T140000
DTSTAMP:20260423T054236
CREATED:20141125T042056Z
LAST-MODIFIED:20141125T042056Z
UID:2430-1417782600-1417788000@cflu.org
SUMMARY:Madrona Marsh Hike (PMP)
DESCRIPTION:Students will be enjoying some low impact exercise at the Madrona Marsh.
URL:https://cflu.org/event/madrona-marsh-hike-pmp/
END:VEVENT
END:VCALENDAR