BEGIN:VCALENDAR
VERSION:2.0
PRODID:-//The Center for Learning Unlimited - ECPv6.10.1//NONSGML v1.0//EN
CALSCALE:GREGORIAN
METHOD:PUBLISH
X-WR-CALNAME:The Center for Learning Unlimited
X-ORIGINAL-URL:https://cflu.org
X-WR-CALDESC:Events for The Center for Learning Unlimited
REFRESH-INTERVAL;VALUE=DURATION:PT1H
X-Robots-Tag:noindex
X-PUBLISHED-TTL:PT1H
BEGIN:VTIMEZONE
TZID:America/Los_Angeles
BEGIN:DAYLIGHT
TZOFFSETFROM:-0800
TZOFFSETTO:-0700
TZNAME:PDT
DTSTART:20140309T100000
END:DAYLIGHT
BEGIN:STANDARD
TZOFFSETFROM:-0700
TZOFFSETTO:-0800
TZNAME:PST
DTSTART:20141102T090000
END:STANDARD
END:VTIMEZONE
BEGIN:VEVENT
DTSTART;VALUE=DATE:20141210
DTEND;VALUE=DATE:20141211
DTSTAMP:20260423T160530
CREATED:20141203T190034Z
LAST-MODIFIED:20141203T190034Z
UID:2432-1418169600-1418255999@cflu.org
SUMMARY:Holiday Wreath Making Project
DESCRIPTION:In preparation for the holidays\, CLU is hosting a student wreath making project in lieu of our weekly Art Wednesday sessions with Ms. Lisa.  A special thanks to CLU parent Dyan Gregg for her help with this activity! \n 
URL:https://cflu.org/event/holiday-wreath-making-project/
LOCATION:CLU Campus
END:VEVENT
BEGIN:VEVENT
DTSTART;TZID=America/Los_Angeles:20141209T100000
DTEND;TZID=America/Los_Angeles:20141209T120000
DTSTAMP:20260423T160531
CREATED:20141205T055459Z
LAST-MODIFIED:20141205T055459Z
UID:2439-1418119200-1418126400@cflu.org
SUMMARY:Torrance Farmer's Market (Torrance)
DESCRIPTION:These outings will be used for our PMP students to practice consumer skills.
URL:https://cflu.org/event/torrance-farmers-market-torrance/
LOCATION:Torrance Certified Farmer’s Market
END:VEVENT
BEGIN:VEVENT
DTSTART;TZID=America/Los_Angeles:20141208T083000
DTEND;TZID=America/Los_Angeles:20141208T093000
DTSTAMP:20260423T160531
CREATED:20140729T223549Z
LAST-MODIFIED:20140729T223549Z
UID:2234-1418027400-1418031000@cflu.org
SUMMARY:Staff Development (9:30 a.m. school start time)
DESCRIPTION:
URL:https://cflu.org/event/staff-development-930-a-m-school-start-time-13/
LOCATION:CA
END:VEVENT
BEGIN:VEVENT
DTSTART;TZID=America/Los_Angeles:20141205T123000
DTEND;TZID=America/Los_Angeles:20141205T140000
DTSTAMP:20260423T160531
CREATED:20141125T042056Z
LAST-MODIFIED:20141125T042056Z
UID:2430-1417782600-1417788000@cflu.org
SUMMARY:Madrona Marsh Hike (PMP)
DESCRIPTION:Students will be enjoying some low impact exercise at the Madrona Marsh.
URL:https://cflu.org/event/madrona-marsh-hike-pmp/
LOCATION:CA
END:VEVENT
BEGIN:VEVENT
DTSTART;TZID=America/Los_Angeles:20141204T153000
DTEND;TZID=America/Los_Angeles:20141204T173000
DTSTAMP:20260423T160531
CREATED:20140903T173435Z
LAST-MODIFIED:20140903T173435Z
UID:2296-1417707000-1417714200@cflu.org
SUMMARY:RAP - Winter Fun (Holiday Ornaments and Gingerbread Cookies)
DESCRIPTION:Participants will spend time making holiday arts and crafts. \nThe Center’s Relationship Activity Program (RAP) emphasizes episodic memory work and offers opportunities to practice the relationship building skills that are crucial in our student’s success.  This program is a good match for middle school/early high school age students who have difficulty with making friends\, are isolated from peers/adults\, or who have had poor outcome from other social skills training. \nTo sign-up for RAP or if you have any questions\, please contact Jasmine Otero.
URL:https://cflu.org/event/rap-winter-fun-holiday-ornaments-and-gingerbread-cookies-2/
LOCATION:CA
ORGANIZER;CN="Jasmine Otero":MAILTO:Jotero@cflu.org
END:VEVENT
BEGIN:VEVENT
DTSTART;TZID=America/Los_Angeles:20141202T100000
DTEND;TZID=America/Los_Angeles:20141202T120000
DTSTAMP:20260423T160531
CREATED:20141125T041916Z
LAST-MODIFIED:20141125T041916Z
UID:2429-1417514400-1417521600@cflu.org
SUMMARY:Torrance Farmer's Market (PMP)
DESCRIPTION:These outings will be used for our PMP students to practice consumer skills.
URL:https://cflu.org/event/torrance-farmers-market-pmp/
LOCATION:CA
END:VEVENT
BEGIN:VEVENT
DTSTART;TZID=America/Los_Angeles:20141201T083000
DTEND;TZID=America/Los_Angeles:20141201T093000
DTSTAMP:20260423T160531
CREATED:20140729T223521Z
LAST-MODIFIED:20140729T223521Z
UID:2233-1417422600-1417426200@cflu.org
SUMMARY:Staff Development (9:30 a.m. school start time)
DESCRIPTION:
URL:https://cflu.org/event/staff-development-930-a-m-school-start-time-12/
LOCATION:CA
END:VEVENT
BEGIN:VEVENT
DTSTART;VALUE=DATE:20141128
DTEND;VALUE=DATE:20141129
DTSTAMP:20260423T160531
CREATED:20140714T223001Z
LAST-MODIFIED:20140714T223001Z
UID:2176-1417132800-1417219199@cflu.org
SUMMARY:School Closed
DESCRIPTION:
URL:https://cflu.org/event/school-closed-2/
LOCATION:CA
END:VEVENT
BEGIN:VEVENT
DTSTART;VALUE=DATE:20141127
DTEND;VALUE=DATE:20141128
DTSTAMP:20260423T160531
CREATED:20140714T222938Z
LAST-MODIFIED:20140714T222938Z
UID:2175-1417046400-1417132799@cflu.org
SUMMARY:Thanksgiving (School Closed)
DESCRIPTION:
URL:https://cflu.org/event/thanksgiving-school-closed-3/
LOCATION:CA
END:VEVENT
BEGIN:VEVENT
DTSTART;TZID=America/Los_Angeles:20141126T130000
DTEND;TZID=America/Los_Angeles:20141126T130000
DTSTAMP:20260423T160531
CREATED:20140714T222912Z
LAST-MODIFIED:20140714T222912Z
UID:2174-1417006800-1417006800@cflu.org
SUMMARY:Min. Day (1:00 p.m. Dismissal)
DESCRIPTION:Please share this early pick-up time with caregivers or drivers for their awareness.
URL:https://cflu.org/event/min-day-100-p-m-dismissal-3/
LOCATION:CA
END:VEVENT
BEGIN:VEVENT
DTSTART;TZID=America/Los_Angeles:20141124T083000
DTEND;TZID=America/Los_Angeles:20141124T093000
DTSTAMP:20260423T160531
CREATED:20140729T223419Z
LAST-MODIFIED:20140729T223419Z
UID:2232-1416817800-1416821400@cflu.org
SUMMARY:Staff Development (9:30 a.m. school start time)
DESCRIPTION:
URL:https://cflu.org/event/staff-development-930-a-m-school-start-time-11/
LOCATION:CA
END:VEVENT
BEGIN:VEVENT
DTSTART;TZID=America/Los_Angeles:20141121T130000
DTEND;TZID=America/Los_Angeles:20141121T130000
DTSTAMP:20260423T160531
CREATED:20140714T222754Z
LAST-MODIFIED:20140714T222754Z
UID:2173-1416574800-1416574800@cflu.org
SUMMARY:Parent Conferences (Min. Day - 1:00 p.m. Dismissal)
DESCRIPTION:Please share this early pick-up time with caregivers or drivers for their awareness.
URL:https://cflu.org/event/parent-conferences-min-day-100-p-m-dismissal-3/
LOCATION:CA
END:VEVENT
BEGIN:VEVENT
DTSTART;TZID=America/Los_Angeles:20141121T103000
DTEND;TZID=America/Los_Angeles:20141121T123000
DTSTAMP:20260423T160531
CREATED:20141106T191610Z
LAST-MODIFIED:20141106T191610Z
UID:2402-1416565800-1416573000@cflu.org
SUMMARY:Torrance Art Museum Field Trip (Upper School)
DESCRIPTION:Students will spend time at the Torrance Art Museum viewing the South Bay Focus 2014 exhibit.
URL:https://cflu.org/event/torrance-art-museum-field-trip-upper-school/
LOCATION:Torrance Art Museum
END:VEVENT
BEGIN:VEVENT
DTSTART;TZID=America/Los_Angeles:20141121T100000
DTEND;TZID=America/Los_Angeles:20141121T120000
DTSTAMP:20260423T160531
CREATED:20141114T011126Z
LAST-MODIFIED:20141114T011126Z
UID:2425-1416564000-1416571200@cflu.org
SUMMARY:Long Beach Farmer's Market (PMP)
DESCRIPTION:These outings will be used for our PMP students to practice consumer skills.
URL:https://cflu.org/event/long-beach-farmers-market-pmp-2/
LOCATION:Long Beach Farmer’s Market
END:VEVENT
BEGIN:VEVENT
DTSTART;TZID=America/Los_Angeles:20141120T130000
DTEND;TZID=America/Los_Angeles:20141120T130000
DTSTAMP:20260423T160531
CREATED:20140714T222717Z
LAST-MODIFIED:20140714T222717Z
UID:2172-1416488400-1416488400@cflu.org
SUMMARY:Parent Conferences (Min. Day - 1:00 p.m. Dismissal)
DESCRIPTION:Please share this early pick-up time with caregivers or drivers for their awareness.
URL:https://cflu.org/event/parent-conferences-min-day-100-p-m-dismissal-2/
LOCATION:CA
END:VEVENT
BEGIN:VEVENT
DTSTART;TZID=America/Los_Angeles:20141120T110000
DTEND;TZID=America/Los_Angeles:20141120T130000
DTSTAMP:20260423T160531
CREATED:20141113T203238Z
LAST-MODIFIED:20141113T203411Z
UID:2424-1416481200-1416488400@cflu.org
SUMMARY:Art At Your Fingertips (Lower School)
DESCRIPTION:Art at Your Fingertips (AAYF) is the Palos Verdes Art Center’s visual arts outreach program which brings standards-based education to local schools and aims to help participants feel comfortable using art as a means of expression.  Thanks to the generosity of a private CLU donor\, we will be offering AAYF to all CLU students at various times throughout the 2014-2015 school year. \nParents: We will offer and encourage students to wear aprons during this session\, but not all students choose to wear the apron as suggested. Please encourage your student to wear  “slop” clothes for art project sessions (all Wednesdays and  select AAYF sessions).
URL:https://cflu.org/event/art-at-your-fingertips-lower-school/
LOCATION:CA
END:VEVENT
BEGIN:VEVENT
DTSTART;TZID=America/Los_Angeles:20141120T090000
DTEND;TZID=America/Los_Angeles:20141120T110000
DTSTAMP:20260423T160531
CREATED:20141113T203051Z
LAST-MODIFIED:20141113T203351Z
UID:2423-1416474000-1416481200@cflu.org
SUMMARY:Art At Your Fingertips (PMP)
DESCRIPTION:Art at Your Fingertips (AAYF) is the Palos Verdes Art Center’s visual arts outreach program which brings standards-based education to local schools and aims to help participants feel comfortable using art as a means of expression.  Thanks to the generosity of a private CLU donor\, we will be offering AAYF to all CLU students at various times throughout the 2014-2015 school year. \nParents: We will offer and encourage students to wear aprons during this session\, but not all students choose to wear the apron as suggested. Please encourage your student to wear  “slop” clothes for art project sessions (all Wednesdays and  select AAYF sessions).
URL:https://cflu.org/event/aayf-pmp/
LOCATION:CA
END:VEVENT
BEGIN:VEVENT
DTSTART;TZID=America/Los_Angeles:20141119T130000
DTEND;TZID=America/Los_Angeles:20141119T130000
DTSTAMP:20260423T160531
CREATED:20140714T222635Z
LAST-MODIFIED:20140714T222635Z
UID:2171-1416402000-1416402000@cflu.org
SUMMARY:Parent Conferences (Min. Day - 1:00 p.m. Dismissal)
DESCRIPTION:Please share this early pick-up time with caregivers or drivers for their awareness.
URL:https://cflu.org/event/parent-conferences-min-day-100-p-m-dismissal/
LOCATION:CA
END:VEVENT
BEGIN:VEVENT
DTSTART;TZID=America/Los_Angeles:20141119T103000
DTEND;TZID=America/Los_Angeles:20141119T123000
DTSTAMP:20260423T160531
CREATED:20141106T191847Z
LAST-MODIFIED:20141106T204658Z
UID:2405-1416393000-1416400200@cflu.org
SUMMARY:Torrance Art Museum Field Trip (Lower/Middle Schools)
DESCRIPTION:Students will spend time at the Torrance Art Museum viewing the South Bay Focus 2014 exhibit. \nPlease send students with a sack lunch.
URL:https://cflu.org/event/tor-art-m-lwrmid-sch/
LOCATION:Torrance Art Museum
END:VEVENT
BEGIN:VEVENT
DTSTART;TZID=America/Los_Angeles:20141119T090000
DTEND;TZID=America/Los_Angeles:20141119T110000
DTSTAMP:20260423T160531
CREATED:20141113T202716Z
LAST-MODIFIED:20141113T203431Z
UID:2422-1416387600-1416394800@cflu.org
SUMMARY:Art At Your Finger Tips (Upper School)
DESCRIPTION:Art at Your Fingertips (AAYF) is the Palos Verdes Art Center’s visual arts outreach program which brings standards-based education to local schools and aims to help participants feel comfortable using art as a means of expression.  Thanks to the generosity of a private CLU donor\, we will be offering AAYF to all CLU students at various times throughout the 2014-2015 school year. \nParents: We will offer and encourage students to wear aprons during this session\, but not all students choose to wear the apron as suggested. Please encourage your student to wear  “slop” clothes for art project sessions (all Wednesdays and  select AAYF sessions).
URL:https://cflu.org/event/art-at-your-finger-tips-upper-school/
LOCATION:CA
END:VEVENT
BEGIN:VEVENT
DTSTART;TZID=America/Los_Angeles:20141118T123000
DTEND;TZID=America/Los_Angeles:20141118T140000
DTSTAMP:20260423T160531
CREATED:20141106T204600Z
LAST-MODIFIED:20141106T204615Z
UID:2419-1416313800-1416319200@cflu.org
SUMMARY:Torrance Art Museum Field Trip (PMP)
DESCRIPTION:Students will spend time at the Torrance Art Museum viewing the South Bay Focus 2014 exhibit.
URL:https://cflu.org/event/torr-pmp/
LOCATION:Torrance Art Museum
END:VEVENT
BEGIN:VEVENT
DTSTART;TZID=America/Los_Angeles:20141118T103000
DTEND;TZID=America/Los_Angeles:20141118T120000
DTSTAMP:20260423T160531
CREATED:20140714T220106Z
LAST-MODIFIED:20141113T184916Z
UID:2153-1416306600-1416312000@cflu.org
SUMMARY:Torrance Certified Farmer's Market (Lower and Middle Schools)
DESCRIPTION:Students will be spending time at the Torrance Certified Farmer’s Market. Staff and students will have an opportunity to talk with local farmers\, sample tasty fare\, and browse a wide selection of cut flowers and nursery stock. Students will return to CLU around lunchtime. \nPer your parental discretion\, students are welcome to bring money to purchase items. Please place monies in a sealed envelope with your student’s name on it.
URL:https://cflu.org/event/torrance-certified-farmers-market-lower-school-6/
LOCATION:Wilson Park
END:VEVENT
BEGIN:VEVENT
DTSTART;TZID=America/Los_Angeles:20141117T083000
DTEND;TZID=America/Los_Angeles:20141117T093000
DTSTAMP:20260423T160531
CREATED:20140729T223348Z
LAST-MODIFIED:20140729T223348Z
UID:2231-1416213000-1416216600@cflu.org
SUMMARY:Staff Development (9:30 a.m. school start time)
DESCRIPTION:
URL:https://cflu.org/event/staff-development-930-a-m-school-start-time-10/
LOCATION:CA
END:VEVENT
BEGIN:VEVENT
DTSTART;TZID=America/Los_Angeles:20141116T100000
DTEND;TZID=America/Los_Angeles:20141116T150000
DTSTAMP:20260423T160531
CREATED:20141106T184141Z
LAST-MODIFIED:20141106T184141Z
UID:2395-1416132000-1416150000@cflu.org
SUMMARY:"All Hands" CLU Campus Family Workday
DESCRIPTION:The CLU PTO is coordinating an “All Hands” CLU Family workday on Sunday\, November 16th\,  from 10:00 a.m. – 3:00 p.m. to  help keep our campus beautiful and in good working order.  CLU families and friends are welcome to join for the whole time or come as you are able.
URL:https://cflu.org/event/all-hands-clu-campus-family-workday/
LOCATION:CLU Garden and Outdoor Space
END:VEVENT
BEGIN:VEVENT
DTSTART;TZID=America/Los_Angeles:20141114T100000
DTEND;TZID=America/Los_Angeles:20141114T120000
DTSTAMP:20260423T160531
CREATED:20141106T200711Z
LAST-MODIFIED:20141106T200711Z
UID:2416-1415959200-1415966400@cflu.org
SUMMARY:Long Beach Farmer's Market (PMP)
DESCRIPTION:These outings will be used for our PMP students to practice consumer skills.
URL:https://cflu.org/event/long-beach-farmers-market-pmp/
LOCATION:Long Beach Farmer’s Market
END:VEVENT
BEGIN:VEVENT
DTSTART;TZID=America/Los_Angeles:20141113T153000
DTEND;TZID=America/Los_Angeles:20141113T173000
DTSTAMP:20260423T160531
CREATED:20140903T172543Z
LAST-MODIFIED:20140903T172543Z
UID:2288-1415892600-1415899800@cflu.org
SUMMARY:RAP - Giving Month (Mosaic Fall Art)
DESCRIPTION:Participants will create mosaic art utilizing beans and rice. \nThe Center’s Relationship Activity Program (RAP) emphasizes episodic memory work and offers opportunities to practice the relationship building skills that are crucial in our student’s success.  This program is a good match for middle school/early high school age students who have difficulty with making friends\, are isolated from peers/adults\, or who have had poor outcome from other social skills training. \nTo sign-up for RAP or if you have any questions\, please contact Jasmine Otero.
URL:https://cflu.org/event/rap-giving-month-mosaic-fall-art/
LOCATION:CA
ORGANIZER;CN="Jasmine Otero":MAILTO:Jotero@cflu.org
END:VEVENT
BEGIN:VEVENT
DTSTART;TZID=America/Los_Angeles:20141113T103000
DTEND;TZID=America/Los_Angeles:20141113T120000
DTSTAMP:20260423T160531
CREATED:20141106T194123Z
LAST-MODIFIED:20141106T194123Z
UID:2411-1415874600-1415880000@cflu.org
SUMMARY:Library Field Trip (Lower and Middle Schools)
DESCRIPTION:Students and staff will be visiting a local library in the morning and will return to the CLU campus by lunchtime. \nParents please remember to return your student’s library card application and field trip permission slip by Tuesday\, November 11th.
URL:https://cflu.org/event/library-field-trip-lower-and-middle-schools/
LOCATION:CA
END:VEVENT
BEGIN:VEVENT
DTSTART;TZID=America/Los_Angeles:20141111T123000
DTEND;TZID=America/Los_Angeles:20141111T143000
DTSTAMP:20260423T160531
CREATED:20141106T200550Z
LAST-MODIFIED:20141107T050256Z
UID:2413-1415709000-1415716200@cflu.org
SUMMARY:Mulligan Family Fun Center (PMP)
DESCRIPTION:PMP students will be departing from the CLU  campus for this leisure event after eating lunch.
URL:https://cflu.org/event/mulligans-family-fun-center-pmp/
LOCATION:Mulligan’s Family Fun Center\, Torrance
END:VEVENT
BEGIN:VEVENT
DTSTART;VALUE=DATE:20141111
DTEND;VALUE=DATE:20141112
DTSTAMP:20260423T160531
CREATED:20141106T193805Z
LAST-MODIFIED:20141106T193805Z
UID:2408-1415664000-1415750399@cflu.org
SUMMARY:Giving Back: Beach Clean-Up (Lower and Middle Schools)
DESCRIPTION:CLU’s campus-wide theme during November and December is “giving back.”  Students will work together to clean a local beach and collect beach finds (e.g.\, shells\, bottle caps\, etc) for their upcoming Watt’s Tower project. \nParents\, please pack a snack in a paper bag as we will eat our snacks at the beach and remember to return your student’s permission slip by Tuesday\, November 11th.
URL:https://cflu.org/event/giving-back-beach-clean-up-lower-and-middle-schools/
LOCATION:Redondo Beach
END:VEVENT
BEGIN:VEVENT
DTSTART;VALUE=DATE:20141110
DTEND;VALUE=DATE:20141111
DTSTAMP:20260423T160531
CREATED:20140714T222513Z
LAST-MODIFIED:20141029T200126Z
UID:2170-1415577600-1415663999@cflu.org
SUMMARY:Veterans Day (School Closed)
DESCRIPTION:
URL:https://cflu.org/event/veterans-day-school-closed-2/
LOCATION:CA
END:VEVENT
END:VCALENDAR