BEGIN:VCALENDAR
VERSION:2.0
PRODID:-//The Center for Learning Unlimited - ECPv6.10.1//NONSGML v1.0//EN
CALSCALE:GREGORIAN
METHOD:PUBLISH
X-WR-CALNAME:The Center for Learning Unlimited
X-ORIGINAL-URL:https://cflu.org
X-WR-CALDESC:Events for The Center for Learning Unlimited
REFRESH-INTERVAL;VALUE=DURATION:PT1H
X-Robots-Tag:noindex
X-PUBLISHED-TTL:PT1H
BEGIN:VTIMEZONE
TZID:America/Los_Angeles
BEGIN:DAYLIGHT
TZOFFSETFROM:-0800
TZOFFSETTO:-0700
TZNAME:PDT
DTSTART:20140309T100000
END:DAYLIGHT
BEGIN:STANDARD
TZOFFSETFROM:-0700
TZOFFSETTO:-0800
TZNAME:PST
DTSTART:20141102T090000
END:STANDARD
END:VTIMEZONE
BEGIN:VEVENT
DTSTART;TZID=America/Los_Angeles:20141114T100000
DTEND;TZID=America/Los_Angeles:20141114T120000
DTSTAMP:20260423T152833
CREATED:20141106T200711Z
LAST-MODIFIED:20141106T200711Z
UID:2416-1415959200-1415966400@cflu.org
SUMMARY:Long Beach Farmer's Market (PMP)
DESCRIPTION:These outings will be used for our PMP students to practice consumer skills.
URL:https://cflu.org/event/long-beach-farmers-market-pmp/
LOCATION:Long Beach Farmer’s Market
END:VEVENT
BEGIN:VEVENT
DTSTART;TZID=America/Los_Angeles:20141113T153000
DTEND;TZID=America/Los_Angeles:20141113T173000
DTSTAMP:20260423T152833
CREATED:20140903T172543Z
LAST-MODIFIED:20140903T172543Z
UID:2288-1415892600-1415899800@cflu.org
SUMMARY:RAP - Giving Month (Mosaic Fall Art)
DESCRIPTION:Participants will create mosaic art utilizing beans and rice. \nThe Center’s Relationship Activity Program (RAP) emphasizes episodic memory work and offers opportunities to practice the relationship building skills that are crucial in our student’s success.  This program is a good match for middle school/early high school age students who have difficulty with making friends\, are isolated from peers/adults\, or who have had poor outcome from other social skills training. \nTo sign-up for RAP or if you have any questions\, please contact Jasmine Otero.
URL:https://cflu.org/event/rap-giving-month-mosaic-fall-art/
ORGANIZER;CN="Jasmine Otero":MAILTO:Jotero@cflu.org
END:VEVENT
BEGIN:VEVENT
DTSTART;TZID=America/Los_Angeles:20141113T103000
DTEND;TZID=America/Los_Angeles:20141113T120000
DTSTAMP:20260423T152833
CREATED:20141106T194123Z
LAST-MODIFIED:20141106T194123Z
UID:2411-1415874600-1415880000@cflu.org
SUMMARY:Library Field Trip (Lower and Middle Schools)
DESCRIPTION:Students and staff will be visiting a local library in the morning and will return to the CLU campus by lunchtime. \nParents please remember to return your student’s library card application and field trip permission slip by Tuesday\, November 11th.
URL:https://cflu.org/event/library-field-trip-lower-and-middle-schools/
END:VEVENT
BEGIN:VEVENT
DTSTART;TZID=America/Los_Angeles:20141111T123000
DTEND;TZID=America/Los_Angeles:20141111T143000
DTSTAMP:20260423T152833
CREATED:20141106T200550Z
LAST-MODIFIED:20141107T050256Z
UID:2413-1415709000-1415716200@cflu.org
SUMMARY:Mulligan Family Fun Center (PMP)
DESCRIPTION:PMP students will be departing from the CLU  campus for this leisure event after eating lunch.
URL:https://cflu.org/event/mulligans-family-fun-center-pmp/
LOCATION:Mulligan’s Family Fun Center\, Torrance
END:VEVENT
BEGIN:VEVENT
DTSTART;VALUE=DATE:20141111
DTEND;VALUE=DATE:20141112
DTSTAMP:20260423T152833
CREATED:20141106T193805Z
LAST-MODIFIED:20141106T193805Z
UID:2408-1415664000-1415750399@cflu.org
SUMMARY:Giving Back: Beach Clean-Up (Lower and Middle Schools)
DESCRIPTION:CLU’s campus-wide theme during November and December is “giving back.”  Students will work together to clean a local beach and collect beach finds (e.g.\, shells\, bottle caps\, etc) for their upcoming Watt’s Tower project. \nParents\, please pack a snack in a paper bag as we will eat our snacks at the beach and remember to return your student’s permission slip by Tuesday\, November 11th.
URL:https://cflu.org/event/giving-back-beach-clean-up-lower-and-middle-schools/
LOCATION:Redondo Beach
END:VEVENT
BEGIN:VEVENT
DTSTART;VALUE=DATE:20141110
DTEND;VALUE=DATE:20141111
DTSTAMP:20260423T152833
CREATED:20140714T222513Z
LAST-MODIFIED:20141029T200126Z
UID:2170-1415577600-1415663999@cflu.org
SUMMARY:Veterans Day (School Closed)
DESCRIPTION:
URL:https://cflu.org/event/veterans-day-school-closed-2/
END:VEVENT
BEGIN:VEVENT
DTSTART;TZID=America/Los_Angeles:20141107T130000
DTEND;TZID=America/Los_Angeles:20141107T130000
DTSTAMP:20260423T152833
CREATED:20140714T222422Z
LAST-MODIFIED:20140714T222422Z
UID:2169-1415365200-1415365200@cflu.org
SUMMARY:Min. Day (1:00 p.m. Dismissal)
DESCRIPTION:Please share this early pick-up time with caregivers or drivers for their awareness.
URL:https://cflu.org/event/min-day-100-p-m-dismissal-2/
END:VEVENT
BEGIN:VEVENT
DTSTART;TZID=America/Los_Angeles:20141106T153000
DTEND;TZID=America/Los_Angeles:20141106T173000
DTSTAMP:20260423T152833
CREATED:20140903T172417Z
LAST-MODIFIED:20140903T172417Z
UID:2286-1415287800-1415295000@cflu.org
SUMMARY:RAP - Giving Month (No Sew Blankets)
DESCRIPTION:Participants will make no sew blankets to donate to a homeless shelter. \nThe Center’s Relationship Activity Program (RAP) emphasizes episodic memory work and offers opportunities to practice the relationship building skills that are crucial in our student’s success.  This program is a good match for middle school/early high school age students who have difficulty with making friends\, are isolated from peers/adults\, or who have had poor outcome from other social skills training. \nTo sign-up for RAP or if you have any questions\, please contact Jasmine Otero.
URL:https://cflu.org/event/rap-giving-month-no-sew-blankets/
ORGANIZER;CN="Jasmine Otero":MAILTO:Jotero@cflu.org
END:VEVENT
BEGIN:VEVENT
DTSTART;TZID=America/Los_Angeles:20141104T103000
DTEND;TZID=America/Los_Angeles:20141104T120000
DTSTAMP:20260423T152833
CREATED:20140714T215855Z
LAST-MODIFIED:20141003T050613Z
UID:2149-1415097000-1415102400@cflu.org
SUMMARY:Torrance Certified Farmer's Market (High School)
DESCRIPTION:Students will be spending time at the Torrance Certified Farmer’s Market. Staff and students will have an opportunity to talk with local farmers\, sample tasty fare\, and browse a wide selection of cut flowers and nursery stock. Students will return to CLU around lunchtime. \nPer your parental discretion\, students are welcome to bring money to purchase items. Please place monies in a sealed envelope with your student’s name on it.
URL:https://cflu.org/event/torrance-certified-farmers-market-middle-school-5/
LOCATION:Wilson Park
END:VEVENT
BEGIN:VEVENT
DTSTART;TZID=America/Los_Angeles:20141103T083000
DTEND;TZID=America/Los_Angeles:20141103T093000
DTSTAMP:20260423T152833
CREATED:20140729T223242Z
LAST-MODIFIED:20140729T223242Z
UID:2229-1415003400-1415007000@cflu.org
SUMMARY:Staff Development (9:30 a.m. school start time)
DESCRIPTION:
URL:https://cflu.org/event/staff-development-930-a-m-school-start-time-8/
END:VEVENT
BEGIN:VEVENT
DTSTART;TZID=America/Los_Angeles:20141031T130000
DTEND;TZID=America/Los_Angeles:20141031T130000
DTSTAMP:20260423T152833
CREATED:20140714T222252Z
LAST-MODIFIED:20140714T222252Z
UID:2168-1414760400-1414760400@cflu.org
SUMMARY:End of Quarter (Min. Day - 1:00 Dismissal)
DESCRIPTION:Please share this early pick-up time with caregivers or drivers for their awareness.
URL:https://cflu.org/event/end-of-quarter-min-day-100-dismissal/
END:VEVENT
BEGIN:VEVENT
DTSTART;TZID=America/Los_Angeles:20141031T100000
DTEND;TZID=America/Los_Angeles:20141031T120000
DTSTAMP:20260423T152833
CREATED:20141023T182211Z
LAST-MODIFIED:20141023T182211Z
UID:2387-1414749600-1414756800@cflu.org
SUMMARY:Long Beach Farmer's Market (PMP only)
DESCRIPTION:These outings will be used for our PMP students to practice consumer skills.
URL:https://cflu.org/event/long-beach-farmers-market-pmp-only/
LOCATION:Long Beach Farmer’s Market
END:VEVENT
BEGIN:VEVENT
DTSTART;TZID=America/Los_Angeles:20141030T153000
DTEND;TZID=America/Los_Angeles:20141030T173000
DTSTAMP:20260423T152833
CREATED:20140903T172152Z
LAST-MODIFIED:20140903T172152Z
UID:2284-1414683000-1414690200@cflu.org
SUMMARY:RAP - Harvest Fest (Play-Dough and Pastry Making)
DESCRIPTION:Participants will make pumpkin scented play dough and bake  sugar cookies. \n\n\nThe Center’s Relationship Activity Program (RAP) emphasizes episodic memory work and offers opportunities to practice the relationship building skills that are crucial in our student’s success.  This program is a good match for middle school/early high school age students who have difficulty with making friends\, are isolated from peers/adults\, or who have had poor outcome from other social skills training. \nTo sign-up for RAP or if you have any questions\, please contact Jasmine Otero.
URL:https://cflu.org/event/rap-harvest-fest-play-dough-and-pastry-making/
ORGANIZER;CN="Jasmine Otero":MAILTO:Jotero@cflu.org
END:VEVENT
BEGIN:VEVENT
DTSTART;VALUE=DATE:20141028
DTEND;VALUE=DATE:20141029
DTSTAMP:20260423T152833
CREATED:20141023T182409Z
LAST-MODIFIED:20141023T182409Z
UID:2390-1414454400-1414540799@cflu.org
SUMMARY:PV Bowling Outing (PMP Only)
DESCRIPTION:PMP parents are welcome to send money with their student so that they can purchase food and/or drink during their outing.  If you choose to do this\, please put the money in a sealed envelope with Mr. Darryl’s name on it so he can ensure that you receive the correct change.
URL:https://cflu.org/event/pv-bowling-outing-pmp-only-2/
LOCATION:PV Bowl
END:VEVENT
BEGIN:VEVENT
DTSTART;TZID=America/Los_Angeles:20141027T083000
DTEND;TZID=America/Los_Angeles:20141027T093000
DTSTAMP:20260423T152833
CREATED:20140729T223111Z
LAST-MODIFIED:20140729T223111Z
UID:2228-1414398600-1414402200@cflu.org
SUMMARY:Staff Development (9:30 a.m. school start time)
DESCRIPTION:
URL:https://cflu.org/event/staff-development-930-a-m-school-start-time-7/
END:VEVENT
BEGIN:VEVENT
DTSTART;TZID=America/Los_Angeles:20141024T100000
DTEND;TZID=America/Los_Angeles:20141024T120000
DTSTAMP:20260423T152833
CREATED:20140904T235208Z
LAST-MODIFIED:20141017T032242Z
UID:2315-1414144800-1414152000@cflu.org
SUMMARY:Long Beach Farmer's Market (PMP only)
DESCRIPTION:These outings will be used for our PMP students to practice consumer skills.
URL:https://cflu.org/event/san-pedro-farmers-market-pmp-only-6/
ORGANIZER;CN="Darryl Coit":MAILTO:darryl@cflu.org
END:VEVENT
BEGIN:VEVENT
DTSTART;TZID=America/Los_Angeles:20141023T153000
DTEND;TZID=America/Los_Angeles:20141023T173000
DTSTAMP:20260423T152833
CREATED:20140903T172022Z
LAST-MODIFIED:20140903T172022Z
UID:2282-1414078200-1414085400@cflu.org
SUMMARY:RAP - Harvest Fest (Science Day)
DESCRIPTION:Participants will make a candy corn volcano and flying ghost rockets. \n\n\nThe Center’s Relationship Activity Program (RAP) emphasizes episodic memory work and offers opportunities to practice the relationship building skills that are crucial in our student’s success.  This program is a good match for middle school/early high school age students who have difficulty with making friends\, are isolated from peers/adults\, or who have had poor outcome from other social skills training. \nTo sign-up for RAP or if you have any questions\, please contact Jasmine Otero.
URL:https://cflu.org/event/rap-harvest-fest-science-day/
ORGANIZER;CN="Jasmine Otero":MAILTO:Jotero@cflu.org
END:VEVENT
BEGIN:VEVENT
DTSTART;TZID=America/Los_Angeles:20141021T103000
DTEND;TZID=America/Los_Angeles:20141021T120000
DTSTAMP:20260423T152833
CREATED:20140714T215654Z
LAST-MODIFIED:20141017T035634Z
UID:2145-1413887400-1413892800@cflu.org
SUMMARY:Torrance Certified Farmer's Market (Lower and Middle School)
DESCRIPTION:Students will be spending time at the Torrance Certified Farmer’s Market. Staff and students will have an opportunity to talk with local farmers\, sample tasty fare\, and browse a wide selection of cut flowers and nursery stock. Students will return to CLU around lunchtime. \nPer your parental discretion\, students are welcome to bring money to purchase items. Please place monies in a sealed envelope with your student’s name on it.
URL:https://cflu.org/event/torrance-certified-farmers-market-upper-school-2/
LOCATION:Wilson Park
END:VEVENT
BEGIN:VEVENT
DTSTART;VALUE=DATE:20141021
DTEND;VALUE=DATE:20141022
DTSTAMP:20260423T152833
CREATED:20141020T175712Z
LAST-MODIFIED:20141020T175712Z
UID:2383-1413849600-1413935999@cflu.org
SUMMARY:PV Bowling Outing (PMP only)
DESCRIPTION:PMP parents are welcome to send money with their student so that they can purchase food and/or drink during their outing.  If you choose to do this\, please put the money in a sealed envelope with Mr. Darryl’s name on it so he can ensure that you receive the correct change.
URL:https://cflu.org/event/pv-bowling-outing-pmp-only/
LOCATION:PV Bowl
END:VEVENT
BEGIN:VEVENT
DTSTART;TZID=America/Los_Angeles:20141020T083000
DTEND;TZID=America/Los_Angeles:20141020T093000
DTSTAMP:20260423T152833
CREATED:20140729T223004Z
LAST-MODIFIED:20140729T223004Z
UID:2227-1413793800-1413797400@cflu.org
SUMMARY:Staff Development (9:30 a.m. school start time)
DESCRIPTION:
URL:https://cflu.org/event/staff-development-930-a-m-school-start-time-6/
END:VEVENT
BEGIN:VEVENT
DTSTART;TZID=America/Los_Angeles:20141017T100000
DTEND;TZID=America/Los_Angeles:20141017T120000
DTSTAMP:20260423T152833
CREATED:20140904T235117Z
LAST-MODIFIED:20140904T235117Z
UID:2313-1413540000-1413547200@cflu.org
SUMMARY:San Pedro Farmer's Market (PMP only)
DESCRIPTION:These outings will be used for our PMP students to practice consumer skills.
URL:https://cflu.org/event/san-pedro-farmers-market-pmp-only-5/
ORGANIZER;CN="Darryl Coit":MAILTO:darryl@cflu.org
END:VEVENT
BEGIN:VEVENT
DTSTART;TZID=America/Los_Angeles:20141017T090000
DTEND;TZID=America/Los_Angeles:20141017T143000
DTSTAMP:20260423T152833
CREATED:20141010T041159Z
LAST-MODIFIED:20141017T032430Z
UID:2372-1413536400-1413556200@cflu.org
SUMMARY:Upper School College Tour (Cal State University\, Dominguez Hills)
DESCRIPTION:Students can bring money to purchase food on the campus\, or bring a sack lunch.
URL:https://cflu.org/event/upper-school-college-tour-cal-state-university-long-beach/
LOCATION:(Cal State University Long Beach)
ORGANIZER;CN="Marcela Vidaure":MAILTO:marcela@cflu.org
END:VEVENT
BEGIN:VEVENT
DTSTART;TZID=America/Los_Angeles:20141016T153000
DTEND;TZID=America/Los_Angeles:20141016T173000
DTSTAMP:20260423T152833
CREATED:20140903T171909Z
LAST-MODIFIED:20140903T171909Z
UID:2280-1413473400-1413480600@cflu.org
SUMMARY:RAP - Harvest Fest (Pumpkin Patch)
DESCRIPTION:Participants will carve and paint pumpkins after going to a locale pumpkin patch. \n\n\nThe Center’s Relationship Activity Program (RAP) emphasizes episodic memory work and offers opportunities to practice the relationship building skills that are crucial in our student’s success.  This program is a good match for middle school/early high school age students who have difficulty with making friends\, are isolated from peers/adults\, or who have had poor outcome from other social skills training. \nTo sign-up for RAP or if you have any questions\, please contact Jasmine Otero.
URL:https://cflu.org/event/rap-harvest-fest-pumpkin-patch/
ORGANIZER;CN="Jasmine Otero":MAILTO:Jotero@cflu.org
END:VEVENT
BEGIN:VEVENT
DTSTART;TZID=America/Los_Angeles:20141014T103000
DTEND;TZID=America/Los_Angeles:20141014T120000
DTSTAMP:20260423T152833
CREATED:20140714T215538Z
LAST-MODIFIED:20141003T050123Z
UID:2143-1413282600-1413288000@cflu.org
SUMMARY:Torrance Certified Farmer's Market (High School)
DESCRIPTION:Students will be spending time at the Torrance Certified Farmer’s Market. Staff and students will have an opportunity to talk with local farmers\, sample tasty fare\, and browse a wide selection of cut flowers and nursery stock. Students will return to CLU around lunchtime. \nPer your parental discretion\, students are welcome to bring money to purchase items. Please place monies in a sealed envelope with your student’s name on it.
URL:https://cflu.org/event/torrance-certified-farmers-market-middle-school-4/
LOCATION:Wilson Park
END:VEVENT
BEGIN:VEVENT
DTSTART;TZID=America/Los_Angeles:20141014T100000
DTEND;TZID=America/Los_Angeles:20141014T120000
DTSTAMP:20260423T152833
CREATED:20141010T042545Z
LAST-MODIFIED:20141010T042545Z
UID:2375-1413280800-1413288000@cflu.org
SUMMARY:PMP South Coast Botanic Garden Trip
DESCRIPTION:
URL:https://cflu.org/event/pmp-south-coast-botanic-garden-trip/
ORGANIZER;CN="Darryl Coit":MAILTO:darryl@cflu.org
END:VEVENT
BEGIN:VEVENT
DTSTART;VALUE=DATE:20141014
DTEND;VALUE=DATE:20141015
DTSTAMP:20260423T152833
CREATED:20140714T221920Z
LAST-MODIFIED:20140714T221920Z
UID:2166-1413244800-1413331199@cflu.org
SUMMARY:School Pictures (Make-up)
DESCRIPTION:
URL:https://cflu.org/event/school-pictures-make-up/
END:VEVENT
BEGIN:VEVENT
DTSTART;VALUE=DATE:20141013
DTEND;VALUE=DATE:20141014
DTSTAMP:20260423T152833
CREATED:20140714T221244Z
LAST-MODIFIED:20140714T221244Z
UID:2161-1413158400-1413244799@cflu.org
SUMMARY:Columbus Day/School Closed for Staff Development
DESCRIPTION:
URL:https://cflu.org/event/columbus-dayschool-closed-for-staff-development/
END:VEVENT
BEGIN:VEVENT
DTSTART;TZID=America/Los_Angeles:20141010T130000
DTEND;TZID=America/Los_Angeles:20141010T130000
DTSTAMP:20260423T152833
CREATED:20140714T221151Z
LAST-MODIFIED:20140714T221151Z
UID:2160-1412946000-1412946000@cflu.org
SUMMARY:Min. Day (1:00 p.m. Dismissal)
DESCRIPTION:Please share this early pick-up time with caregivers or drivers for their awareness.
URL:https://cflu.org/event/min-day-100-p-m-dismissal/
END:VEVENT
BEGIN:VEVENT
DTSTART;TZID=America/Los_Angeles:20141010T100000
DTEND;TZID=America/Los_Angeles:20141010T120000
DTSTAMP:20260423T152833
CREATED:20140904T235024Z
LAST-MODIFIED:20140904T235024Z
UID:2311-1412935200-1412942400@cflu.org
SUMMARY:San Pedro Farmer's Market (PMP only)
DESCRIPTION:These outings will be used for our PMP students to practice consumer skills.
URL:https://cflu.org/event/san-pedro-farmers-market-pmp-only-4/
ORGANIZER;CN="Darryl Coit":MAILTO:darryl@cflu.org
END:VEVENT
BEGIN:VEVENT
DTSTART;TZID=America/Los_Angeles:20141010T090000
DTEND;TZID=America/Los_Angeles:20141010T100000
DTSTAMP:20260423T152833
CREATED:20141002T193707Z
LAST-MODIFIED:20141003T052759Z
UID:2366-1412931600-1412935200@cflu.org
SUMMARY:CLU PTO Meeting
DESCRIPTION:
URL:https://cflu.org/event/clu-pto-meeting-2/
LOCATION:CLU Conference Room
END:VEVENT
END:VCALENDAR