BEGIN:VCALENDAR
VERSION:2.0
PRODID:-//The Center for Learning Unlimited - ECPv6.10.1//NONSGML v1.0//EN
CALSCALE:GREGORIAN
METHOD:PUBLISH
X-WR-CALNAME:The Center for Learning Unlimited
X-ORIGINAL-URL:https://cflu.org
X-WR-CALDESC:Events for The Center for Learning Unlimited
REFRESH-INTERVAL;VALUE=DURATION:PT1H
X-Robots-Tag:noindex
X-PUBLISHED-TTL:PT1H
BEGIN:VTIMEZONE
TZID:America/Los_Angeles
BEGIN:DAYLIGHT
TZOFFSETFROM:-0800
TZOFFSETTO:-0700
TZNAME:PDT
DTSTART:20140309T100000
END:DAYLIGHT
BEGIN:STANDARD
TZOFFSETFROM:-0700
TZOFFSETTO:-0800
TZNAME:PST
DTSTART:20141102T090000
END:STANDARD
END:VTIMEZONE
BEGIN:VEVENT
DTSTART;TZID=America/Los_Angeles:20140922T083000
DTEND;TZID=America/Los_Angeles:20140922T093000
DTSTAMP:20260424T095024
CREATED:20140714T231245Z
LAST-MODIFIED:20140714T231245Z
UID:2210-1411374600-1411378200@cflu.org
SUMMARY:Staff Development (9:30 a.m. school start time)
DESCRIPTION:
URL:https://cflu.org/event/staff-development-930-a-m-school-start-time-3/
END:VEVENT
BEGIN:VEVENT
DTSTART;TZID=America/Los_Angeles:20140920T170000
DTEND;TZID=America/Los_Angeles:20140920T170000
DTSTAMP:20260424T095024
CREATED:20140716T181209Z
LAST-MODIFIED:20140911T201032Z
UID:2213-1411232400-1411232400@cflu.org
SUMMARY:CLU Family Dinner (Rock & Brews)
DESCRIPTION:We had so much fun at the first CLU Family Dinner back in June that we’re making these gatherings a quarterly opportunity going forward.  We have reserved an outside patio on the parking lot side of the restaurant where they do not play music to avoid as much noise as possible. \nWe hope to see you there!
URL:https://cflu.org/event/fm-dr-rck-bws/
LOCATION:Rock & Brews\, 6300 PCH\, Redondo Beach\, 90277
END:VEVENT
BEGIN:VEVENT
DTSTART;TZID=America/Los_Angeles:20140919T100000
DTEND;TZID=America/Los_Angeles:20140919T120000
DTSTAMP:20260424T095024
CREATED:20140904T234723Z
LAST-MODIFIED:20140904T234723Z
UID:2305-1411120800-1411128000@cflu.org
SUMMARY:San Pedro Farmer's Market (PMP only)
DESCRIPTION:These outings will be used for our PMP students to practice consumer skills.
URL:https://cflu.org/event/san-pedro-farmers-market-pmp-only/
ORGANIZER;CN="Darryl Coit":MAILTO:darryl@cflu.org
END:VEVENT
BEGIN:VEVENT
DTSTART;TZID=America/Los_Angeles:20140918T153000
DTEND;TZID=America/Los_Angeles:20140918T173000
DTSTAMP:20260424T095024
CREATED:20140903T053520Z
LAST-MODIFIED:20140903T053520Z
UID:2271-1411054200-1411061400@cflu.org
SUMMARY:RAP - Autumn Fun (Making Bird Houses)
DESCRIPTION:Participants will build and paint bird houses as well as make bird feeders with pine cones to hang outside the garden. \nThe Center’s Relationship Activity Program (RAP) emphasizes episodic memory work and offers opportunities to practice the relationship building skills that are crucial in our student’s success.  This program is a good match for middle school/early high school age students who have difficulty with making friends\, are isolated from peers/adults\, or who have had poor outcome from other social skills training. \nTo sign-up for RAP or if you have any questions\, please contact Jasmine Otero.
URL:https://cflu.org/event/rap-autumn-fun-making-bird-houses/
ORGANIZER;CN="Jasmine Otero":MAILTO:Jotero@cflu.org
END:VEVENT
BEGIN:VEVENT
DTSTART;VALUE=DATE:20140917
DTEND;VALUE=DATE:20140918
DTSTAMP:20260424T095024
CREATED:20140910T233922Z
LAST-MODIFIED:20140910T233922Z
UID:2354-1410912000-1410998399@cflu.org
SUMMARY:Fresh Brothers "Pizza Friday" 1st Semester Payment Deadline
DESCRIPTION:CLU is thrilled to announce that we are teaming with Fresh Brother’s to provide the optional Pizza Friday lunch program.  This program offers pizza\, fruit and juice for purchase each week; participation is done on a semester basis.  Make checks payable to CLU.
URL:https://cflu.org/event/fresh-brothers-pizza-friday-1st-semester-payment-deadline/
END:VEVENT
BEGIN:VEVENT
DTSTART;TZID=America/Los_Angeles:20140916T103000
DTEND;TZID=America/Los_Angeles:20140916T120000
DTSTAMP:20260424T095024
CREATED:20140714T214953Z
LAST-MODIFIED:20140714T214953Z
UID:2134-1410863400-1410868800@cflu.org
SUMMARY:Torrance Certified Farmer's Market (Middle School)
DESCRIPTION:Students will be spending time at the Torrance Certified Farmer’s Market. Staff and students will have an opportunity to talk with local farmers\, sample tasty fare\, and browse a wide selection of cut flowers and nursery stock. Students will return to CLU around lunchtime. \nPer your parental discretion\, students are welcome to bring money to purchase items. Please place monies in a sealed envelope with your student’s name on it.
URL:https://cflu.org/event/torrance-certified-farmers-market-middle-school-2/
LOCATION:Wilson Park
END:VEVENT
BEGIN:VEVENT
DTSTART;TZID=America/Los_Angeles:20140915T083000
DTEND;TZID=America/Los_Angeles:20140915T083000
DTSTAMP:20260424T095024
CREATED:20140714T231156Z
LAST-MODIFIED:20140714T231156Z
UID:2209-1410769800-1410769800@cflu.org
SUMMARY:Staff Development (9:30 a.m. school start time)
DESCRIPTION:
URL:https://cflu.org/event/staff-development-930-a-m-school-start-time-2/
END:VEVENT
BEGIN:VEVENT
DTSTART;TZID=America/Los_Angeles:20140912T100000
DTEND;TZID=America/Los_Angeles:20140912T120000
DTSTAMP:20260424T095024
CREATED:20140904T234536Z
LAST-MODIFIED:20140904T234536Z
UID:2303-1410516000-1410523200@cflu.org
SUMMARY:San Pedro's Farmer's Market (PMP only)
DESCRIPTION:These outings will be used for our PMP students to practice consumer skills.
URL:https://cflu.org/event/san-pedros-farmers-market-pmp-only/
ORGANIZER;CN="Darryl Coit":MAILTO:darryl@cflu.org
END:VEVENT
BEGIN:VEVENT
DTSTART;TZID=America/Los_Angeles:20140911T153000
DTEND;TZID=America/Los_Angeles:20140911T173000
DTSTAMP:20260424T095024
CREATED:20140903T053316Z
LAST-MODIFIED:20140903T053316Z
UID:2268-1410449400-1410456600@cflu.org
SUMMARY:RAP - Autumn Fun (Bluff Cove Hike)
DESCRIPTION:Participants will collect twigs\, pine cones\, stones\, etc. to make a wind chime. \nThe Center’s Relationship Activity Program (RAP) emphasizes episodic memory work and offers opportunities to practice the relationship building skills that are crucial in our student’s success.  This program is a good match for middle school/early high school age students who have difficulty with making friends\, are isolated from peers/adults\, or who have had poor outcome from other social skills training. \nTo sign-up for RAP or if you have any questions\, please contact Jasmine Otero.
URL:https://cflu.org/event/rap-autumn-fun-bluff-cove-hike/
ORGANIZER;CN="Jasmine Otero":MAILTO:Jotero@cflu.org
END:VEVENT
BEGIN:VEVENT
DTSTART;TZID=America/Los_Angeles:20140909T103000
DTEND;TZID=America/Los_Angeles:20140909T120000
DTSTAMP:20260424T095024
CREATED:20140714T214849Z
LAST-MODIFIED:20140714T214849Z
UID:2132-1410258600-1410264000@cflu.org
SUMMARY:Torrance Certified Farmer's Market (Lower School)
DESCRIPTION:Students will be spending time at the Torrance Certified Farmer’s Market. Staff and students will have an opportunity to talk with local farmers\, sample tasty fare\, and browse a wide selection of cut flowers and nursery stock. Students will return to CLU around lunchtime. \nPer your parental discretion\, students are welcome to bring money to purchase items. Please place monies in a sealed envelope with your student’s name on it.
URL:https://cflu.org/event/torrance-certified-farmers-market-lower-school-3/
LOCATION:Wilson Park
END:VEVENT
BEGIN:VEVENT
DTSTART;TZID=America/Los_Angeles:20140909T090000
DTEND;TZID=America/Los_Angeles:20140909T100000
DTSTAMP:20260424T095024
CREATED:20140902T192814Z
LAST-MODIFIED:20140903T052134Z
UID:2263-1410253200-1410256800@cflu.org
SUMMARY:PTO Meeting
DESCRIPTION:If you have not already done so\, please mark your calendars to attend the next CLU PTO meeting on Tuesday\, September 9th\, at 9:00 a.m. in the CLU conference room. \nIf you have questions\, or if this date does not work for your schedule and you’d like to get involved\, please feel free to respond to reach out to the CLU PTO via email at pto@cflu.org \n 
URL:https://cflu.org/event/pto-meeting/
LOCATION:CLU Conference Room
ORGANIZER;CN="CLU PTO":MAILTO:pto@cflu.org
END:VEVENT
BEGIN:VEVENT
DTSTART;TZID=America/Los_Angeles:20140908T083000
DTEND;TZID=America/Los_Angeles:20140908T093000
DTSTAMP:20260424T095024
CREATED:20140714T223950Z
LAST-MODIFIED:20140714T231127Z
UID:2184-1410165000-1410168600@cflu.org
SUMMARY:Staff Development (9:30 a.m. school start time)
DESCRIPTION:
URL:https://cflu.org/event/staff-development-930-a-m-school-start-time/
END:VEVENT
BEGIN:VEVENT
DTSTART;TZID=America/Los_Angeles:20140902T130000
DTEND;TZID=America/Los_Angeles:20140902T130000
DTSTAMP:20260424T095024
CREATED:20140714T220357Z
LAST-MODIFIED:20140714T221024Z
UID:2156-1409662800-1409662800@cflu.org
SUMMARY:First Day of 2014-2015 School Year (Min. Day - 1:00 p.m. Dismissal)
DESCRIPTION:Please share this early pick-up time with caregivers or drivers for their awareness.
URL:https://cflu.org/event/first-day-of-2014-2015-school-year-min-day/
END:VEVENT
BEGIN:VEVENT
DTSTART;VALUE=DATE:20140901
DTEND;VALUE=DATE:20140902
DTSTAMP:20260424T095024
CREATED:20140714T220217Z
LAST-MODIFIED:20140714T220217Z
UID:2155-1409529600-1409615999@cflu.org
SUMMARY:Labor Day (School Closed)
DESCRIPTION:
URL:https://cflu.org/event/labor-day-school-closed-2/
END:VEVENT
BEGIN:VEVENT
DTSTART;TZID=America/Los_Angeles:20140824T110000
DTEND;TZID=America/Los_Angeles:20140824T150000
DTSTAMP:20260424T095024
CREATED:20140716T182152Z
LAST-MODIFIED:20140716T182152Z
UID:2217-1408878000-1408892400@cflu.org
SUMMARY:We Belong Family Festival - Join Us!
DESCRIPTION:
URL:https://cflu.org/event/we-belong-family-festival-join-us/
LOCATION:Temple Menorah\, 1101 Camino Real\, Redondo Beach\, 90277
END:VEVENT
BEGIN:VEVENT
DTSTART;TZID=America/Los_Angeles:20140814T090000
DTEND;TZID=America/Los_Angeles:20140814T160000
DTSTAMP:20260424T095024
CREATED:20140611T043643Z
LAST-MODIFIED:20140611T043643Z
UID:2062-1408006800-1408032000@cflu.org
SUMMARY:Let's Go August! RAP Camp
DESCRIPTION:These week long\, full-day sessions offer opportunities for campers to go out into the community (e.g.\, Aquarium of the Pacific) with highly trained guides who help campers to increase their social skills as well as the more practical skills of purchasing tickets\, ordering meals\, and deciding on other wants and needs during their day. \nFor more information about our 2014 Summertime RAP Camp pricing\, or if you feel like your student could benefit from one of our Summertime RAP Camps\, please contact Gloria Chavez at 310-997-1900.
URL:https://cflu.org/event/lets-go-august-rap-camp-8/
END:VEVENT
BEGIN:VEVENT
DTSTART;TZID=America/Los_Angeles:20140813T090000
DTEND;TZID=America/Los_Angeles:20140813T160000
DTSTAMP:20260424T095024
CREATED:20140611T043615Z
LAST-MODIFIED:20140611T043615Z
UID:2061-1407920400-1407945600@cflu.org
SUMMARY:Let's Go August! RAP Camp
DESCRIPTION:These week long\, full-day sessions offer opportunities for campers to go out into the community (e.g.\, Aquarium of the Pacific) with highly trained guides who help campers to increase their social skills as well as the more practical skills of purchasing tickets\, ordering meals\, and deciding on other wants and needs during their day. \nFor more information about our 2014 Summertime RAP Camp pricing\, or if you feel like your student could benefit from one of our Summertime RAP Camps\, please contact Gloria Chavez at 310-997-1900.
URL:https://cflu.org/event/lets-go-august-rap-camp-7/
END:VEVENT
BEGIN:VEVENT
DTSTART;TZID=America/Los_Angeles:20140812T090000
DTEND;TZID=America/Los_Angeles:20140812T160000
DTSTAMP:20260424T095024
CREATED:20140611T043540Z
LAST-MODIFIED:20140611T043540Z
UID:2060-1407834000-1407859200@cflu.org
SUMMARY:Let's Go August! RAP Camp
DESCRIPTION:These week long\, full-day sessions offer opportunities for campers to go out into the community (e.g.\, Aquarium of the Pacific) with highly trained guides who help campers to increase their social skills as well as the more practical skills of purchasing tickets\, ordering meals\, and deciding on other wants and needs during their day. \nFor more information about our 2014 Summertime RAP Camp pricing\, or if you feel like your student could benefit from one of our Summertime RAP Camps\, please contact Gloria Chavez at 310-997-1900.
URL:https://cflu.org/event/lets-go-august-rap-camp-6/
END:VEVENT
BEGIN:VEVENT
DTSTART;TZID=America/Los_Angeles:20140811T090000
DTEND;TZID=America/Los_Angeles:20140811T160000
DTSTAMP:20260424T095024
CREATED:20140611T043512Z
LAST-MODIFIED:20140611T043512Z
UID:2059-1407747600-1407772800@cflu.org
SUMMARY:Let's Go August! RAP Camp
DESCRIPTION:These week long\, full-day sessions offer opportunities for campers to go out into the community (e.g.\, Aquarium of the Pacific) with highly trained guides who help campers to increase their social skills as well as the more practical skills of purchasing tickets\, ordering meals\, and deciding on other wants and needs during their day. \nFor more information about our 2014 Summertime RAP Camp pricing\, or if you feel like your student could benefit from one of our Summertime RAP Camps\, please contact Gloria Chavez at 310-997-1900.
URL:https://cflu.org/event/lets-go-august-rap-camp-5/
END:VEVENT
BEGIN:VEVENT
DTSTART;TZID=America/Los_Angeles:20140807T090000
DTEND;TZID=America/Los_Angeles:20140807T160000
DTSTAMP:20260424T095024
CREATED:20140611T043358Z
LAST-MODIFIED:20140611T043358Z
UID:2058-1407402000-1407427200@cflu.org
SUMMARY:Let's Go August! RAP Camp
DESCRIPTION:These week long\, full-day sessions offer opportunities for campers to go out into the community (e.g.\, Aquarium of the Pacific) with highly trained guides who help campers to increase their social skills as well as the more practical skills of purchasing tickets\, ordering meals\, and deciding on other wants and needs during their day. \nFor more information about our 2014 Summertime RAP Camp pricing\, or if you feel like your student could benefit from one of our Summertime RAP Camps\, please contact Gloria Chavez at 310-997-1900.
URL:https://cflu.org/event/lets-go-august-rap-camp-4/
END:VEVENT
BEGIN:VEVENT
DTSTART;TZID=America/Los_Angeles:20140806T090000
DTEND;TZID=America/Los_Angeles:20140806T160000
DTSTAMP:20260424T095024
CREATED:20140611T043324Z
LAST-MODIFIED:20140611T043324Z
UID:2057-1407315600-1407340800@cflu.org
SUMMARY:Let's Go August! RAP Camp
DESCRIPTION:These week long\, full-day sessions offer opportunities for campers to go out into the community (e.g.\, Aquarium of the Pacific) with highly trained guides who help campers to increase their social skills as well as the more practical skills of purchasing tickets\, ordering meals\, and deciding on other wants and needs during their day. \nFor more information about our 2014 Summertime RAP Camp pricing\, or if you feel like your student could benefit from one of our Summertime RAP Camps\, please contact Gloria Chavez at 310-997-1900.
URL:https://cflu.org/event/lets-go-august-rap-camp-3/
END:VEVENT
BEGIN:VEVENT
DTSTART;TZID=America/Los_Angeles:20140805T090000
DTEND;TZID=America/Los_Angeles:20140805T160000
DTSTAMP:20260424T095024
CREATED:20140611T043243Z
LAST-MODIFIED:20140611T043243Z
UID:2056-1407229200-1407254400@cflu.org
SUMMARY:Let's Go August! RAP Camp
DESCRIPTION:These week long\, full-day sessions offer opportunities for campers to go out into the community (e.g.\, Aquarium of the Pacific) with highly trained guides who help campers to increase their social skills as well as the more practical skills of purchasing tickets\, ordering meals\, and deciding on other wants and needs during their day. \nFor more information about our 2014 Summertime RAP Camp pricing\, or if you feel like your student could benefit from one of our Summertime RAP Camps\, please contact Gloria Chavez at 310-997-1900.
URL:https://cflu.org/event/lets-go-august-rap-camp-2/
END:VEVENT
BEGIN:VEVENT
DTSTART;TZID=America/Los_Angeles:20140804T090000
DTEND;TZID=America/Los_Angeles:20140804T160000
DTSTAMP:20260424T095024
CREATED:20140611T043203Z
LAST-MODIFIED:20140611T043203Z
UID:2055-1407142800-1407168000@cflu.org
SUMMARY:Let's Go August! RAP Camp
DESCRIPTION:These week long\, full-day sessions offer opportunities for campers to go out into the community (e.g.\, Aquarium of the Pacific) with highly trained guides who help campers to increase their social skills as well as the more practical skills of purchasing tickets\, ordering meals\, and deciding on other wants and needs during their day. \nFor more information about our 2014 Summertime RAP Camp pricing\, or if you feel like your student could benefit from one of our Summertime RAP Camps\, please contact Gloria Chavez at 310-997-1900.
URL:https://cflu.org/event/lets-go-august-rap-camp/
END:VEVENT
BEGIN:VEVENT
DTSTART;VALUE=DATE:20140801
DTEND;VALUE=DATE:20140802
DTSTAMP:20260424T095024
CREATED:20130813T214021Z
LAST-MODIFIED:20130813T214021Z
UID:1401-1406851200-1406937599@cflu.org
SUMMARY:End of Summer School
DESCRIPTION:
URL:https://cflu.org/event/end-of-summer-school/
END:VEVENT
BEGIN:VEVENT
DTSTART;TZID=America/Los_Angeles:20140731T130000
DTEND;TZID=America/Los_Angeles:20140731T153000
DTSTAMP:20260424T095024
CREATED:20140611T042542Z
LAST-MODIFIED:20140611T042542Z
UID:2053-1406811600-1406820600@cflu.org
SUMMARY:Summertime RAP Camp (Adventure)
DESCRIPTION:CLU Summer Camps foster self-confidence\, self-esteem\, independence\, mutual understanding and socialization. This summer we offer alternating weeks of Cooking and Adventure Camps\, and a two 1-week Day Camp sessions. Participate in all 6 weeks\, or pick and choose the weeks that work for you and your family. The choice is yours! \nFor more information visit our website www.cflu.org or contact our Relationship Activity Program (RAP) Coordinator: Gloria Chavez\, at (310) 997-1905 or gloria@cflu.org
URL:https://cflu.org/event/summertime-rap-camp-adventure-12/
END:VEVENT
BEGIN:VEVENT
DTSTART;TZID=America/Los_Angeles:20140730T130000
DTEND;TZID=America/Los_Angeles:20140730T153000
DTSTAMP:20260424T095024
CREATED:20140611T042503Z
LAST-MODIFIED:20140611T042503Z
UID:2052-1406725200-1406734200@cflu.org
SUMMARY:Summertime RAP Camp (Adventure)
DESCRIPTION:CLU Summer Camps foster self-confidence\, self-esteem\, independence\, mutual understanding and socialization. This summer we offer alternating weeks of Cooking and Adventure Camps\, and a two 1-week Day Camp sessions. Participate in all 6 weeks\, or pick and choose the weeks that work for you and your family. The choice is yours! \nFor more information visit our website www.cflu.org or contact our Relationship Activity Program (RAP) Coordinator: Gloria Chavez\, at (310) 997-1905 or gloria@cflu.org
URL:https://cflu.org/event/summertime-rap-camp-adventure-11/
END:VEVENT
BEGIN:VEVENT
DTSTART;TZID=America/Los_Angeles:20140729T130000
DTEND;TZID=America/Los_Angeles:20140729T153000
DTSTAMP:20260424T095024
CREATED:20140611T042427Z
LAST-MODIFIED:20140611T042427Z
UID:2051-1406638800-1406647800@cflu.org
SUMMARY:Summertime RAP Camp (Adventure)
DESCRIPTION:CLU Summer Camps foster self-confidence\, self-esteem\, independence\, mutual understanding and socialization. This summer we offer alternating weeks of Cooking and Adventure Camps\, and a two 1-week Day Camp sessions. Participate in all 6 weeks\, or pick and choose the weeks that work for you and your family. The choice is yours! \nFor more information visit our website www.cflu.org or contact our Relationship Activity Program (RAP) Coordinator: Gloria Chavez\, at (310) 997-1905 or gloria@cflu.org
URL:https://cflu.org/event/summertime-rap-camp-adventure-10/
END:VEVENT
BEGIN:VEVENT
DTSTART;TZID=America/Los_Angeles:20140729T083000
DTEND;TZID=America/Los_Angeles:20140729T093000
DTSTAMP:20260424T095024
CREATED:20140729T223306Z
LAST-MODIFIED:20140729T223306Z
UID:2230-1406622600-1406626200@cflu.org
SUMMARY:Staff Development (9:30 a.m. school start time)
DESCRIPTION:
URL:https://cflu.org/event/staff-development-930-a-m-school-start-time-9/
END:VEVENT
BEGIN:VEVENT
DTSTART;TZID=America/Los_Angeles:20140728T130000
DTEND;TZID=America/Los_Angeles:20140728T153000
DTSTAMP:20260424T095024
CREATED:20140611T042353Z
LAST-MODIFIED:20140611T042353Z
UID:2050-1406552400-1406561400@cflu.org
SUMMARY:Summertime RAP Camp (Adventure)
DESCRIPTION:CLU Summer Camps foster self-confidence\, self-esteem\, independence\, mutual understanding and socialization. This summer we offer alternating weeks of Cooking and Adventure Camps\, and a two 1-week Day Camp sessions. Participate in all 6 weeks\, or pick and choose the weeks that work for you and your family. The choice is yours! \nFor more information visit our website www.cflu.org or contact our Relationship Activity Program (RAP) Coordinator: Gloria Chavez\, at (310) 997-1905 or gloria@cflu.org
URL:https://cflu.org/event/summertime-rap-camp-adventure-9/
END:VEVENT
BEGIN:VEVENT
DTSTART;VALUE=DATE:20140728
DTEND;VALUE=DATE:20140801
DTSTAMP:20260424T095024
CREATED:20140515T000615Z
LAST-MODIFIED:20140515T000659Z
UID:2001-1406505600-1406851199@cflu.org
SUMMARY:CLU Summer School
DESCRIPTION:
URL:https://cflu.org/event/clu-summer-school-6/
END:VEVENT
END:VCALENDAR