BEGIN:VCALENDAR
VERSION:2.0
PRODID:-//The Center for Learning Unlimited - ECPv6.10.1//NONSGML v1.0//EN
CALSCALE:GREGORIAN
METHOD:PUBLISH
X-WR-CALNAME:The Center for Learning Unlimited
X-ORIGINAL-URL:https://cflu.org
X-WR-CALDESC:Events for The Center for Learning Unlimited
REFRESH-INTERVAL;VALUE=DURATION:PT1H
X-Robots-Tag:noindex
X-PUBLISHED-TTL:PT1H
BEGIN:VTIMEZONE
TZID:America/Los_Angeles
BEGIN:DAYLIGHT
TZOFFSETFROM:-0800
TZOFFSETTO:-0700
TZNAME:PDT
DTSTART:20140309T100000
END:DAYLIGHT
BEGIN:STANDARD
TZOFFSETFROM:-0700
TZOFFSETTO:-0800
TZNAME:PST
DTSTART:20141102T090000
END:STANDARD
END:VTIMEZONE
BEGIN:VEVENT
DTSTART;TZID=America/Los_Angeles:20140813T090000
DTEND;TZID=America/Los_Angeles:20140813T160000
DTSTAMP:20260425T072109
CREATED:20140611T043615Z
LAST-MODIFIED:20140611T043615Z
UID:2061-1407920400-1407945600@cflu.org
SUMMARY:Let's Go August! RAP Camp
DESCRIPTION:These week long\, full-day sessions offer opportunities for campers to go out into the community (e.g.\, Aquarium of the Pacific) with highly trained guides who help campers to increase their social skills as well as the more practical skills of purchasing tickets\, ordering meals\, and deciding on other wants and needs during their day. \nFor more information about our 2014 Summertime RAP Camp pricing\, or if you feel like your student could benefit from one of our Summertime RAP Camps\, please contact Gloria Chavez at 310-997-1900.
URL:https://cflu.org/event/lets-go-august-rap-camp-7/
END:VEVENT
BEGIN:VEVENT
DTSTART;TZID=America/Los_Angeles:20140812T090000
DTEND;TZID=America/Los_Angeles:20140812T160000
DTSTAMP:20260425T072109
CREATED:20140611T043540Z
LAST-MODIFIED:20140611T043540Z
UID:2060-1407834000-1407859200@cflu.org
SUMMARY:Let's Go August! RAP Camp
DESCRIPTION:These week long\, full-day sessions offer opportunities for campers to go out into the community (e.g.\, Aquarium of the Pacific) with highly trained guides who help campers to increase their social skills as well as the more practical skills of purchasing tickets\, ordering meals\, and deciding on other wants and needs during their day. \nFor more information about our 2014 Summertime RAP Camp pricing\, or if you feel like your student could benefit from one of our Summertime RAP Camps\, please contact Gloria Chavez at 310-997-1900.
URL:https://cflu.org/event/lets-go-august-rap-camp-6/
END:VEVENT
BEGIN:VEVENT
DTSTART;TZID=America/Los_Angeles:20140811T090000
DTEND;TZID=America/Los_Angeles:20140811T160000
DTSTAMP:20260425T072109
CREATED:20140611T043512Z
LAST-MODIFIED:20140611T043512Z
UID:2059-1407747600-1407772800@cflu.org
SUMMARY:Let's Go August! RAP Camp
DESCRIPTION:These week long\, full-day sessions offer opportunities for campers to go out into the community (e.g.\, Aquarium of the Pacific) with highly trained guides who help campers to increase their social skills as well as the more practical skills of purchasing tickets\, ordering meals\, and deciding on other wants and needs during their day. \nFor more information about our 2014 Summertime RAP Camp pricing\, or if you feel like your student could benefit from one of our Summertime RAP Camps\, please contact Gloria Chavez at 310-997-1900.
URL:https://cflu.org/event/lets-go-august-rap-camp-5/
END:VEVENT
BEGIN:VEVENT
DTSTART;TZID=America/Los_Angeles:20140807T090000
DTEND;TZID=America/Los_Angeles:20140807T160000
DTSTAMP:20260425T072109
CREATED:20140611T043358Z
LAST-MODIFIED:20140611T043358Z
UID:2058-1407402000-1407427200@cflu.org
SUMMARY:Let's Go August! RAP Camp
DESCRIPTION:These week long\, full-day sessions offer opportunities for campers to go out into the community (e.g.\, Aquarium of the Pacific) with highly trained guides who help campers to increase their social skills as well as the more practical skills of purchasing tickets\, ordering meals\, and deciding on other wants and needs during their day. \nFor more information about our 2014 Summertime RAP Camp pricing\, or if you feel like your student could benefit from one of our Summertime RAP Camps\, please contact Gloria Chavez at 310-997-1900.
URL:https://cflu.org/event/lets-go-august-rap-camp-4/
END:VEVENT
BEGIN:VEVENT
DTSTART;TZID=America/Los_Angeles:20140806T090000
DTEND;TZID=America/Los_Angeles:20140806T160000
DTSTAMP:20260425T072109
CREATED:20140611T043324Z
LAST-MODIFIED:20140611T043324Z
UID:2057-1407315600-1407340800@cflu.org
SUMMARY:Let's Go August! RAP Camp
DESCRIPTION:These week long\, full-day sessions offer opportunities for campers to go out into the community (e.g.\, Aquarium of the Pacific) with highly trained guides who help campers to increase their social skills as well as the more practical skills of purchasing tickets\, ordering meals\, and deciding on other wants and needs during their day. \nFor more information about our 2014 Summertime RAP Camp pricing\, or if you feel like your student could benefit from one of our Summertime RAP Camps\, please contact Gloria Chavez at 310-997-1900.
URL:https://cflu.org/event/lets-go-august-rap-camp-3/
END:VEVENT
BEGIN:VEVENT
DTSTART;TZID=America/Los_Angeles:20140805T090000
DTEND;TZID=America/Los_Angeles:20140805T160000
DTSTAMP:20260425T072109
CREATED:20140611T043243Z
LAST-MODIFIED:20140611T043243Z
UID:2056-1407229200-1407254400@cflu.org
SUMMARY:Let's Go August! RAP Camp
DESCRIPTION:These week long\, full-day sessions offer opportunities for campers to go out into the community (e.g.\, Aquarium of the Pacific) with highly trained guides who help campers to increase their social skills as well as the more practical skills of purchasing tickets\, ordering meals\, and deciding on other wants and needs during their day. \nFor more information about our 2014 Summertime RAP Camp pricing\, or if you feel like your student could benefit from one of our Summertime RAP Camps\, please contact Gloria Chavez at 310-997-1900.
URL:https://cflu.org/event/lets-go-august-rap-camp-2/
END:VEVENT
BEGIN:VEVENT
DTSTART;TZID=America/Los_Angeles:20140804T090000
DTEND;TZID=America/Los_Angeles:20140804T160000
DTSTAMP:20260425T072109
CREATED:20140611T043203Z
LAST-MODIFIED:20140611T043203Z
UID:2055-1407142800-1407168000@cflu.org
SUMMARY:Let's Go August! RAP Camp
DESCRIPTION:These week long\, full-day sessions offer opportunities for campers to go out into the community (e.g.\, Aquarium of the Pacific) with highly trained guides who help campers to increase their social skills as well as the more practical skills of purchasing tickets\, ordering meals\, and deciding on other wants and needs during their day. \nFor more information about our 2014 Summertime RAP Camp pricing\, or if you feel like your student could benefit from one of our Summertime RAP Camps\, please contact Gloria Chavez at 310-997-1900.
URL:https://cflu.org/event/lets-go-august-rap-camp/
END:VEVENT
BEGIN:VEVENT
DTSTART;VALUE=DATE:20140801
DTEND;VALUE=DATE:20140802
DTSTAMP:20260425T072109
CREATED:20130813T214021Z
LAST-MODIFIED:20130813T214021Z
UID:1401-1406851200-1406937599@cflu.org
SUMMARY:End of Summer School
DESCRIPTION:
URL:https://cflu.org/event/end-of-summer-school/
END:VEVENT
BEGIN:VEVENT
DTSTART;TZID=America/Los_Angeles:20140731T130000
DTEND;TZID=America/Los_Angeles:20140731T153000
DTSTAMP:20260425T072109
CREATED:20140611T042542Z
LAST-MODIFIED:20140611T042542Z
UID:2053-1406811600-1406820600@cflu.org
SUMMARY:Summertime RAP Camp (Adventure)
DESCRIPTION:CLU Summer Camps foster self-confidence\, self-esteem\, independence\, mutual understanding and socialization. This summer we offer alternating weeks of Cooking and Adventure Camps\, and a two 1-week Day Camp sessions. Participate in all 6 weeks\, or pick and choose the weeks that work for you and your family. The choice is yours! \nFor more information visit our website www.cflu.org or contact our Relationship Activity Program (RAP) Coordinator: Gloria Chavez\, at (310) 997-1905 or gloria@cflu.org
URL:https://cflu.org/event/summertime-rap-camp-adventure-12/
END:VEVENT
BEGIN:VEVENT
DTSTART;TZID=America/Los_Angeles:20140730T130000
DTEND;TZID=America/Los_Angeles:20140730T153000
DTSTAMP:20260425T072109
CREATED:20140611T042503Z
LAST-MODIFIED:20140611T042503Z
UID:2052-1406725200-1406734200@cflu.org
SUMMARY:Summertime RAP Camp (Adventure)
DESCRIPTION:CLU Summer Camps foster self-confidence\, self-esteem\, independence\, mutual understanding and socialization. This summer we offer alternating weeks of Cooking and Adventure Camps\, and a two 1-week Day Camp sessions. Participate in all 6 weeks\, or pick and choose the weeks that work for you and your family. The choice is yours! \nFor more information visit our website www.cflu.org or contact our Relationship Activity Program (RAP) Coordinator: Gloria Chavez\, at (310) 997-1905 or gloria@cflu.org
URL:https://cflu.org/event/summertime-rap-camp-adventure-11/
END:VEVENT
BEGIN:VEVENT
DTSTART;TZID=America/Los_Angeles:20140729T130000
DTEND;TZID=America/Los_Angeles:20140729T153000
DTSTAMP:20260425T072109
CREATED:20140611T042427Z
LAST-MODIFIED:20140611T042427Z
UID:2051-1406638800-1406647800@cflu.org
SUMMARY:Summertime RAP Camp (Adventure)
DESCRIPTION:CLU Summer Camps foster self-confidence\, self-esteem\, independence\, mutual understanding and socialization. This summer we offer alternating weeks of Cooking and Adventure Camps\, and a two 1-week Day Camp sessions. Participate in all 6 weeks\, or pick and choose the weeks that work for you and your family. The choice is yours! \nFor more information visit our website www.cflu.org or contact our Relationship Activity Program (RAP) Coordinator: Gloria Chavez\, at (310) 997-1905 or gloria@cflu.org
URL:https://cflu.org/event/summertime-rap-camp-adventure-10/
END:VEVENT
BEGIN:VEVENT
DTSTART;TZID=America/Los_Angeles:20140729T083000
DTEND;TZID=America/Los_Angeles:20140729T093000
DTSTAMP:20260425T072109
CREATED:20140729T223306Z
LAST-MODIFIED:20140729T223306Z
UID:2230-1406622600-1406626200@cflu.org
SUMMARY:Staff Development (9:30 a.m. school start time)
DESCRIPTION:
URL:https://cflu.org/event/staff-development-930-a-m-school-start-time-9/
END:VEVENT
BEGIN:VEVENT
DTSTART;TZID=America/Los_Angeles:20140728T130000
DTEND;TZID=America/Los_Angeles:20140728T153000
DTSTAMP:20260425T072109
CREATED:20140611T042353Z
LAST-MODIFIED:20140611T042353Z
UID:2050-1406552400-1406561400@cflu.org
SUMMARY:Summertime RAP Camp (Adventure)
DESCRIPTION:CLU Summer Camps foster self-confidence\, self-esteem\, independence\, mutual understanding and socialization. This summer we offer alternating weeks of Cooking and Adventure Camps\, and a two 1-week Day Camp sessions. Participate in all 6 weeks\, or pick and choose the weeks that work for you and your family. The choice is yours! \nFor more information visit our website www.cflu.org or contact our Relationship Activity Program (RAP) Coordinator: Gloria Chavez\, at (310) 997-1905 or gloria@cflu.org
URL:https://cflu.org/event/summertime-rap-camp-adventure-9/
END:VEVENT
BEGIN:VEVENT
DTSTART;VALUE=DATE:20140728
DTEND;VALUE=DATE:20140801
DTSTAMP:20260425T072109
CREATED:20140515T000615Z
LAST-MODIFIED:20140515T000659Z
UID:2001-1406505600-1406851199@cflu.org
SUMMARY:CLU Summer School
DESCRIPTION:
URL:https://cflu.org/event/clu-summer-school-6/
END:VEVENT
BEGIN:VEVENT
DTSTART;TZID=America/Los_Angeles:20140724T130000
DTEND;TZID=America/Los_Angeles:20140724T153000
DTSTAMP:20260425T072109
CREATED:20140611T042319Z
LAST-MODIFIED:20140611T042319Z
UID:2049-1406206800-1406215800@cflu.org
SUMMARY:Summertime RAP Camp (Cooking)
DESCRIPTION:CLU Summer Camps foster self-confidence\, self-esteem\, independence\, mutual understanding and socialization. This summer we offer alternating weeks of Cooking and Adventure Camps\, and a two 1-week Day Camp sessions. Participate in all 6 weeks\, or pick and choose the weeks that work for you and your family. The choice is yours! \nFor more information visit our website www.cflu.org or contact our Relationship Activity Program (RAP) Coordinator: Gloria Chavez\, at (310) 997-1905 or gloria@cflu.org
URL:https://cflu.org/event/summertime-rap-camp-cooking-12/
END:VEVENT
BEGIN:VEVENT
DTSTART;TZID=America/Los_Angeles:20140723T130000
DTEND;TZID=America/Los_Angeles:20140723T153000
DTSTAMP:20260425T072109
CREATED:20140611T042241Z
LAST-MODIFIED:20140611T042241Z
UID:2048-1406120400-1406129400@cflu.org
SUMMARY:Summertime RAP Camp (Cooking)
DESCRIPTION:CLU Summer Camps foster self-confidence\, self-esteem\, independence\, mutual understanding and socialization. This summer we offer alternating weeks of Cooking and Adventure Camps\, and a two 1-week Day Camp sessions. Participate in all 6 weeks\, or pick and choose the weeks that work for you and your family. The choice is yours! \nFor more information visit our website www.cflu.org or contact our Relationship Activity Program (RAP) Coordinator: Gloria Chavez\, at (310) 997-1905 or gloria@cflu.org
URL:https://cflu.org/event/summertime-rap-camp-cooking-11/
END:VEVENT
BEGIN:VEVENT
DTSTART;TZID=America/Los_Angeles:20140722T130000
DTEND;TZID=America/Los_Angeles:20140722T153000
DTSTAMP:20260425T072109
CREATED:20140611T042205Z
LAST-MODIFIED:20140611T042205Z
UID:2047-1406034000-1406043000@cflu.org
SUMMARY:Summertime RAP Camp (Cooking)
DESCRIPTION:CLU Summer Camps foster self-confidence\, self-esteem\, independence\, mutual understanding and socialization. This summer we offer alternating weeks of Cooking and Adventure Camps\, and a two 1-week Day Camp sessions. Participate in all 6 weeks\, or pick and choose the weeks that work for you and your family. The choice is yours! \nFor more information visit our website www.cflu.org or contact our Relationship Activity Program (RAP) Coordinator: Gloria Chavez\, at (310) 997-1905 or gloria@cflu.org
URL:https://cflu.org/event/summertime-rap-camp-cooking-10/
END:VEVENT
BEGIN:VEVENT
DTSTART;TZID=America/Los_Angeles:20140721T130000
DTEND;TZID=America/Los_Angeles:20140721T153000
DTSTAMP:20260425T072109
CREATED:20140611T042126Z
LAST-MODIFIED:20140611T042126Z
UID:2046-1405947600-1405956600@cflu.org
SUMMARY:Summertime RAP Camp (Cooking)
DESCRIPTION:CLU Summer Camps foster self-confidence\, self-esteem\, independence\, mutual understanding and socialization. This summer we offer alternating weeks of Cooking and Adventure Camps\, and a two 1-week Day Camp sessions. Participate in all 6 weeks\, or pick and choose the weeks that work for you and your family. The choice is yours! \n\n\nFor more information visit our website www.cflu.org or contact our Relationship Activity Program (RAP) Coordinator: Gloria Chavez\, at (310) 997-1905 or gloria@cflu.org
URL:https://cflu.org/event/summertime-rap-camp-cooking-9/
END:VEVENT
BEGIN:VEVENT
DTSTART;VALUE=DATE:20140721
DTEND;VALUE=DATE:20140726
DTSTAMP:20260425T072109
CREATED:20140515T000539Z
LAST-MODIFIED:20140515T000539Z
UID:2000-1405900800-1406332799@cflu.org
SUMMARY:CLU Summer School
DESCRIPTION:
URL:https://cflu.org/event/clu-summer-school-5/
END:VEVENT
BEGIN:VEVENT
DTSTART;TZID=America/Los_Angeles:20140719T120000
DTEND;TZID=America/Los_Angeles:20140719T150000
DTSTAMP:20260425T072109
CREATED:20140626T215059Z
LAST-MODIFIED:20140626T215059Z
UID:2101-1405771200-1405782000@cflu.org
SUMMARY:CLU 2014/2015 Registration BBQ
DESCRIPTION:CLU Families are invited to stop by at their convenience to drop-off registration paperwork\, contribute school supplies\, replenish your student’s emergency kit\, AND enjoy a casual BBQ with other CLU families. \nChildcare will not be provided during this event.
URL:https://cflu.org/event/clu-20142015-registration-bbq/
LOCATION:CLU
ORGANIZER;CN="CLU PTO":MAILTO:pto@cflu.org
END:VEVENT
BEGIN:VEVENT
DTSTART;TZID=America/Los_Angeles:20140717T130000
DTEND;TZID=America/Los_Angeles:20140717T153000
DTSTAMP:20260425T072109
CREATED:20140611T042035Z
LAST-MODIFIED:20140611T042035Z
UID:2045-1405602000-1405611000@cflu.org
SUMMARY:Summertime RAP Camp (Adventure)
DESCRIPTION:CLU Summer Camps foster self-confidence\, self-esteem\, independence\, mutual understanding and socialization. This summer we offer alternating weeks of Cooking and Adventure Camps\, and a two 1-week Day Camp sessions. Participate in all 6 weeks\, or pick and choose the weeks that work for you and your family. The choice is yours! \nFor more information visit our website www.cflu.org or contact our Relationship Activity Program (RAP) Coordinator: Gloria Chavez\, at (310) 997-1905 or gloria@cflu.org
URL:https://cflu.org/event/summertime-rap-camp-adventure-8/
END:VEVENT
BEGIN:VEVENT
DTSTART;TZID=America/Los_Angeles:20140716T130000
DTEND;TZID=America/Los_Angeles:20140716T153000
DTSTAMP:20260425T072109
CREATED:20140611T041951Z
LAST-MODIFIED:20140611T041951Z
UID:2044-1405515600-1405524600@cflu.org
SUMMARY:Summertime RAP Camp (Adventure)
DESCRIPTION:CLU Summer Camps foster self-confidence\, self-esteem\, independence\, mutual understanding and socialization. This summer we offer alternating weeks of Cooking and Adventure Camps\, and a two 1-week Day Camp sessions. Participate in all 6 weeks\, or pick and choose the weeks that work for you and your family. The choice is yours! \nFor more information visit our website www.cflu.org or contact our Relationship Activity Program (RAP) Coordinator: Gloria Chavez\, at (310) 997-1905 or gloria@cflu.org
URL:https://cflu.org/event/summertime-rap-camp-adventure-7/
END:VEVENT
BEGIN:VEVENT
DTSTART;TZID=America/Los_Angeles:20140715T130000
DTEND;TZID=America/Los_Angeles:20140715T153000
DTSTAMP:20260425T072109
CREATED:20140611T041909Z
LAST-MODIFIED:20140611T041909Z
UID:2043-1405429200-1405438200@cflu.org
SUMMARY:Summertime RAP Camp (Adventure)
DESCRIPTION:CLU Summer Camps foster self-confidence\, self-esteem\, independence\, mutual understanding and socialization. This summer we offer alternating weeks of Cooking and Adventure Camps\, and a two 1-week Day Camp sessions. Participate in all 6 weeks\, or pick and choose the weeks that work for you and your family. The choice is yours! \nFor more information visit our website www.cflu.org or contact our Relationship Activity Program (RAP) Coordinator: Gloria Chavez\, at (310) 997-1905 or gloria@cflu.org
URL:https://cflu.org/event/summertime-rap-camp-adventure-6/
END:VEVENT
BEGIN:VEVENT
DTSTART;TZID=America/Los_Angeles:20140715T090000
DTEND;TZID=America/Los_Angeles:20140715T100000
DTSTAMP:20260425T072109
CREATED:20140701T185425Z
LAST-MODIFIED:20140701T185425Z
UID:2106-1405414800-1405418400@cflu.org
SUMMARY:CLU PTO Meeting
DESCRIPTION:
URL:https://cflu.org/event/clu-pto-meeting/
LOCATION:CLU Conference Room
END:VEVENT
BEGIN:VEVENT
DTSTART;TZID=America/Los_Angeles:20140714T130000
DTEND;TZID=America/Los_Angeles:20140714T153000
DTSTAMP:20260425T072109
CREATED:20140611T041826Z
LAST-MODIFIED:20140611T041826Z
UID:2042-1405342800-1405351800@cflu.org
SUMMARY:Summertime RAP Camp (Adventure)
DESCRIPTION:CLU Summer Camps foster self-confidence\, self-esteem\, independence\, mutual understanding and socialization. This summer we offer alternating weeks of Cooking and Adventure Camps\, and a two 1-week Day Camp sessions. Participate in all 6 weeks\, or pick and choose the weeks that work for you and your family. The choice is yours! \nFor more information visit our website www.cflu.org or contact our Relationship Activity Program (RAP) Coordinator: Gloria Chavez\, at (310) 997-1905 or gloria@cflu.org
URL:https://cflu.org/event/summertime-rap-camp-adventure-5/
END:VEVENT
BEGIN:VEVENT
DTSTART;VALUE=DATE:20140714
DTEND;VALUE=DATE:20140719
DTSTAMP:20260425T072109
CREATED:20140515T000457Z
LAST-MODIFIED:20140515T000457Z
UID:1999-1405296000-1405727999@cflu.org
SUMMARY:CLU Summer School
DESCRIPTION:
URL:https://cflu.org/event/clu-summer-school-4/
END:VEVENT
BEGIN:VEVENT
DTSTART;TZID=America/Los_Angeles:20140710T130000
DTEND;TZID=America/Los_Angeles:20140710T153000
DTSTAMP:20260425T072109
CREATED:20140611T041712Z
LAST-MODIFIED:20140611T041712Z
UID:2041-1404997200-1405006200@cflu.org
SUMMARY:Summertime RAP Camp (Cooking)
DESCRIPTION:CLU Summer Camps foster self-confidence\, self-esteem\, independence\, mutual understanding and socialization. This summer we offer alternating weeks of Cooking and Adventure Camps\, and a two 1-week Day Camp sessions. Participate in all 6 weeks\, or pick and choose the weeks that work for you and your family. The choice is yours! \nFor more information visit our website www.cflu.org or contact our Relationship Activity Program (RAP) Coordinator: Gloria Chavez\, at (310) 997-1905 or gloria@cflu.org
URL:https://cflu.org/event/summertime-rap-camp-cooking-8/
END:VEVENT
BEGIN:VEVENT
DTSTART;TZID=America/Los_Angeles:20140709T130000
DTEND;TZID=America/Los_Angeles:20140709T153000
DTSTAMP:20260425T072109
CREATED:20140611T041639Z
LAST-MODIFIED:20140611T041639Z
UID:2039-1404910800-1404919800@cflu.org
SUMMARY:Summertime RAP Camp (Cooking)
DESCRIPTION:CLU Summer Camps foster self-confidence\, self-esteem\, independence\, mutual understanding and socialization. This summer we offer alternating weeks of Cooking and Adventure Camps\, and a two 1-week Day Camp sessions. Participate in all 6 weeks\, or pick and choose the weeks that work for you and your family. The choice is yours! \nFor more information visit our website www.cflu.org or contact our Relationship Activity Program (RAP) Coordinator: Gloria Chavez\, at (310) 997-1905 or gloria@cflu.org
URL:https://cflu.org/event/summertime-rap-camp-cooking-7/
END:VEVENT
BEGIN:VEVENT
DTSTART;TZID=America/Los_Angeles:20140708T130000
DTEND;TZID=America/Los_Angeles:20140708T153000
DTSTAMP:20260425T072110
CREATED:20140611T041601Z
LAST-MODIFIED:20140611T041601Z
UID:2038-1404824400-1404833400@cflu.org
SUMMARY:Summertime RAP Camp (Cooking)
DESCRIPTION:CLU Summer Camps foster self-confidence\, self-esteem\, independence\, mutual understanding and socialization. This summer we offer alternating weeks of Cooking and Adventure Camps\, and a two 1-week Day Camp sessions. Participate in all 6 weeks\, or pick and choose the weeks that work for you and your family. The choice is yours! \nFor more information visit our website www.cflu.org or contact our Relationship Activity Program (RAP) Coordinator: Gloria Chavez\, at (310) 997-1905 or gloria@cflu.org
URL:https://cflu.org/event/summertime-rap-camp-cooking-6/
END:VEVENT
BEGIN:VEVENT
DTSTART;TZID=America/Los_Angeles:20140707T130000
DTEND;TZID=America/Los_Angeles:20140707T153000
DTSTAMP:20260425T072110
CREATED:20140611T041527Z
LAST-MODIFIED:20140611T041527Z
UID:2036-1404738000-1404747000@cflu.org
SUMMARY:Summertime RAP Camp (Cooking)
DESCRIPTION:CLU Summer Camps foster self-confidence\, self-esteem\, independence\, mutual understanding and socialization. This summer we offer alternating weeks of Cooking and Adventure Camps\, and a two 1-week Day Camp sessions. Participate in all 6 weeks\, or pick and choose the weeks that work for you and your family. The choice is yours! \nFor more information visit our website www.cflu.org or contact our Relationship Activity Program (RAP) Coordinator: Gloria Chavez\, at (310) 997-1905 or gloria@cflu.org
URL:https://cflu.org/event/summertime-rap-camp-cooking-5/
END:VEVENT
END:VCALENDAR