BEGIN:VCALENDAR
VERSION:2.0
PRODID:-//The Center for Learning Unlimited - ECPv6.10.1//NONSGML v1.0//EN
CALSCALE:GREGORIAN
METHOD:PUBLISH
X-WR-CALNAME:The Center for Learning Unlimited
X-ORIGINAL-URL:https://cflu.org
X-WR-CALDESC:Events for The Center for Learning Unlimited
REFRESH-INTERVAL;VALUE=DURATION:PT1H
X-Robots-Tag:noindex
X-PUBLISHED-TTL:PT1H
BEGIN:VTIMEZONE
TZID:America/Los_Angeles
BEGIN:DAYLIGHT
TZOFFSETFROM:-0800
TZOFFSETTO:-0700
TZNAME:PDT
DTSTART:20140309T100000
END:DAYLIGHT
BEGIN:STANDARD
TZOFFSETFROM:-0700
TZOFFSETTO:-0800
TZNAME:PST
DTSTART:20141102T090000
END:STANDARD
END:VTIMEZONE
BEGIN:VEVENT
DTSTART;TZID=America/Los_Angeles:20140630T130000
DTEND;TZID=America/Los_Angeles:20140630T153000
DTSTAMP:20260425T064020
CREATED:20140609T194539Z
LAST-MODIFIED:20140609T194539Z
UID:2032-1404133200-1404142200@cflu.org
SUMMARY:Summertime RAP Camp (Adventure)
DESCRIPTION:CLU Summer Camps foster self-confidence\, self-esteem\, independence\, mutual understanding and socialization. This summer we\noffer alternating weeks of Cooking and Adventure Camps\, and a two 1-week Day Camp sessions. Participate in all 6 weeks\, or pick\nand choose the weeks that work for you and your family. The choice is yours! \nFor more information visit our website www.cflu.org or contact our Relationship Activity Program (RAP) Coordinator: Gloria Chavez\, at (310) 997-1905 or gloria@cflu.org
URL:https://cflu.org/event/summertime-rap-camp-adventure/
END:VEVENT
BEGIN:VEVENT
DTSTART;VALUE=DATE:20140630
DTEND;VALUE=DATE:20140704
DTSTAMP:20260425T064020
CREATED:20140515T000258Z
LAST-MODIFIED:20140515T000258Z
UID:1996-1404086400-1404431999@cflu.org
SUMMARY:CLU Summer School
DESCRIPTION:
URL:https://cflu.org/event/clu-summer-school-2/
END:VEVENT
BEGIN:VEVENT
DTSTART;TZID=America/Los_Angeles:20140626T130000
DTEND;TZID=America/Los_Angeles:20140626T153000
DTSTAMP:20260425T064020
CREATED:20140609T194342Z
LAST-MODIFIED:20140609T194342Z
UID:2029-1403787600-1403796600@cflu.org
SUMMARY:Summertime RAP Camp (Cooking)
DESCRIPTION:CLU Summer Camps foster self-confidence\, self-esteem\, independence\, mutual understanding and socialization. This summer we\noffer alternating weeks of Cooking and Adventure Camps\, and a two 1-week Day Camp sessions. Participate in all 6 weeks\, or pick\nand choose the weeks that work for you and your family. The choice is yours! \nFor more information visit our website www.cflu.org or contact our Relationship Activity Program (RAP) Coordinator: Gloria Chavez\, at (310) 997-1905 or gloria@cflu.org
URL:https://cflu.org/event/summertime-rap-camp-cooking-4/
END:VEVENT
BEGIN:VEVENT
DTSTART;TZID=America/Los_Angeles:20140625T130000
DTEND;TZID=America/Los_Angeles:20140625T153000
DTSTAMP:20260425T064020
CREATED:20140609T194257Z
LAST-MODIFIED:20140609T194257Z
UID:2027-1403701200-1403710200@cflu.org
SUMMARY:Summertime RAP Camp (Cooking)
DESCRIPTION:CLU Summer Camps foster self-confidence\, self-esteem\, independence\, mutual understanding and socialization. This summer we\noffer alternating weeks of Cooking and Adventure Camps\, and a two 1-week Day Camp sessions. Participate in all 6 weeks\, or pick\nand choose the weeks that work for you and your family. The choice is yours! \nFor more information visit our website www.cflu.org or contact our Relationship Activity Program (RAP) Coordinator: Gloria Chavez\, at (310) 997-1905 or gloria@cflu.org
URL:https://cflu.org/event/summertime-rap-camp-cooking-3/
END:VEVENT
BEGIN:VEVENT
DTSTART;TZID=America/Los_Angeles:20140624T130000
DTEND;TZID=America/Los_Angeles:20140624T153000
DTSTAMP:20260425T064020
CREATED:20140609T194209Z
LAST-MODIFIED:20140609T194209Z
UID:2025-1403614800-1403623800@cflu.org
SUMMARY:Summertime RAP Camp (Cooking)
DESCRIPTION:CLU Summer Camps foster self-confidence\, self-esteem\, independence\, mutual understanding and socialization. This summer we\noffer alternating weeks of Cooking and Adventure Camps\, and a two 1-week Day Camp sessions. Participate in all 6 weeks\, or pick\nand choose the weeks that work for you and your family. The choice is yours! \nFor more information visit our website www.cflu.org or contact our Relationship Activity Program (RAP) Coordinator: Gloria Chavez\, at (310) 997-1905 or gloria@cflu.org
URL:https://cflu.org/event/summertime-rap-camp-cooking-2/
END:VEVENT
BEGIN:VEVENT
DTSTART;TZID=America/Los_Angeles:20140623T130000
DTEND;TZID=America/Los_Angeles:20140623T153000
DTSTAMP:20260425T064020
CREATED:20140609T194049Z
LAST-MODIFIED:20140609T194115Z
UID:2023-1403528400-1403537400@cflu.org
SUMMARY:Summertime RAP Camp (Cooking)
DESCRIPTION:CLU Summer Camps foster self-confidence\, self-esteem\, independence\, mutual understanding and socialization. This summer we\noffer alternating weeks of Cooking and Adventure Camps\, and a two 1-week Day Camp sessions. Participate in all 6 weeks\, or pick\nand choose the weeks that work for you and your family. The choice is yours! \nFor more information visit our website www.cflu.org or contact our Relationship Activity Program (RAP) Coordinator: Gloria Chavez\, at (310) 997-1905 or gloria@cflu.org
URL:https://cflu.org/event/summertime-rap-camp-cooking/
END:VEVENT
BEGIN:VEVENT
DTSTART;VALUE=DATE:20140623
DTEND;VALUE=DATE:20140628
DTSTAMP:20260425T064020
CREATED:20140515T000137Z
LAST-MODIFIED:20140515T000137Z
UID:1995-1403481600-1403913599@cflu.org
SUMMARY:CLU Summer School
DESCRIPTION:
URL:https://cflu.org/event/clu-summer-school/
END:VEVENT
BEGIN:VEVENT
DTSTART;TZID=America/Los_Angeles:20140613T113000
DTEND;TZID=America/Los_Angeles:20140613T121500
DTSTAMP:20260425T064020
CREATED:20140423T190441Z
LAST-MODIFIED:20140423T190504Z
UID:1945-1402659000-1402661700@cflu.org
SUMMARY:CLU Talent Show
DESCRIPTION:Back by popular demand\, the CLU Talent show will be held on the last day of school Friday\,  June 13th\, at 11:30am.  Watch our community sing\, dance\, tell jokes\, act and the surprises that are no doubt in store for us. Lunch for CLU friends and family to immediately follow. Be there or be square! \nParents\, please contact Leah Paul with any questions.
URL:https://cflu.org/event/clu-talnt-sw/
LOCATION:CLU
ORGANIZER;CN="Leah Paul":MAILTO:eah@cflu.org
END:VEVENT
BEGIN:VEVENT
DTSTART;TZID=America/Los_Angeles:20140613T084500
DTEND;TZID=America/Los_Angeles:20140613T130000
DTSTAMP:20260425T064020
CREATED:20130813T213848Z
LAST-MODIFIED:20130813T213848Z
UID:1398-1402649100-1402664400@cflu.org
SUMMARY:Last Day of 2013 - 2014 School Year (Min. Day-Dismissal 1:00 p.m.)
DESCRIPTION:
URL:https://cflu.org/event/last-day-of-2013-2014-school-year-min-day-dismissal-100-p-m/
END:VEVENT
BEGIN:VEVENT
DTSTART;TZID=America/Los_Angeles:20140612T153000
DTEND;TZID=America/Los_Angeles:20140612T173000
DTSTAMP:20260425T064020
CREATED:20140528T185313Z
LAST-MODIFIED:20140528T185523Z
UID:2013-1402587000-1402594200@cflu.org
SUMMARY:RAP - Outdoor Fun
DESCRIPTION:Participants will be heading to a local park for some outdoor fun: a scavenger hunt and picnic.\nPlease note: RAP is as attendance based program. Activities are subject to change depending on attendance. Scheduled Outings: Minimum of 3 children are required. If less than 3 children attend RAP\, the “Outdoor Activity” will change. Participants will have a choice between 2 in-house activities. \nJune 12 is the last RAP Day for the 2014-2015 school year. The 6-week RAP Summer Camp program begins June 23\, 2014 Monday-Thursday 1-3:30p.m. Activity weeks will alternate between adventure and cooking camp themes. \nFor more information about our Summer Programs or to sign up\, contact our Activities Coordinator\, Gloria Chavez (Gloria@cflu.org) or (310) 997-1900 ext. 205. Registration forms are available at The Center for Learning Unlimited during school hours.
URL:https://cflu.org/event/rap-outdoor-fun/
END:VEVENT
BEGIN:VEVENT
DTSTART;TZID=America/Los_Angeles:20140612T090000
DTEND;TZID=America/Los_Angeles:20140612T170000
DTSTAMP:20260425T064020
CREATED:20140423T194318Z
LAST-MODIFIED:20140423T194333Z
UID:1949-1402563600-1402592400@cflu.org
SUMMARY:8th/12th Grades Graduation Trip
DESCRIPTION:Graduation\, from both Middle and High School\, is a big accomplishment\, so we’d like to invite your student to attend an special\, celebratory outing in their honor.   The CLU PTO is organizing an optional trip to Knott’s Berry Farm for 8th and 12th grade students on Thursday\, June 12th\, to celebrate their respective graduation milestones. \nParents\, please contact Sue Espinosa for additional details.
URL:https://cflu.org/event/8th12th-grd-gradn-tp/
LOCATION:Knott’s Berry Farm\, 8039 Beach Blvd\, Buena Park\, 90620
ORGANIZER;CN="Sue Espinosa":MAILTO:jm6104@yahoo.com
END:VEVENT
BEGIN:VEVENT
DTSTART;TZID=America/Los_Angeles:20140610T103000
DTEND;TZID=America/Los_Angeles:20140610T120000
DTSTAMP:20260425T064020
CREATED:20140528T031856Z
LAST-MODIFIED:20140528T031856Z
UID:2008-1402396200-1402401600@cflu.org
SUMMARY:Torrance Certified Farmer's Market (Middle School)
DESCRIPTION:Students will be spending time at the Torrance Certified Farmer’s Market. Staff and students will have an opportunity to talk with local farmers\, sample tasty fare\, and browse a wide selection of cut flowers and nursery stock. Students will return to CLU around lunchtime. \nPer your parental discretion\, students are welcome to bring money to purchase items. Please place monies in a sealed envelope with your student’s name on it.
URL:https://cflu.org/event/torrars-market-middl-2/
LOCATION:Wilson Park
END:VEVENT
BEGIN:VEVENT
DTSTART;TZID=America/Los_Angeles:20140607T170000
DTEND;TZID=America/Los_Angeles:20140607T200000
DTSTAMP:20260425T064020
CREATED:20140429T212423Z
LAST-MODIFIED:20140528T235322Z
UID:1973-1402160400-1402171200@cflu.org
SUMMARY:CLU Family Dinner
DESCRIPTION:A few CLU families are organizing a discretionary dinner for other CLU families to informally gather and celebrate the 2013 – 2014 school year. We hope to see you there!
URL:https://cflu.org/event/clu-fami-din/
LOCATION:Las Brisas\, 1969 Artesia Blvd\, Redondo Beach\, CA\, 90278\, United States
END:VEVENT
BEGIN:VEVENT
DTSTART;TZID=America/Los_Angeles:20140605T153000
DTEND;TZID=America/Los_Angeles:20140605T173000
DTSTAMP:20260425T064020
CREATED:20140528T185159Z
LAST-MODIFIED:20140528T185159Z
UID:2012-1401982200-1401989400@cflu.org
SUMMARY:RAP - Beach Day
DESCRIPTION:Please send participants with a towel\, swimsuit and sun block.
URL:https://cflu.org/event/rap-beach-day/
END:VEVENT
BEGIN:VEVENT
DTSTART;TZID=America/Los_Angeles:20140603T103000
DTEND;TZID=America/Los_Angeles:20140603T120000
DTSTAMP:20260425T064020
CREATED:20140528T031746Z
LAST-MODIFIED:20140528T031746Z
UID:2005-1401791400-1401796800@cflu.org
SUMMARY:Torrance Certified Farmer's Market (Upper School)
DESCRIPTION:Students will be spending time at the Torrance Certified Farmer’s Market. Staff and students will have an opportunity to talk with local farmers\, sample tasty fare\, and browse a wide selection of cut flowers and nursery stock. Students will return to CLU around lunchtime. \nPer your parental discretion\, students are welcome to bring money to purchase items. Please place monies in a sealed envelope with your student’s name on it.
URL:https://cflu.org/event/torrmarket-upper-scho-2/
LOCATION:Wilson Park
END:VEVENT
BEGIN:VEVENT
DTSTART;TZID=America/Los_Angeles:20140529T153000
DTEND;TZID=America/Los_Angeles:20140529T173000
DTSTAMP:20260425T064020
CREATED:20140327T005232Z
LAST-MODIFIED:20140328T004831Z
UID:1885-1401377400-1401384600@cflu.org
SUMMARY:RAP - Personal Pizzas
DESCRIPTION:Yippee…participants will be heading onto CLU’s kitchen to stretch\, top\, and bake their way to personal pizzas. \nThe Center’s Relationship Activity Program (RAP) emphasizes episodic memory work and offers opportunities to practice the relationship building skills that are crucial in our student’s success.  This program is a good match for middle school/early high school age students who have difficulty with making friends\, are isolated from peers/adults\, or who have had poor outcome from other social skills training. \nTo sign-up for RAP or if you have any questions\, please contact Gloria Chavez.
URL:https://cflu.org/event/rap-personal-pizzas/
LOCATION:CLU
END:VEVENT
BEGIN:VEVENT
DTSTART;TZID=America/Los_Angeles:20140527T103000
DTEND;TZID=America/Los_Angeles:20140527T120000
DTSTAMP:20260425T064020
CREATED:20140408T232333Z
LAST-MODIFIED:20140408T232333Z
UID:1902-1401186600-1401192000@cflu.org
SUMMARY:Torrance Certified Farmer's Market (Lower School)
DESCRIPTION:Students will be  grapes-basket.jpg spending time at the Torrance Certified Farmer’s Market.  Staff and students will have an opportunity to talk with local farmers\, sample tasty fare\, and browse a wide selection of cut flowers and nursery stock.  Students will return to CLU around lunchtime. \nPer your parental discretion\, students are welcome to bring money to purchase items.  Please place monies in a sealed envelope with your student’s name on it.
URL:https://cflu.org/event/torrance-certified-farmers-market-lower-school-2/
END:VEVENT
BEGIN:VEVENT
DTSTART;VALUE=DATE:20140526
DTEND;VALUE=DATE:20140527
DTSTAMP:20260425T064020
CREATED:20130813T213803Z
LAST-MODIFIED:20130813T213803Z
UID:1397-1401062400-1401148799@cflu.org
SUMMARY:Memorial Day (School Closed)
DESCRIPTION:
URL:https://cflu.org/event/memorial-day-school-closed-2/
END:VEVENT
BEGIN:VEVENT
DTSTART;TZID=America/Los_Angeles:20140523T084500
DTEND;TZID=America/Los_Angeles:20140523T130000
DTSTAMP:20260425T064020
CREATED:20130813T213738Z
LAST-MODIFIED:20130813T213738Z
UID:1396-1400834700-1400850000@cflu.org
SUMMARY:Min. Day (Dismissal 1:00 p.m.)
DESCRIPTION:
URL:https://cflu.org/event/min-day-dismissal-100-p-m-11/
END:VEVENT
BEGIN:VEVENT
DTSTART;VALUE=DATE:20140523
DTEND;VALUE=DATE:20140524
DTSTAMP:20260425T064020
CREATED:20140520T003023Z
LAST-MODIFIED:20140520T003023Z
UID:2003-1400803200-1400889599@cflu.org
SUMMARY:CLU Yearbook and Dedication Ads Due
DESCRIPTION:CLU Yearbook\nOften when reminiscing through family albums or scrapbooks\, each of us stumbles across the school yearbook – and we hesitate for a moment and leaf through the book that evokes so many memories.  The CLU yearbook is a snapshot in time for our students – a pictorial representation of the last 9 months filled with student portraits\, memorable moments and school activities authored by our photography instructor\, Sabrina Meza.  \n\n\nCLU Yearbook Dedication Ad \nA Dedication Ad is a wonderful opportunity for parents\, family\, and friends to write notes of special congratulations and love to their students or thank their teachers for a great year.  What a wonderful surprise to open the yearbook and find a personal message from you!\n\nPlease contact Sabrina Meza with questions about costs and order forms.\n\nThanks!
URL:https://cflu.org/event/clu-yearbook-and-dedication-ads-due/
END:VEVENT
BEGIN:VEVENT
DTSTART;VALUE=DATE:20140523
DTEND;VALUE=DATE:20140524
DTSTAMP:20260425T064020
CREATED:20140429T213916Z
LAST-MODIFIED:20140520T003530Z
UID:1978-1400803200-1400889599@cflu.org
SUMMARY:CLU Spiritwear Orders Due
DESCRIPTION:Many thanks to CLU parent\, Stephanie Baxter\, for her efforts to make CLU Spiritwear available to our parents and friends.  Please click here forthe t-shirt order form.  For more information about t-shirt sizes and colors\, please click here for adult and click here for youth information. \nPlease drop off completed order forms and payment in the in the lobby by Friday\, May 23rd. We will be in touch once shirts are available for pick-up.
URL:https://cflu.org/event/clu-spir-orde-due/
ORGANIZER;CN="CLU PTO":MAILTO:pto@cflu.org
END:VEVENT
BEGIN:VEVENT
DTSTART;TZID=America/Los_Angeles:20140522T153000
DTEND;TZID=America/Los_Angeles:20140522T173000
DTSTAMP:20260425T064020
CREATED:20140327T005913Z
LAST-MODIFIED:20140328T004758Z
UID:1888-1400772600-1400779800@cflu.org
SUMMARY:RAP - Memorial Day Craft
DESCRIPTION:RAP participants will be making a Memorial Day themed craft. \nThe Center’s Relationship Activity Program (RAP) emphasizes episodic memory work and offers opportunities to practice the relationship building skills that are crucial in our student’s success.  This program is a good match for middle school/early high school age students who have difficulty with making friends\, are isolated from peers/adults\, or who have had poor outcome from other social skills training. \nTo sign-up for RAP or if you have any questions\, please contact Gloria Chavez.
URL:https://cflu.org/event/rap-memo-2/
LOCATION:CLU
END:VEVENT
BEGIN:VEVENT
DTSTART;TZID=America/Los_Angeles:20140520T103000
DTEND;TZID=America/Los_Angeles:20140520T120000
DTSTAMP:20260425T064020
CREATED:20140408T232211Z
LAST-MODIFIED:20140408T232211Z
UID:1901-1400581800-1400587200@cflu.org
SUMMARY:Torrance Certified Farmer's Market (Upper School)
DESCRIPTION:Students will be   spending time at the Torrance Certified Farmer’s Market.  Staff and students will have an opportunity to talk with local farmers\, sample tasty fare\, and browse a wide selection of cut flowers and nursery stock.  Students will return to CLU around lunchtime. \nPer your parental discretion\, students are welcome to bring money to purchase items.  Please place monies in a sealed envelope with your student’s name on it.
URL:https://cflu.org/event/torrance-certified-farmers-market-upper-school/
END:VEVENT
BEGIN:VEVENT
DTSTART;VALUE=DATE:20140519
DTEND;VALUE=DATE:20140521
DTSTAMP:20260425T064020
CREATED:20130813T213427Z
LAST-MODIFIED:20130813T213427Z
UID:1390-1400457600-1400630399@cflu.org
SUMMARY:State STAR Testing (per District)
DESCRIPTION:
URL:https://cflu.org/event/state-star-testing-per-district-5/
END:VEVENT
BEGIN:VEVENT
DTSTART;TZID=America/Los_Angeles:20140518T010000
DTEND;TZID=America/Los_Angeles:20140518T150000
DTSTAMP:20260425T064020
CREATED:20140423T181126Z
LAST-MODIFIED:20140423T181126Z
UID:1926-1400374800-1400425200@cflu.org
SUMMARY:CLU PTO Bowling Fundraiser
DESCRIPTION:Calling all bowlers!!!  Hambone and gutterball bowlers alike are welcome to attend the CLU PTO’s last fundraiser of the 2013 – 2014 school year: an afternoon of old-fashioned fun that includes two games of bowling and a pizza lunch.  Suggested donation of $20 per person. \nCLU parents\, friends and staff are welcome to join us for this fun afternoon.  If you’d like to join us\, please click here to RSVP at your earliest convenience. \nThanks\, \nThe CLU PTO
URL:https://cflu.org/event/clu-pto-bow-fundraiser/
LOCATION:Gable House Bowl\, 22501 Hawthorne Blvd.\, Torrance\, 90505
ORGANIZER;CN="Dyan Gregg (CLU PTO)":MAILTO:dyangregg@gmail.com
END:VEVENT
BEGIN:VEVENT
DTSTART;TZID=America/Los_Angeles:20140515T153000
DTEND;TZID=America/Los_Angeles:20140515T173000
DTSTAMP:20260425T064020
CREATED:20140327T004605Z
LAST-MODIFIED:20140327T004605Z
UID:1882-1400167800-1400175000@cflu.org
SUMMARY:RAP - Picnic in the Park
DESCRIPTION:Spring is here\, so RAP participants will be heading to a local park for a picnic in the fresh air.  This activity is subject to change based on the weather forecast) \nThe Center’s Relationship Activity Program (RAP) emphasizes episodic memory work and offers opportunities to practice the relationship building skills that are crucial in our student’s success.  This program is a good match for middle school/early high school age students who have difficulty with making friends\, are isolated from peers/adults\, or who have had poor outcome from other social skills training. \nTo sign-up for RAP or if you have any questions\, please contact Gloria Chavez.
URL:https://cflu.org/event/rap-picn/
LOCATION:Local Park
END:VEVENT
BEGIN:VEVENT
DTSTART;VALUE=DATE:20140514
DTEND;VALUE=DATE:20140515
DTSTAMP:20260425T064020
CREATED:20140508T184555Z
LAST-MODIFIED:20140508T184555Z
UID:1987-1400025600-1400111999@cflu.org
SUMMARY:New Student Portaits
DESCRIPTION:
URL:https://cflu.org/event/new-st-porta/
END:VEVENT
BEGIN:VEVENT
DTSTART;TZID=America/Los_Angeles:20140513T103000
DTEND;TZID=America/Los_Angeles:20140513T120000
DTSTAMP:20260425T064020
CREATED:20140408T232105Z
LAST-MODIFIED:20140408T232105Z
UID:1900-1399977000-1399982400@cflu.org
SUMMARY:Torrance Certified Farmer's Market (Middle School)
DESCRIPTION:Students will be   spending time at the Torrance Certified Farmer’s Market.  Staff and students will have an opportunity to talk with local farmers\, sample tasty fare\, and browse a wide selection of cut flowers and nursery stock.  Students will return to CLU around lunchtime. \nPer your parental discretion\, students are welcome to bring money to purchase items.  Please place monies in a sealed envelope with your student’s name on it.
URL:https://cflu.org/event/torrance-certified-farmers-market-middle-school/
END:VEVENT
BEGIN:VEVENT
DTSTART;VALUE=DATE:20140512
DTEND;VALUE=DATE:20140517
DTSTAMP:20260425T064020
CREATED:20130813T213357Z
LAST-MODIFIED:20130813T213357Z
UID:1389-1399852800-1400284799@cflu.org
SUMMARY:State STAR Testing (per District)
DESCRIPTION:
URL:https://cflu.org/event/state-star-testing-per-district-4/
END:VEVENT
BEGIN:VEVENT
DTSTART;TZID=America/Los_Angeles:20140508T153000
DTEND;TZID=America/Los_Angeles:20140508T173000
DTSTAMP:20260425T064020
CREATED:20140327T004258Z
LAST-MODIFIED:20140327T004258Z
UID:1879-1399563000-1399570200@cflu.org
SUMMARY:RAP - Mother's Day Craft
DESCRIPTION:Shhh…we’re getting ready for Mother’s Day by making special crafts. \nThe Center’s Relationship Activity Program (RAP) emphasizes episodic memory work and offers opportunities to practice the relationship building skills that are crucial in our student’s success.  This program is a good match for middle school/early high school age students who have difficulty with making friends\, are isolated from peers/adults\, or who have had poor outcome from other social skills training. \nTo sign-up for RAP or if you have any questions\, please contact Gloria Chavez.
URL:https://cflu.org/event/rap-d-craft-2/
LOCATION:CLU
END:VEVENT
END:VCALENDAR