BEGIN:VCALENDAR
VERSION:2.0
PRODID:-//The Center for Learning Unlimited - ECPv6.10.1//NONSGML v1.0//EN
CALSCALE:GREGORIAN
METHOD:PUBLISH
X-WR-CALNAME:The Center for Learning Unlimited
X-ORIGINAL-URL:https://cflu.org
X-WR-CALDESC:Events for The Center for Learning Unlimited
REFRESH-INTERVAL;VALUE=DURATION:PT1H
X-Robots-Tag:noindex
X-PUBLISHED-TTL:PT1H
BEGIN:VTIMEZONE
TZID:America/Los_Angeles
BEGIN:DAYLIGHT
TZOFFSETFROM:-0800
TZOFFSETTO:-0700
TZNAME:PDT
DTSTART:20140309T100000
END:DAYLIGHT
BEGIN:STANDARD
TZOFFSETFROM:-0700
TZOFFSETTO:-0800
TZNAME:PST
DTSTART:20141102T090000
END:STANDARD
END:VTIMEZONE
BEGIN:VEVENT
DTSTART;TZID=America/Los_Angeles:20140515T153000
DTEND;TZID=America/Los_Angeles:20140515T173000
DTSTAMP:20260425T071003
CREATED:20140327T004605Z
LAST-MODIFIED:20140327T004605Z
UID:1882-1400167800-1400175000@cflu.org
SUMMARY:RAP - Picnic in the Park
DESCRIPTION:Spring is here\, so RAP participants will be heading to a local park for a picnic in the fresh air.  This activity is subject to change based on the weather forecast) \nThe Center’s Relationship Activity Program (RAP) emphasizes episodic memory work and offers opportunities to practice the relationship building skills that are crucial in our student’s success.  This program is a good match for middle school/early high school age students who have difficulty with making friends\, are isolated from peers/adults\, or who have had poor outcome from other social skills training. \nTo sign-up for RAP or if you have any questions\, please contact Gloria Chavez.
URL:https://cflu.org/event/rap-picn/
LOCATION:Local Park
END:VEVENT
BEGIN:VEVENT
DTSTART;VALUE=DATE:20140514
DTEND;VALUE=DATE:20140515
DTSTAMP:20260425T071003
CREATED:20140508T184555Z
LAST-MODIFIED:20140508T184555Z
UID:1987-1400025600-1400111999@cflu.org
SUMMARY:New Student Portaits
DESCRIPTION:
URL:https://cflu.org/event/new-st-porta/
END:VEVENT
BEGIN:VEVENT
DTSTART;TZID=America/Los_Angeles:20140513T103000
DTEND;TZID=America/Los_Angeles:20140513T120000
DTSTAMP:20260425T071003
CREATED:20140408T232105Z
LAST-MODIFIED:20140408T232105Z
UID:1900-1399977000-1399982400@cflu.org
SUMMARY:Torrance Certified Farmer's Market (Middle School)
DESCRIPTION:Students will be   spending time at the Torrance Certified Farmer’s Market.  Staff and students will have an opportunity to talk with local farmers\, sample tasty fare\, and browse a wide selection of cut flowers and nursery stock.  Students will return to CLU around lunchtime. \nPer your parental discretion\, students are welcome to bring money to purchase items.  Please place monies in a sealed envelope with your student’s name on it.
URL:https://cflu.org/event/torrance-certified-farmers-market-middle-school/
END:VEVENT
BEGIN:VEVENT
DTSTART;VALUE=DATE:20140512
DTEND;VALUE=DATE:20140517
DTSTAMP:20260425T071003
CREATED:20130813T213357Z
LAST-MODIFIED:20130813T213357Z
UID:1389-1399852800-1400284799@cflu.org
SUMMARY:State STAR Testing (per District)
DESCRIPTION:
URL:https://cflu.org/event/state-star-testing-per-district-4/
END:VEVENT
BEGIN:VEVENT
DTSTART;TZID=America/Los_Angeles:20140508T153000
DTEND;TZID=America/Los_Angeles:20140508T173000
DTSTAMP:20260425T071003
CREATED:20140327T004258Z
LAST-MODIFIED:20140327T004258Z
UID:1879-1399563000-1399570200@cflu.org
SUMMARY:RAP - Mother's Day Craft
DESCRIPTION:Shhh…we’re getting ready for Mother’s Day by making special crafts. \nThe Center’s Relationship Activity Program (RAP) emphasizes episodic memory work and offers opportunities to practice the relationship building skills that are crucial in our student’s success.  This program is a good match for middle school/early high school age students who have difficulty with making friends\, are isolated from peers/adults\, or who have had poor outcome from other social skills training. \nTo sign-up for RAP or if you have any questions\, please contact Gloria Chavez.
URL:https://cflu.org/event/rap-d-craft-2/
LOCATION:CLU
END:VEVENT
BEGIN:VEVENT
DTSTART;TZID=America/Los_Angeles:20140506T103000
DTEND;TZID=America/Los_Angeles:20140506T120000
DTSTAMP:20260425T071003
CREATED:20140408T231923Z
LAST-MODIFIED:20140408T231923Z
UID:1897-1399372200-1399377600@cflu.org
SUMMARY:Torrance Certified Farmer's Market (Lower School)
DESCRIPTION:Students will be   spending time at the Torrance Certified Farmer’s Market.  Staff and students will have an opportunity to talk with local farmers\, sample tasty fare\, and browse a wide selection of cut flowers and nursery stock.  Students will return to CLU around lunchtime. \nPer your parental discretion\, students are welcome to bring money to purchase items.  Please place monies in a sealed envelope with your student’s name on it.
URL:https://cflu.org/event/torrance-certified-farmers-market-lower-school/
END:VEVENT
BEGIN:VEVENT
DTSTART;VALUE=DATE:20140505
DTEND;VALUE=DATE:20140510
DTSTAMP:20260425T071003
CREATED:20130813T213333Z
LAST-MODIFIED:20130813T213333Z
UID:1388-1399248000-1399679999@cflu.org
SUMMARY:State STAR Testing (per District)
DESCRIPTION:
URL:https://cflu.org/event/state-star-testing-per-district-3/
END:VEVENT
BEGIN:VEVENT
DTSTART;VALUE=DATE:20140505
DTEND;VALUE=DATE:20140506
DTSTAMP:20260425T071003
CREATED:20140501T214429Z
LAST-MODIFIED:20140501T214511Z
UID:1984-1399248000-1399334399@cflu.org
SUMMARY:2014 CLU Student Talent Show Sign-Up Due
DESCRIPTION:
URL:https://cflu.org/event/2014-clu-sign/
ORGANIZER;CN="Leah Paul":MAILTO:leah@cflu.org
END:VEVENT
BEGIN:VEVENT
DTSTART;TZID=America/Los_Angeles:20140501T153000
DTEND;TZID=America/Los_Angeles:20140501T173000
DTSTAMP:20260425T071003
CREATED:20140327T003943Z
LAST-MODIFIED:20140327T003943Z
UID:1876-1398958200-1398965400@cflu.org
SUMMARY:RAP - Cinco de Mayo Cookfest
DESCRIPTION:Participants and staff will be heading into CLU’s kitchen to celebrate Cinco de Mayo early and cook enchiladas and tacos. \nThe Center’s Relationship Activity Program (RAP) emphasizes episodic memory work and offers opportunities to practice the relationship building skills that are crucial in our student’s success.  This program is a good match for middle school/early high school age students who have difficulty with making friends\, are isolated from peers/adults\, or who have had poor outcome from other social skills training. \nTo sign-up for RAP or if you have any questions\, please contact Gloria Chavez.
URL:https://cflu.org/event/rap-cinc-de-mo-coo/
LOCATION:CLU
END:VEVENT
BEGIN:VEVENT
DTSTART;TZID=America/Los_Angeles:20140429T103000
DTEND;TZID=America/Los_Angeles:20140429T120000
DTSTAMP:20260425T071003
CREATED:20140326T233638Z
LAST-MODIFIED:20140326T233638Z
UID:1861-1398767400-1398772800@cflu.org
SUMMARY:Torrance Certified Farmer's Market (Upper School)
DESCRIPTION:Students will be   spending time at the Torrance Certified Farmer’s Market.  Staff and students will have an opportunity to talk with local farmers\, sample tasty fare\, and browse a wide selection of cut flowers and nursery stock.  Students will return to CLU around lunchtime. \nPer your parental discretion\, students are welcome to bring money to purchase items.  Please place monies in a sealed envelope with your student’s name on it.
URL:https://cflu.org/event/torrance-ct-upper-school/
LOCATION:Wilson Park
END:VEVENT
BEGIN:VEVENT
DTSTART;VALUE=DATE:20140428
DTEND;VALUE=DATE:20140503
DTSTAMP:20260425T071003
CREATED:20130813T213304Z
LAST-MODIFIED:20130813T213304Z
UID:1387-1398643200-1399075199@cflu.org
SUMMARY:State STAR Testing (per District)
DESCRIPTION:
URL:https://cflu.org/event/state-star-testing-per-district-2/
END:VEVENT
BEGIN:VEVENT
DTSTART;TZID=America/Los_Angeles:20140425T084500
DTEND;TZID=America/Los_Angeles:20140425T130000
DTSTAMP:20260425T071003
CREATED:20130813T213559Z
LAST-MODIFIED:20130813T213559Z
UID:1393-1398415500-1398430800@cflu.org
SUMMARY:Spring Parent Conferences (Min. Day-Dismissal 1:00 p.m.)
DESCRIPTION:
URL:https://cflu.org/event/spring-parent-conferences-min-day-dismissal-100-p-m-3/
END:VEVENT
BEGIN:VEVENT
DTSTART;TZID=America/Los_Angeles:20140424T153000
DTEND;TZID=America/Los_Angeles:20140424T173000
DTSTAMP:20260425T071003
CREATED:20140326T234711Z
LAST-MODIFIED:20140327T003615Z
UID:1871-1398353400-1398360600@cflu.org
SUMMARY:RAP - Cooking Turkey Burgers
DESCRIPTION:It’s amazing what a little rosemary and other seasonings can do to liven up a turkey burger.  Participants will be heading into CLU’s kitchen to grill their way to an afternoon snack. \nThe Center’s Relationship Activity Program (RAP) emphasizes episodic memory work and offers opportunities to practice the relationship building skills that are crucial in our student’s success.  This program is a good match for middle school/early high school age students who have difficulty with making friends\, are isolated from peers/adults\, or who have had poor outcome from other social skills training. \nTo sign-up for RAP or if you have any questions\, please contact Gloria Chavez.
URL:https://cflu.org/event/rap-cooking-turke/
LOCATION:CLU
END:VEVENT
BEGIN:VEVENT
DTSTART;TZID=America/Los_Angeles:20140424T084500
DTEND;TZID=America/Los_Angeles:20140424T130000
DTSTAMP:20260425T071003
CREATED:20130813T213532Z
LAST-MODIFIED:20130813T213532Z
UID:1392-1398329100-1398344400@cflu.org
SUMMARY:Spring Parent Conferences (Min. Day-Dismissal 1:00 p.m.)
DESCRIPTION:
URL:https://cflu.org/event/spring-parent-conferences-min-day-dismissal-100-p-m-2/
END:VEVENT
BEGIN:VEVENT
DTSTART;TZID=America/Los_Angeles:20140423T084500
DTEND;TZID=America/Los_Angeles:20140423T130000
DTSTAMP:20260425T071003
CREATED:20130813T213507Z
LAST-MODIFIED:20130813T213507Z
UID:1391-1398242700-1398258000@cflu.org
SUMMARY:Spring Parent Conferences (Min. Day-Dismissal 1:00 p.m.)
DESCRIPTION:
URL:https://cflu.org/event/spring-parent-conferences-min-day-dismissal-100-p-m/
END:VEVENT
BEGIN:VEVENT
DTSTART;VALUE=DATE:20140423
DTEND;VALUE=DATE:20140426
DTSTAMP:20260425T071003
CREATED:20130813T213137Z
LAST-MODIFIED:20130813T213137Z
UID:1386-1398211200-1398470399@cflu.org
SUMMARY:State STAR Testing (per District)
DESCRIPTION:
URL:https://cflu.org/event/state-star-testing-per-district/
END:VEVENT
BEGIN:VEVENT
DTSTART;TZID=America/Los_Angeles:20140422T103000
DTEND;TZID=America/Los_Angeles:20140422T120000
DTSTAMP:20260425T071003
CREATED:20140326T233535Z
LAST-MODIFIED:20140326T233535Z
UID:1858-1398162600-1398168000@cflu.org
SUMMARY:Torrance Certified Farmer's Market (Middle School)
DESCRIPTION:Students will be   spending time at the Torrance Certified Farmer’s Market.  Staff and students will have an opportunity to talk with local farmers\, sample tasty fare\, and browse a wide selection of cut flowers and nursery stock.  Students will return to CLU around lunchtime. \nPer your parental discretion\, students are welcome to bring money to purchase items.  Please place monies in a sealed envelope with your student’s name on it.
URL:https://cflu.org/event/torrance-c-market-middlel/
LOCATION:Wilson Park
END:VEVENT
BEGIN:VEVENT
DTSTART;TZID=America/Los_Angeles:20140418T084500
DTEND;TZID=America/Los_Angeles:20140418T130000
DTSTAMP:20260425T071003
CREATED:20140416T230235Z
LAST-MODIFIED:20140416T230235Z
UID:1910-1397810700-1397826000@cflu.org
SUMMARY:Min. Day (Dismissal 1:00 p.m.)
DESCRIPTION:
URL:https://cflu.org/event/min-day-dismissal-100-p-m-12/
END:VEVENT
BEGIN:VEVENT
DTSTART;TZID=America/Los_Angeles:20140417T153000
DTEND;TZID=America/Los_Angeles:20140417T173000
DTSTAMP:20260425T071003
CREATED:20140326T234524Z
LAST-MODIFIED:20140327T003135Z
UID:1868-1397748600-1397755800@cflu.org
SUMMARY:RAP - Crafts on the Beach
DESCRIPTION:Sand angels\, castles\, footprints…students are sure to have a blast letting their imagination soar making crafts on the beach.  Parents please send your student with a snack\, bottled water and sunscreen\, as appropriate. \nThe Center’s Relationship Activity Program (RAP) emphasizes episodic memory work and offers opportunities to practice the relationship building skills that are crucial in our student’s success.  This program is a good match for middle school/early high school age students who have difficulty with making friends\, are isolated from peers/adults\, or who have had poor outcome from other social skills training. \nTo sign-up for RAP or if you have any questions\, please contact Gloria Chavez.
URL:https://cflu.org/event/rap-on-the-beh-2/
LOCATION:Local Beach
END:VEVENT
BEGIN:VEVENT
DTSTART;TZID=America/Los_Angeles:20140415T103000
DTEND;TZID=America/Los_Angeles:20140415T120000
DTSTAMP:20260425T071003
CREATED:20140326T233423Z
LAST-MODIFIED:20140326T233423Z
UID:1855-1397557800-1397563200@cflu.org
SUMMARY:Torrance Certified Farmer's Market (Lower School)
DESCRIPTION:Students will be   spending time at the Torrance Certified Farmer’s Market.  Staff and students will have an opportunity to talk with local farmers\, sample tasty fare\, and browse a wide selection of cut flowers and nursery stock.  Students will return to CLU around lunchtime. \nPer your parental discretion\, students are welcome to bring money to purchase items.  Please place monies in a sealed envelope with your student’s name on it.
URL:https://cflu.org/event/torrance-cmarket-lower/
LOCATION:Wilson Park
END:VEVENT
BEGIN:VEVENT
DTSTART;VALUE=DATE:20140407
DTEND;VALUE=DATE:20140412
DTSTAMP:20260425T071003
CREATED:20130813T213026Z
LAST-MODIFIED:20130813T213026Z
UID:1385-1396828800-1397260799@cflu.org
SUMMARY:Spring Break (School Closed)
DESCRIPTION:
URL:https://cflu.org/event/spring-break-school-closed-2/
END:VEVENT
BEGIN:VEVENT
DTSTART;TZID=America/Los_Angeles:20140404T130000
DTEND;TZID=America/Los_Angeles:20140404T130000
DTSTAMP:20260425T071003
CREATED:20140321T233916Z
LAST-MODIFIED:20140321T233916Z
UID:1850-1396616400-1396616400@cflu.org
SUMMARY:Spring Break Begins (Min. Day dismissal 1:00 p.m.)
DESCRIPTION:
URL:https://cflu.org/event/spring-break-begins-min-day-dismissal-100-p-m/
END:VEVENT
BEGIN:VEVENT
DTSTART;TZID=America/Los_Angeles:20140403T153000
DTEND;TZID=America/Los_Angeles:20140403T173000
DTSTAMP:20260425T071003
CREATED:20140326T234154Z
LAST-MODIFIED:20140327T003507Z
UID:1865-1396539000-1396546200@cflu.org
SUMMARY:RAP - Bowling
DESCRIPTION:Calling all bowlers!!!  Turkeys and gutter balls are welcome as our group heads to a local bowling lane to share laughter and have a lot of fun.  Parents\, please communicate your student’s shoe size\, so that we can select the appropriate bowling shoes for them. \nThe Center’s Relationship Activity Program (RAP) emphasizes episodic memory work and offers opportunities to practice the relationship building skills that are crucial in our student’s success.  This program is a good match for middle school/early high school age students who have difficulty with making friends\, are isolated from peers/adults\, or who have had poor outcome from other social skills training. \nTo sign-up for RAP or if you have any questions\, please contact Gloria Chavez.
URL:https://cflu.org/event/rap-bow/
END:VEVENT
BEGIN:VEVENT
DTSTART;TZID=America/Los_Angeles:20140401T103000
DTEND;TZID=America/Los_Angeles:20140401T120000
DTSTAMP:20260425T071003
CREATED:20140326T233316Z
LAST-MODIFIED:20140326T233316Z
UID:1852-1396348200-1396353600@cflu.org
SUMMARY:Torrance Certified Farmer's Market (Upper School)
DESCRIPTION:Students will be   spending time at the Torrance Certified Farmer’s Market.  Staff and students will have an opportunity to talk with local farmers\, sample tasty fare\, and browse a wide selection of cut flowers and nursery stock.  Students will return to CLU around lunchtime. \nPer your parental discretion\, students are welcome to bring money to purchase items.  Please place monies in a sealed envelope with your student’s name on it.
URL:https://cflu.org/event/t-farmers-market-upr-school/
LOCATION:Wilson Park
END:VEVENT
BEGIN:VEVENT
DTSTART;TZID=America/Los_Angeles:20140329T080000
DTEND;TZID=America/Los_Angeles:20140329T143000
DTSTAMP:20260425T071003
CREATED:20140321T171354Z
LAST-MODIFIED:20140321T171354Z
UID:1839-1396080000-1396103400@cflu.org
SUMMARY:Farms and Ranches Enabling people with Disabilities (FRED) 2014 Conference
DESCRIPTION:The Center for Learning Unlimited is proud to celebrate the FRED Conference 2014 which will be held at the LAX Marriott on March 28th and 29th 2014. The purpose of FRED is to help advance the ability of special needs adults to live with real purpose regardless of the housing option they choose. \nIf you’d like to better understand the void in housing\, employment\, and recreation options for current and future generations of adults with special needs as well as learn what exists today\, the best practices\, and how to get started building new cutting edge communities\, please consider attending the FRED Conference 2014. \nFor more information about this event\, please visit the FRED Conference website.
URL:https://cflu.org/event/farms-and-ranches-enabling-people-with-disabilities-fred-2014-conference-2/
LOCATION:LAX Marriott\, 5855 W Century Blvd\, Los Angeles\, CA\, 90045\, United States
END:VEVENT
BEGIN:VEVENT
DTSTART;TZID=America/Los_Angeles:20140328T084500
DTEND;TZID=America/Los_Angeles:20140328T130000
DTSTAMP:20260425T071003
CREATED:20130813T212836Z
LAST-MODIFIED:20140321T233532Z
UID:1382-1395996300-1396011600@cflu.org
SUMMARY:End of Quarter
DESCRIPTION:
URL:https://cflu.org/event/end-of-quarter-min-day-dismissal-100-p-m-2/
END:VEVENT
BEGIN:VEVENT
DTSTART;TZID=America/Los_Angeles:20140328T080000
DTEND;TZID=America/Los_Angeles:20140328T173000
DTSTAMP:20260425T071003
CREATED:20140321T170840Z
LAST-MODIFIED:20140321T170840Z
UID:1830-1395993600-1396027800@cflu.org
SUMMARY:Farms and Ranches Enabling people with Disabilities (FRED) 2014 Conference
DESCRIPTION:The Center for Learning Unlimited is proud to celebrate the FRED Conference 2014 which will be held at the LAX Marriott on March 28th and 29th 2014. The purpose of FRED is to help advance the ability of special needs adults to live with real purpose regardless of the housing option they choose. \nIf you’d like to better understand the void in housing\, employment\, and recreation options for current and future generations of adults with special needs as well as learn what exists today\, the best practices\, and how to get started building new cutting edge communities\, please consider attending the FRED Conference 2014. \nFor more information about this event\, please visit the FRED Conference website.
URL:https://cflu.org/event/farms-and-ranches-enabling-people-with-disabilities-fred-2014-conference/
LOCATION:LAX Marriott\, 5855 W Century Blvd \, Los Angeles\, CA\, 90045\, United States
END:VEVENT
BEGIN:VEVENT
DTSTART;TZID=America/Los_Angeles:20140327T153000
DTEND;TZID=America/Los_Angeles:20140327T173000
DTSTAMP:20260425T071003
CREATED:20140220T214340Z
LAST-MODIFIED:20140320T213145Z
UID:1790-1395934200-1395941400@cflu.org
SUMMARY:RAP - Egg Hunt Craft
DESCRIPTION:The Center’s Relationship Activity Program (RAP) emphasizes episodic memory work and offers opportunities to practice the relationship building skills that are crucial in our student’s success.  This program is a good match for middle school/early high school age students who have difficulty with making friends\, are isolated from peers/adults\, or who have had poor outcome from other social skills training. \nTo sign-up for RAP or if you have any questions\, please contact Gloria Chavez.
URL:https://cflu.org/event/ea/
ORGANIZER;CN="Gloria Chavez":MAILTO:gloria@cflu.org
END:VEVENT
BEGIN:VEVENT
DTSTART;TZID=America/Los_Angeles:20140325T103000
DTEND;TZID=America/Los_Angeles:20140325T120000
DTSTAMP:20260425T071003
CREATED:20140301T000532Z
LAST-MODIFIED:20140307T015929Z
UID:1802-1395743400-1395748800@cflu.org
SUMMARY:Torrance Certified Farmer's Market (Middle School)
DESCRIPTION:Students will be   spending time at the Torrance Certified Farmer’s Market.  Staff and students will have an opportunity to talk with local farmers\, sample tasty fare\, and browse a wide selection of cut flowers and nursery stock.  Students will return to CLU around lunchtime. \nPer your parental discretion\, students are welcome to bring money to purchase items.  Please place monies in a sealed envelope with your student’s name on it.
URL:https://cflu.org/event/torr_3_25/
END:VEVENT
BEGIN:VEVENT
DTSTART;TZID=America/Los_Angeles:20140321T091500
DTEND;TZID=America/Los_Angeles:20140321T130000
DTSTAMP:20260425T071003
CREATED:20130813T211714Z
LAST-MODIFIED:20140319T020052Z
UID:1381-1395393300-1395406800@cflu.org
SUMMARY:Upper School Spring College Tour
DESCRIPTION:Time for a College Visit! \n\nWhat: Our students will have an opportunity to experience college life at Cal State campus\n\n\nWho: All students in the Upper School program\n\n\nWhen: 10:00 am to 1:00 (the Center’s van will leave at 9:15 am)\n\nGoals: to allow students an opportunity to see the college campus. understand what college life consists of including classes and career opportunities\, and gain an understanding of the enrollment process. \nExpected Outcome: \n\nStudents will have 5 questions written prior to the field trip. These questions will then be asked to the tour guide\, or a representative from admissions.\nStudents will write about the careers that the school offers. Also\, they will write more information on the one that is of interest them.\nStudents will learn the idea of managing a budget with the cost of textbooks (which they will get a chance to see at the bookstore).\nOnce this experience is over\, students will write about what they have learned from this opportunity.
URL:https://cflu.org/event/upper-school-spring-college-tour-2/
ORGANIZER;CN="Marcela Vidaure":MAILTO:marcela@cflu.org
END:VEVENT
END:VCALENDAR