BEGIN:VCALENDAR
VERSION:2.0
PRODID:-//The Center for Learning Unlimited - ECPv6.10.1//NONSGML v1.0//EN
CALSCALE:GREGORIAN
METHOD:PUBLISH
X-WR-CALNAME:The Center for Learning Unlimited
X-ORIGINAL-URL:https://cflu.org
X-WR-CALDESC:Events for The Center for Learning Unlimited
REFRESH-INTERVAL;VALUE=DURATION:PT1H
X-Robots-Tag:noindex
X-PUBLISHED-TTL:PT1H
BEGIN:VTIMEZONE
TZID:America/Los_Angeles
BEGIN:DAYLIGHT
TZOFFSETFROM:-0800
TZOFFSETTO:-0700
TZNAME:PDT
DTSTART:20130310T100000
END:DAYLIGHT
BEGIN:STANDARD
TZOFFSETFROM:-0700
TZOFFSETTO:-0800
TZNAME:PST
DTSTART:20131103T090000
END:STANDARD
BEGIN:DAYLIGHT
TZOFFSETFROM:-0800
TZOFFSETTO:-0700
TZNAME:PDT
DTSTART:20140309T100000
END:DAYLIGHT
BEGIN:STANDARD
TZOFFSETFROM:-0700
TZOFFSETTO:-0800
TZNAME:PST
DTSTART:20141102T090000
END:STANDARD
END:VTIMEZONE
BEGIN:VEVENT
DTSTART;TZID=America/Los_Angeles:20140220T153000
DTEND;TZID=America/Los_Angeles:20140220T173000
DTSTAMP:20260425T082153
CREATED:20140131T043744Z
LAST-MODIFIED:20140131T043744Z
UID:1771-1392910200-1392917400@cflu.org
SUMMARY:RAP - Kite flying and picnic time!
DESCRIPTION:The Center’s Relationship Activity Program (RAP) emphasizes episodic memory work and offers opportunities to practice the relationship building skills that are crucial in our student’s success.  This program is a good match for middle school/early high school age students who have difficulty with making friends\, are isolated from peers/adults\, or who have had poor outcome from other social skills training. \nTo sign-up for RAP or if you have any questions\, please contact Gloria Chavez.
URL:https://cflu.org/event/rap-kite-flying-and-picnic-time/
END:VEVENT
BEGIN:VEVENT
DTSTART;VALUE=DATE:20140220
DTEND;VALUE=DATE:20140221
DTSTAMP:20260425T082153
CREATED:20140108T202022Z
LAST-MODIFIED:20140108T235145Z
UID:1735-1392854400-1392940799@cflu.org
SUMMARY:Box Tops for Education (Final Day to Submit)
DESCRIPTION:Help the CLU PTO earn cash for school supplies! \nCLU parents\, families and friends are welcome to participate by clipping out Box Top coupons from products and turning them into Gloria Chavez.   Every coupon helps and these little pink coupons are everywhere\, so we hope that you will consider participating!
URL:https://cflu.org/event/box-tos-f-educ-fil-day-to-subt/
ORGANIZER;CN="Gloria Chavez":MAILTO:gloria@cflu.org
END:VEVENT
BEGIN:VEVENT
DTSTART;TZID=America/Los_Angeles:20140218T103000
DTEND;TZID=America/Los_Angeles:20140218T120000
DTSTAMP:20260425T082153
CREATED:20140108T062051Z
LAST-MODIFIED:20140108T062051Z
UID:1729-1392719400-1392724800@cflu.org
SUMMARY:Torrance Certified Farmer's Market (Upper School)
DESCRIPTION:Students will be   spending time at the Torrance Certified Farmer’s Market.  Staff and students will have an opportunity to talk with local farmers\, sample tasty fare\, and browse a wide selection of cut flowers and nursery stock.  Students will return to CLU around lunchtime. \nPer your parental discretion\, students are welcome to bring money to purchase items.  Please send monies in a sealed envelope with your student’s name on it.
URL:https://cflu.org/event/torrance-certi-fa-mark-upper-school/
LOCATION:Wilson Park
END:VEVENT
BEGIN:VEVENT
DTSTART;VALUE=DATE:20140217
DTEND;VALUE=DATE:20140218
DTSTAMP:20260425T082153
CREATED:20130813T211509Z
LAST-MODIFIED:20130813T211509Z
UID:1378-1392595200-1392681599@cflu.org
SUMMARY:Presidents Day (School Closed)
DESCRIPTION:
URL:https://cflu.org/event/presidents-day-school-closed-2/
END:VEVENT
BEGIN:VEVENT
DTSTART;TZID=America/Los_Angeles:20140214T084500
DTEND;TZID=America/Los_Angeles:20140214T130000
DTSTAMP:20260425T082153
CREATED:20130813T211443Z
LAST-MODIFIED:20130813T211443Z
UID:1377-1392367500-1392382800@cflu.org
SUMMARY:Min. Day (Dismissal 1:00 p.m.)
DESCRIPTION:
URL:https://cflu.org/event/min-day-dismissal-100-p-m-9/
END:VEVENT
BEGIN:VEVENT
DTSTART;TZID=America/Los_Angeles:20140213T153000
DTEND;TZID=America/Los_Angeles:20140213T173000
DTSTAMP:20260425T082153
CREATED:20140131T043624Z
LAST-MODIFIED:20140131T043921Z
UID:1769-1392305400-1392312600@cflu.org
SUMMARY:RAP - Valentine's Day craft
DESCRIPTION:The Center’s Relationship Activity Program (RAP) emphasizes episodic memory work and offers opportunities to practice the relationship building skills that are crucial in our student’s success.  This program is a good match for middle school/early high school age students who have difficulty with making friends\, are isolated from peers/adults\, or who have had poor outcome from other social skills training. \nTo sign-up for RAP or if you have any questions\, please contact Gloria Chavez.
URL:https://cflu.org/event/rap-vale/
END:VEVENT
BEGIN:VEVENT
DTSTART;TZID=America/Los_Angeles:20140211T103000
DTEND;TZID=America/Los_Angeles:20140211T120000
DTSTAMP:20260425T082153
CREATED:20140108T061918Z
LAST-MODIFIED:20140108T061918Z
UID:1726-1392114600-1392120000@cflu.org
SUMMARY:Torrance Certified Farmer's Market (Middel School)
DESCRIPTION:Students will be   spending time at the Torrance Certified Farmer’s Market.  Staff and students will have an opportunity to talk with local farmers\, sample tasty fare\, and browse a wide selection of cut flowers and nursery stock.  Students will return to CLU around lunchtime. \nPer your parental discretion\, students are welcome to bring money to purchase items.  Please place monies in a sealed envelope with your student’s name on it.
URL:https://cflu.org/event/torrance-certif-fars-market/
LOCATION:Wilson Park
END:VEVENT
BEGIN:VEVENT
DTSTART;VALUE=DATE:20140210
DTEND;VALUE=DATE:20140211
DTSTAMP:20260425T082153
CREATED:20130813T211400Z
LAST-MODIFIED:20130813T211400Z
UID:1376-1391990400-1392076799@cflu.org
SUMMARY:President Lincoln’s day (School Closed)
DESCRIPTION:
URL:https://cflu.org/event/president-lincolns-day-school-closed-2/
END:VEVENT
BEGIN:VEVENT
DTSTART;TZID=America/Los_Angeles:20140207T084500
DTEND;TZID=America/Los_Angeles:20140207T130000
DTSTAMP:20260425T082153
CREATED:20130813T211331Z
LAST-MODIFIED:20130813T211331Z
UID:1375-1391762700-1391778000@cflu.org
SUMMARY:Min. Day (Dismissal 1:00 p.m.)
DESCRIPTION:
URL:https://cflu.org/event/min-day-dismissal-100-p-m-8/
END:VEVENT
BEGIN:VEVENT
DTSTART;TZID=America/Los_Angeles:20140206T153000
DTEND;TZID=America/Los_Angeles:20140206T173000
DTSTAMP:20260425T082153
CREATED:20140131T043414Z
LAST-MODIFIED:20140131T043526Z
UID:1766-1391700600-1391707800@cflu.org
SUMMARY:RAP - Create a card for a special friend
DESCRIPTION:The Center’s Relationship Activity Program (RAP) emphasizes episodic memory work and offers opportunities to practice the relationship building skills that are crucial in our student’s success.  This program is a good match for middle school/early high school age students who have difficulty with making friends\, are isolated from peers/adults\, or who have had poor outcome from other social skills training. \nTo sign-up for RAP or if you have any questions\, please contact Gloria Chavez.
URL:https://cflu.org/event/rap-card-f/
END:VEVENT
BEGIN:VEVENT
DTSTART;TZID=America/Los_Angeles:20140204T103000
DTEND;TZID=America/Los_Angeles:20140204T120000
DTSTAMP:20260425T082153
CREATED:20140108T061641Z
LAST-MODIFIED:20140108T061641Z
UID:1721-1391509800-1391515200@cflu.org
SUMMARY:Torrance Certified Farmer's Market (Lower School)
DESCRIPTION:Students will be   spending time at the Torrance Certified Farmer’s Market.  Staff and students will have an opportunity to talk with local farmers\, sample tasty fare\, and browse a wide selection of cut flowers and nursery stock.  Students will return to CLU around lunchtime. \nPer your parental discretion\, students are welcome to bring money to purchase items.  Please place monies in a sealed envelope with your student’s name on it.
URL:https://cflu.org/event/torrance-certif-far-market/
LOCATION:Wilson Park
END:VEVENT
BEGIN:VEVENT
DTSTART;TZID=America/Los_Angeles:20140130T153000
DTEND;TZID=America/Los_Angeles:20140130T173000
DTSTAMP:20260425T082153
CREATED:20140106T034655Z
LAST-MODIFIED:20140110T050155Z
UID:1699-1391095800-1391103000@cflu.org
SUMMARY:RAP - Cooking Fried Chicken
DESCRIPTION:With a “safety first” motto\, we’re heading into CLU’s Kitchen to cook fried chicken. Yum!! \nThe Center’s Relationship Activity Program (RAP) emphasizes episodic memory work and offers opportunities to practice the relationship building skills that are crucial in our student’s success.  This program is a good match for middle school/early high school age students who have difficulty with making friends\, are isolated from peers/adults\, or who have had poor outcome from other social skills training. \nTo sign-up for RAP or if you have any questions\, please contact Gloria Chavez.
URL:https://cflu.org/event/rap-ch/
ORGANIZER;CN="Gloria Chavez":MAILTO:gloria@cflu.org
END:VEVENT
BEGIN:VEVENT
DTSTART;TZID=America/Los_Angeles:20140128T103000
DTEND;TZID=America/Los_Angeles:20140128T120000
DTSTAMP:20260425T082153
CREATED:20140108T061438Z
LAST-MODIFIED:20140108T061438Z
UID:1716-1390905000-1390910400@cflu.org
SUMMARY:Torrance Certified Farmer's Market (Upper School)
DESCRIPTION:Students will be   spending time at the Torrance Certified Farmer’s Market.  Staff and students will have an opportunity to talk with local farmers\, sample tasty fare\, and browse a wide selection of cut flowers and nursery stock.  Students will return to CLU around lunchtime. \nPer your parental discretion\, students are welcome to bring money to purchase items.  Please place monies in a sealed envelope with your student’s name on it.
URL:https://cflu.org/event/torrance-cert-far-market/
LOCATION:Wilson Park
END:VEVENT
BEGIN:VEVENT
DTSTART;VALUE=DATE:20140124
DTEND;VALUE=DATE:20140125
DTSTAMP:20260425T082153
CREATED:20130813T211244Z
LAST-MODIFIED:20130813T211244Z
UID:1374-1390521600-1390607999@cflu.org
SUMMARY:End of 1st Semester
DESCRIPTION:
URL:https://cflu.org/event/end-of-1st-semester-2/
END:VEVENT
BEGIN:VEVENT
DTSTART;TZID=America/Los_Angeles:20140123T153000
DTEND;TZID=America/Los_Angeles:20140123T173000
DTSTAMP:20260425T082153
CREATED:20140106T034056Z
LAST-MODIFIED:20140110T050223Z
UID:1695-1390491000-1390498200@cflu.org
SUMMARY:RAP - Madrona Marsh Hike
DESCRIPTION:We’re heading to Madrona Marsh for an afternoon of hiking in one of the last vernal marshes in Southern California.  Participants\, please remember your walking shoes and water bottles! \nThe Center’s Relationship Activity Program (RAP) emphasizes episodic memory work and offers opportunities to practice the relationship building skills that are crucial in our student’s success.  This program is a good match for middle school/early high school age students who have difficulty with making friends\, are isolated from peers/adults\, or who have had poor outcome from other social skills training. \nTo sign-up for RAP or if you have any questions\, please contact Gloria Chavez.
URL:https://cflu.org/event/rap-madrona-marsh-hike/
ORGANIZER;CN="Gloria Chavez":MAILTO:gloria@cflu.org
END:VEVENT
BEGIN:VEVENT
DTSTART;TZID=America/Los_Angeles:20140121T113000
DTEND;TZID=America/Los_Angeles:20140121T120000
DTSTAMP:20260425T082153
CREATED:20140108T061303Z
LAST-MODIFIED:20140108T061303Z
UID:1711-1390303800-1390305600@cflu.org
SUMMARY:Torrance Certified Farmer's Market (Middle School)
DESCRIPTION:Students will be   spending time at the Torrance Certified Farmer’s Market.  Staff and students will have an opportunity to talk with local farmers\, sample tasty fare\, and browse a wide selection of cut flowers and nursery stock.  Students will return to CLU around lunchtime. \nPer your parental discretion\, students are welcome to bring money to purchase items.  Please place monies in a sealed envelope with your student’s name.
URL:https://cflu.org/event/torrance-cerfied-farm-market/
LOCATION:Wilson Park
END:VEVENT
BEGIN:VEVENT
DTSTART;VALUE=DATE:20140120
DTEND;VALUE=DATE:20140121
DTSTAMP:20260425T082153
CREATED:20130813T211203Z
LAST-MODIFIED:20140116T234337Z
UID:1373-1390176000-1390262399@cflu.org
SUMMARY:Martin Luther King\, Jr. Day (School Closed)
DESCRIPTION:
URL:https://cflu.org/event/martin-luther-king-schcld-2/
END:VEVENT
BEGIN:VEVENT
DTSTART;TZID=America/Los_Angeles:20140117T084500
DTEND;TZID=America/Los_Angeles:20140117T130000
DTSTAMP:20260425T082153
CREATED:20130813T211119Z
LAST-MODIFIED:20130813T211119Z
UID:1372-1389948300-1389963600@cflu.org
SUMMARY:Min. Day (Dismissal 1:00 p.m.)
DESCRIPTION:
URL:https://cflu.org/event/min-day-dismissal-100-p-m-7/
END:VEVENT
BEGIN:VEVENT
DTSTART;TZID=America/Los_Angeles:20140116T153000
DTEND;TZID=America/Los_Angeles:20140116T173000
DTSTAMP:20260425T082153
CREATED:20140106T033722Z
LAST-MODIFIED:20140110T050255Z
UID:1692-1389886200-1389893400@cflu.org
SUMMARY:RAP - Bowling Night!!
DESCRIPTION:Calling all bowlers!!!  Turkeys and gutter balls are welcome as our group heads to a local bowling lane to share laughter and have a lot of fun. \nThe Center’s Relationship Activity Program (RAP) emphasizes episodic memory work and offers opportunities to practice the relationship building skills that are crucial in our student’s success.  This program is a good match for middle school/early high school age students who have difficulty with making friends\, are isolated from peers/adults\, or who have had poor outcome from other social skills training. \nTo sign-up for RAP or if you have any questions\, please contact Gloria Chavez.
URL:https://cflu.org/event/rap-bowl-nt/
ORGANIZER;CN="Gloria Chavez":MAILTO:gloria@cflu.org
END:VEVENT
BEGIN:VEVENT
DTSTART;VALUE=DATE:20140116
DTEND;VALUE=DATE:20140117
DTSTAMP:20260425T082153
CREATED:20140109T000628Z
LAST-MODIFIED:20140109T044704Z
UID:1740-1389830400-1389916799@cflu.org
SUMMARY:Veggie Grill Fundraiser
DESCRIPTION:New Year’s Resolution to Eat better in 2014?  Already Eating Healthy and Want to Try a NEW Spot? \nThe CLU PTO has a fundraiser that is RIGHT for you! \nTHE VEGGIE GRILL \nThis wonderful establishment will donate 50% of all food and beverages purchased on Thursday\, January 16th\,  between 11:00a.m. – 9:00 p.m. to CLU. \nHOW TO PARTICIPATE: \n1. Check out the menu: http://www.veggiegrill.com/menu.html \n2. GO TO Veggie Grill on 1/16/2014 for lunch or dinner \n3. MENTION CLU or TAKE THE FLYER with you \n4. 50% of your order GOES TO CLU! \n5. TELL YOUR FRIENDS!
URL:https://cflu.org/event/veggie-grill-fundraiser/
LOCATION:Veggie Grill\, 2533 PCH \, Torrance\, CA\, 90505\, United States
END:VEVENT
BEGIN:VEVENT
DTSTART;TZID=America/Los_Angeles:20140114T103000
DTEND;TZID=America/Los_Angeles:20140114T120000
DTSTAMP:20260425T082153
CREATED:20140108T061052Z
LAST-MODIFIED:20140108T061052Z
UID:1706-1389695400-1389700800@cflu.org
SUMMARY:Torrance Certified Farmer's Market (Lower School)
DESCRIPTION:Students will be   spending time at the Torrance Certified Farmer’s Market.  Staff and students will have an opportunity to talk with local farmers\, sample tasty fare\, and browse a wide selection of cut flowers and nursery stock.  Students will return to CLU around lunchtime. \nStudents are welcome to bring money to purchase items.  Please place monies in a sealed envelope with your student’s name on it.
URL:https://cflu.org/event/torrance-certi-far-market/
LOCATION:Wilson Park
END:VEVENT
BEGIN:VEVENT
DTSTART;TZID=America/Los_Angeles:20140109T153000
DTEND;TZID=America/Los_Angeles:20140109T173000
DTSTAMP:20260425T082153
CREATED:20140106T033053Z
LAST-MODIFIED:20140110T050408Z
UID:1686-1389281400-1389288600@cflu.org
SUMMARY:RAP - Making Gluten-Free Pizza
DESCRIPTION:Substitute a gluten-free flour blend (e.g.\, rice flours\, tapioca flour) for traditional bread flour\, add ingredients like salt\, sugar\, yeast and olive oil\,  and voila you’ve got gluten-free pizza dough! \nThe Center’s Relationship Activity Program (RAP) emphasizes episodic memory work and offers opportunities to practice the relationship building skills that are crucial in our student’s success.  This program is a good match for middle school/early high school age students who have difficulty with making friends\, are isolated from peers/adults\, or who have had poor outcome from other social skills training. \nTo sign-up for RAP or if you have any questions\, please contact Gloria Chavez.
URL:https://cflu.org/event/rap-mak-gln-fr-piza/
ORGANIZER;CN="Gloria Chavez":MAILTO:gloria@cflu.org
END:VEVENT
BEGIN:VEVENT
DTSTART;TZID=America/Los_Angeles:20140102T084500
DTEND;TZID=America/Los_Angeles:20140102T150000
DTSTAMP:20260425T082153
CREATED:20130813T211041Z
LAST-MODIFIED:20131230T041048Z
UID:1371-1388652300-1388674800@cflu.org
SUMMARY:Classes Resume - Min. Day (1:00 p.m. Dismissal)
DESCRIPTION:
URL:https://cflu.org/event/classes-resume-2/
END:VEVENT
BEGIN:VEVENT
DTSTART;VALUE=DATE:20140101
DTEND;VALUE=DATE:20140102
DTSTAMP:20260425T082153
CREATED:20130813T210945Z
LAST-MODIFIED:20130813T210945Z
UID:1370-1388534400-1388620799@cflu.org
SUMMARY:New Year’s Day (School Closed)
DESCRIPTION:
URL:https://cflu.org/event/new-years-day-school-closed-2/
END:VEVENT
BEGIN:VEVENT
DTSTART;VALUE=DATE:20131230
DTEND;VALUE=DATE:20140101
DTSTAMP:20260425T082153
CREATED:20130813T223002Z
LAST-MODIFIED:20130813T223002Z
UID:1434-1388361600-1388534399@cflu.org
SUMMARY:Winter Break (School Closed)
DESCRIPTION:
URL:https://cflu.org/event/winter-break-school-closed-3/
END:VEVENT
BEGIN:VEVENT
DTSTART;VALUE=DATE:20131223
DTEND;VALUE=DATE:20131228
DTSTAMP:20260425T082153
CREATED:20130813T210916Z
LAST-MODIFIED:20130813T222936Z
UID:1369-1387756800-1388188799@cflu.org
SUMMARY:Winter Break (School Closed)
DESCRIPTION:
URL:https://cflu.org/event/winter-break-school-closed-2/
END:VEVENT
BEGIN:VEVENT
DTSTART;TZID=America/Los_Angeles:20131220T084500
DTEND;TZID=America/Los_Angeles:20131220T130000
DTSTAMP:20260425T082153
CREATED:20130813T210845Z
LAST-MODIFIED:20130813T210845Z
UID:1368-1387529100-1387544400@cflu.org
SUMMARY:Min. Day (Dismissal 1:00 p.m.)
DESCRIPTION:
URL:https://cflu.org/event/min-day-dismissal-100-p-m-6/
END:VEVENT
BEGIN:VEVENT
DTSTART;TZID=America/Los_Angeles:20131219T153000
DTEND;TZID=America/Los_Angeles:20131219T173000
DTSTAMP:20260425T082153
CREATED:20131125T190032Z
LAST-MODIFIED:20131125T190032Z
UID:1639-1387467000-1387474200@cflu.org
SUMMARY:RAP - Making Festive Placemats
DESCRIPTION:We’re breaking out the markers\, stencils and laminating materials and making festive placemats during this RAP session. \nThe Center’s Relationship Activity Program (RAP) emphasizes episodic memory work and offers opportunities to practice the relationship building skills that are crucial in our student’s success.  This program is a good match for middle school/early high school age students who have difficulty with making friends\, are isolated from peers/adults\, or who have had poor outcome from other social skills training. \nTo sign-up for RAP or if you have any questions\, please contact Gloria Chavez.
URL:https://cflu.org/event/rap-making-festive-placemats/
ORGANIZER;CN="Gloria Chavez":MAILTO:gloria@cflu.org
END:VEVENT
BEGIN:VEVENT
DTSTART;TZID=America/Los_Angeles:20131217T103000
DTEND;TZID=America/Los_Angeles:20131217T120000
DTSTAMP:20260425T082153
CREATED:20130813T221714Z
LAST-MODIFIED:20130921T042552Z
UID:1432-1387276200-1387281600@cflu.org
SUMMARY:Torrance Certified Farmer's Market (Upper School)
DESCRIPTION:Students will be   spending time at the Torrance Certified Farmer’s Market.  Staff and students will have an opportunity to talk with local farmers\, sample tasty fare\, and browse a wide selection of cut flowers and nursery stock.  Students will return to CLU around lunchtime. \nPer your parental discretion\, students are welcome to bring money to purchase items.
URL:https://cflu.org/event/upper-farm-market-4/
LOCATION:Wilson Park
END:VEVENT
BEGIN:VEVENT
DTSTART;TZID=America/Los_Angeles:20131212T153000
DTEND;TZID=America/Los_Angeles:20131212T173000
DTSTAMP:20260425T082153
CREATED:20131125T185628Z
LAST-MODIFIED:20131125T185628Z
UID:1636-1386862200-1386869400@cflu.org
SUMMARY:RAP - Cooking (Baking Gingerbread Cookies)
DESCRIPTION:RAP participants will be celebrating the holiday season by baking gingerbread cookies in CLU’s kitchen.  Our hallways are going to smell delicious!! \nThe Center’s Relationship Activity Program (RAP) emphasizes episodic memory work and offers opportunities to practice the relationship building skills that are crucial in our student’s success.  This program is a good match for middle school/early high school age students who have difficulty with making friends\, are isolated from peers/adults\, or who have had poor outcome from other social skills training. \nTo sign-up for RAP or if you have any questions\, please contact Gloria Chavez.
URL:https://cflu.org/event/rap-cooking-baking-gingerbread-cookies/
ORGANIZER;CN="Gloria Chavez":MAILTO:gloria@cflu.org
END:VEVENT
END:VCALENDAR