BEGIN:VCALENDAR
VERSION:2.0
PRODID:-//The Center for Learning Unlimited - ECPv6.10.1//NONSGML v1.0//EN
CALSCALE:GREGORIAN
METHOD:PUBLISH
X-WR-CALNAME:The Center for Learning Unlimited
X-ORIGINAL-URL:https://cflu.org
X-WR-CALDESC:Events for The Center for Learning Unlimited
REFRESH-INTERVAL;VALUE=DURATION:PT1H
X-Robots-Tag:noindex
X-PUBLISHED-TTL:PT1H
BEGIN:VTIMEZONE
TZID:America/Los_Angeles
BEGIN:DAYLIGHT
TZOFFSETFROM:-0800
TZOFFSETTO:-0700
TZNAME:PDT
DTSTART:20130310T100000
END:DAYLIGHT
BEGIN:STANDARD
TZOFFSETFROM:-0700
TZOFFSETTO:-0800
TZNAME:PST
DTSTART:20131103T090000
END:STANDARD
END:VTIMEZONE
BEGIN:VEVENT
DTSTART;TZID=America/Los_Angeles:20130906T084500
DTEND;TZID=America/Los_Angeles:20130906T130000
DTSTAMP:20260425T162808
CREATED:20130813T202856Z
LAST-MODIFIED:20130813T202856Z
UID:1350-1378457100-1378472400@cflu.org
SUMMARY:Min. Day (Dismissal 1:00 p.m.)
DESCRIPTION:
URL:https://cflu.org/event/min-day-dismissal-100-p-m-3/
END:VEVENT
BEGIN:VEVENT
DTSTART;TZID=America/Los_Angeles:20130905T084500
DTEND;TZID=America/Los_Angeles:20130905T130000
DTSTAMP:20260425T162808
CREATED:20130813T202833Z
LAST-MODIFIED:20130813T202833Z
UID:1349-1378370700-1378386000@cflu.org
SUMMARY:Min. Day (Dismissal 1:00 p.m.)
DESCRIPTION:
URL:https://cflu.org/event/min-day-dismissal-100-p-m-2/
END:VEVENT
BEGIN:VEVENT
DTSTART;TZID=America/Los_Angeles:20130904T084500
DTEND;TZID=America/Los_Angeles:20130904T130000
DTSTAMP:20260425T162808
CREATED:20130813T202801Z
LAST-MODIFIED:20130813T202801Z
UID:1348-1378284300-1378299600@cflu.org
SUMMARY:Min. Day (Dismissal 1:00 p.m.)
DESCRIPTION:
URL:https://cflu.org/event/min-day-dismissal-100-p-m/
END:VEVENT
BEGIN:VEVENT
DTSTART;TZID=America/Los_Angeles:20130903T084500
DTEND;TZID=America/Los_Angeles:20130903T130000
DTSTAMP:20260425T162808
CREATED:20130813T202429Z
LAST-MODIFIED:20130813T202429Z
UID:1341-1378197900-1378213200@cflu.org
SUMMARY:First Day of School (Min. Day-Dismissal 1:00 p.m.)
DESCRIPTION:
URL:https://cflu.org/event/first-day-of-school-min-day-dismissal-100-p-m/
END:VEVENT
BEGIN:VEVENT
DTSTART;VALUE=DATE:20130902
DTEND;VALUE=DATE:20130903
DTSTAMP:20260425T162808
CREATED:20130813T202251Z
LAST-MODIFIED:20130813T202251Z
UID:1340-1378080000-1378166399@cflu.org
SUMMARY:Labor Day (School Closed)
DESCRIPTION:
URL:https://cflu.org/event/labor-day-school-closed/
END:VEVENT
BEGIN:VEVENT
DTSTART;TZID=America/Los_Angeles:20130829T090000
DTEND;TZID=America/Los_Angeles:20130829T150000
DTSTAMP:20260425T162808
CREATED:20130813T202716Z
LAST-MODIFIED:20130813T202716Z
UID:1347-1377766800-1377788400@cflu.org
SUMMARY:Staff Development
DESCRIPTION:
URL:https://cflu.org/event/staff-development-4/
END:VEVENT
BEGIN:VEVENT
DTSTART;TZID=America/Los_Angeles:20130829T090000
DTEND;TZID=America/Los_Angeles:20130829T120000
DTSTAMP:20260425T162808
CREATED:20130813T200951Z
LAST-MODIFIED:20130813T201850Z
UID:1335-1377766800-1377777600@cflu.org
SUMMARY:Fall Enrollment
DESCRIPTION:All registration paperwork\, fees\, school supplies and emergency kit items must be turned in on either August 26th or August 29th\, from 9:00 a.m. – 12:00 p.m.\, no appointment necessary.  Please make every effort to make one of these MANDATORY registration dates. If registration packets are incomplete\, your student will NOT be able to start school on time. If you cannot attend any of these times\, please schedule a time with Jennifer Andrade (310-997-1900 ext. 3) to submit the completed packets prior to the first week of school. Your cooperation will facilitate a smooth beginning of the school year\, as well as ensure that we have collected all necessary paperwork.
URL:https://cflu.org/event/fall-enroll-2/
END:VEVENT
BEGIN:VEVENT
DTSTART;TZID=America/Los_Angeles:20130828T090000
DTEND;TZID=America/Los_Angeles:20130828T150000
DTSTAMP:20260425T162808
CREATED:20130813T202649Z
LAST-MODIFIED:20130813T202649Z
UID:1346-1377680400-1377702000@cflu.org
SUMMARY:Staff Development
DESCRIPTION:
URL:https://cflu.org/event/staff-development-3/
END:VEVENT
BEGIN:VEVENT
DTSTART;TZID=America/Los_Angeles:20130827T090000
DTEND;TZID=America/Los_Angeles:20130827T150000
DTSTAMP:20260425T162808
CREATED:20130813T202612Z
LAST-MODIFIED:20130813T202612Z
UID:1345-1377594000-1377615600@cflu.org
SUMMARY:Staff Development
DESCRIPTION:
URL:https://cflu.org/event/staff-development-2/
END:VEVENT
BEGIN:VEVENT
DTSTART;TZID=America/Los_Angeles:20130826T090000
DTEND;TZID=America/Los_Angeles:20130826T150000
DTSTAMP:20260425T162808
CREATED:20130813T202546Z
LAST-MODIFIED:20130813T202546Z
UID:1344-1377507600-1377529200@cflu.org
SUMMARY:Staff Development
DESCRIPTION:
URL:https://cflu.org/event/staff-development/
END:VEVENT
BEGIN:VEVENT
DTSTART;TZID=America/Los_Angeles:20130826T090000
DTEND;TZID=America/Los_Angeles:20130826T120000
DTSTAMP:20260425T162808
CREATED:20130813T194611Z
LAST-MODIFIED:20130813T201935Z
UID:1332-1377507600-1377518400@cflu.org
SUMMARY:Fall Enrollment
DESCRIPTION:All registration paperwork\, fees\, school supplies and emergency kit items must be turned in on either August 26th or August 29th\, from 9:00 a.m. – 12:00 p.m.\, no appointment necessary.  Please make every effort to make one of these MANDATORY registration dates. If registration packets are incomplete\, your student will NOT be able to start school on time. If you cannot attend any of these times\, please schedule a time with Jennifer Andrade (310-997-1900 ext. 3) to submit the completed packets prior to the first week of school. Your cooperation will facilitate a smooth beginning of the school year\, as well as ensure that we have collected all necessary paperwork.
URL:https://cflu.org/event/fall-enroll/
END:VEVENT
BEGIN:VEVENT
DTSTART;TZID=America/Los_Angeles:20130815T090000
DTEND;TZID=America/Los_Angeles:20130815T160000
DTSTAMP:20260425T162808
CREATED:20130513T222849Z
LAST-MODIFIED:20130513T222849Z
UID:1196-1376557200-1376582400@cflu.org
SUMMARY:RAP Summer Camp: 1 Week Day Camp (Session 2)
DESCRIPTION:In combination with our educational programs\, we also offer theme-based RAP summer camps starting in late June through early August. \nThemes for RAP summer camps will toggle weekly between cooking or outing/adventure activities. Cooking themed weeks will be filled with fun\, diverse summertime recipes centered around a “recipes from around the world” theme. Adventure themed weeks will include activities like hiking\, bowling\, and picnicking at the beach. Summer Day Camp Activities  will be larger scale activities such as visiting the Aquarium of the Pacific\, Beach\, Zoo\, and IMAX. \nFor more information about the CLU summer camp 2013 schedule\, click HERE!
URL:https://cflu.org/event/rap-summer-camp-1-week-day-camp-session-2-4/
ORGANIZER;CN="Nicholette Villalon":MAILTO:nicholette@cflu.org
END:VEVENT
BEGIN:VEVENT
DTSTART;TZID=America/Los_Angeles:20130814T090000
DTEND;TZID=America/Los_Angeles:20130814T160000
DTSTAMP:20260425T162808
CREATED:20130513T222751Z
LAST-MODIFIED:20130513T222751Z
UID:1194-1376470800-1376496000@cflu.org
SUMMARY:RAP Summer Camp: 1 Week Day Camp (Session 2)
DESCRIPTION:In combination with our educational programs\, we also offer theme-based RAP summer camps starting in late June through early August. \nThemes for RAP summer camps will toggle weekly between cooking or outing/adventure activities. Cooking themed weeks will be filled with fun\, diverse summertime recipes centered around a “recipes from around the world” theme. Adventure themed weeks will include activities like hiking\, bowling\, and picnicking at the beach. Summer Day Camp Activities  will be larger scale activities such as visiting the Aquarium of the Pacific\, Beach\, Zoo\, and IMAX. \nFor more information about the CLU summer camp 2013 schedule\, click HERE!
URL:https://cflu.org/event/rap-summer-camp-1-week-day-camp-session-2-3/
ORGANIZER;CN="Nicholette Villalon":MAILTO:nicholette@cflu.org
END:VEVENT
BEGIN:VEVENT
DTSTART;TZID=America/Los_Angeles:20130813T090000
DTEND;TZID=America/Los_Angeles:20130813T160000
DTSTAMP:20260425T162808
CREATED:20130513T222654Z
LAST-MODIFIED:20130513T222654Z
UID:1192-1376384400-1376409600@cflu.org
SUMMARY:RAP Summer Camp: 1 Week Day Camp (Session 2)
DESCRIPTION:In combination with our educational programs\, we also offer theme-based RAP summer camps starting in late June through early August. \nThemes for RAP summer camps will toggle weekly between cooking or outing/adventure activities. Cooking themed weeks will be filled with fun\, diverse summertime recipes centered around a “recipes from around the world” theme. Adventure themed weeks will include activities like hiking\, bowling\, and picnicking at the beach. Summer Day Camp Activities  will be larger scale activities such as visiting the Aquarium of the Pacific\, Beach\, Zoo\, and IMAX. \nFor more information about the CLU summer camp 2013 schedule\, click HERE!
URL:https://cflu.org/event/rap-summer-camp-1-week-day-camp-session-2-2/
ORGANIZER;CN="Nicholette Villalon":MAILTO:nicholette@cflu.org
END:VEVENT
BEGIN:VEVENT
DTSTART;TZID=America/Los_Angeles:20130812T090000
DTEND;TZID=America/Los_Angeles:20130812T160000
DTSTAMP:20260425T162808
CREATED:20130513T222606Z
LAST-MODIFIED:20130513T222606Z
UID:1190-1376298000-1376323200@cflu.org
SUMMARY:RAP Summer Camp: 1 Week Day Camp (Session 2)
DESCRIPTION:In combination with our educational programs\, we also offer theme-based RAP summer camps starting in late June through early August. \nThemes for RAP summer camps will toggle weekly between cooking or outing/adventure activities. Cooking themed weeks will be filled with fun\, diverse summertime recipes centered around a “recipes from around the world” theme. Adventure themed weeks will include activities like hiking\, bowling\, and picnicking at the beach. Summer Day Camp Activities  will be larger scale activities such as visiting the Aquarium of the Pacific\, Beach\, Zoo\, and IMAX. \nFor more information about the CLU summer camp 2013 schedule\, click HERE!
URL:https://cflu.org/event/rap-summer-camp-1-week-day-camp-session-2/
ORGANIZER;CN="Nicholette Villalon":MAILTO:nicholette@cflu.org
END:VEVENT
BEGIN:VEVENT
DTSTART;TZID=America/Los_Angeles:20130808T090000
DTEND;TZID=America/Los_Angeles:20130808T160000
DTSTAMP:20260425T162809
CREATED:20130513T222510Z
LAST-MODIFIED:20130513T222510Z
UID:1188-1375952400-1375977600@cflu.org
SUMMARY:RAP Summer Camp: 1 Week Day Camp (Session 1)
DESCRIPTION:In combination with our educational programs\, we also offer theme-based RAP summer camps starting in late June through early August. \nThemes for RAP summer camps will toggle weekly between cooking or outing/adventure activities. Cooking themed weeks will be filled with fun\, diverse summertime recipes centered around a “recipes from around the world” theme. Adventure themed weeks will include activities like hiking\, bowling\, and picnicking at the beach. Summer Day Camp Activities  will be larger scale activities such as visiting the Aquarium of the Pacific\, Beach\, Zoo\, and IMAX. \nFor more information about the CLU summer camp 2013 schedule\, click HERE!
URL:https://cflu.org/event/rap-summer-camp-1-week-day-camp-session-1-4/
ORGANIZER;CN="Nicholette Villalon":MAILTO:nicholette@cflu.org
END:VEVENT
BEGIN:VEVENT
DTSTART;TZID=America/Los_Angeles:20130807T090000
DTEND;TZID=America/Los_Angeles:20130807T160000
DTSTAMP:20260425T162809
CREATED:20130513T222413Z
LAST-MODIFIED:20130513T222413Z
UID:1186-1375866000-1375891200@cflu.org
SUMMARY:RAP Summer Camp: 1 Week Day Camp (Session 1)
DESCRIPTION:In combination with our educational programs\, we also offer theme-based RAP summer camps starting in late June through early August. \nThemes for RAP summer camps will toggle weekly between cooking or outing/adventure activities. Cooking themed weeks will be filled with fun\, diverse summertime recipes centered around a “recipes from around the world” theme. Adventure themed weeks will include activities like hiking\, bowling\, and picnicking at the beach. Summer Day Camp Activities  will be larger scale activities such as visiting the Aquarium of the Pacific\, Beach\, Zoo\, and IMAX. \nFor more information about the CLU summer camp 2013 schedule\, click HERE!
URL:https://cflu.org/event/rap-summer-camp-1-week-day-camp-session-1-3/
ORGANIZER;CN="Nicholette Villalon":MAILTO:nicholette@cflu.org
END:VEVENT
BEGIN:VEVENT
DTSTART;TZID=America/Los_Angeles:20130806T090000
DTEND;TZID=America/Los_Angeles:20130806T160000
DTSTAMP:20260425T162809
CREATED:20130513T222312Z
LAST-MODIFIED:20130513T222312Z
UID:1184-1375779600-1375804800@cflu.org
SUMMARY:RAP Summer Camp: 1 Week Day Camp (Session 1)
DESCRIPTION:In combination with our educational programs\, we also offer theme-based RAP summer camps starting in late June through early August. \nThemes for RAP summer camps will toggle weekly between cooking or outing/adventure activities. Cooking themed weeks will be filled with fun\, diverse summertime recipes centered around a “recipes from around the world” theme. Adventure themed weeks will include activities like hiking\, bowling\, and picnicking at the beach. Summer Day Camp Activities  will be larger scale activities such as visiting the Aquarium of the Pacific\, Beach\, Zoo\, and IMAX. \nFor more information about the CLU summer camp 2013 schedule\, click HERE!
URL:https://cflu.org/event/rap-summer-camp-1-week-day-camp-session-1-2/
ORGANIZER;CN="Nicholette Villalon":MAILTO:nicholette@cflu.org
END:VEVENT
BEGIN:VEVENT
DTSTART;TZID=America/Los_Angeles:20130805T090000
DTEND;TZID=America/Los_Angeles:20130805T160000
DTSTAMP:20260425T162809
CREATED:20130513T222210Z
LAST-MODIFIED:20130513T222210Z
UID:1182-1375693200-1375718400@cflu.org
SUMMARY:RAP Summer Camp: 1 Week Day Camp (Session 1)
DESCRIPTION:In combination with our educational programs\, we also offer theme-based RAP summer camps starting in late June through early August. \nThemes for RAP summer camps will toggle weekly between cooking or outing/adventure activities. Cooking themed weeks will be filled with fun\, diverse summertime recipes centered around a “recipes from around the world” theme. Adventure themed weeks will include activities like hiking\, bowling\, and picnicking at the beach. Summer Day Camp Activities will be larger scale activities such as visiting the Aquarium of the Pacific\, Beach\, Zoo\, and IMAX. \nFor more information about the CLU summer camp 2013 schedule\, click HERE!
URL:https://cflu.org/event/rap-summer-camp-1-week-day-camp-session-1/
ORGANIZER;CN="Nicholette Villalon":MAILTO:nicholette@cflu.org
END:VEVENT
BEGIN:VEVENT
DTSTART;VALUE=DATE:20130804
DTEND;VALUE=DATE:20130805
DTSTAMP:20260425T162809
CREATED:20121119T224354Z
LAST-MODIFIED:20121119T224354Z
UID:906-1375574400-1375660799@cflu.org
SUMMARY:Summer School Ends
DESCRIPTION:
URL:https://cflu.org/event/summer-school-ends/
END:VEVENT
BEGIN:VEVENT
DTSTART;TZID=America/Los_Angeles:20130803T090000
DTEND;TZID=America/Los_Angeles:20130803T120000
DTSTAMP:20260425T162809
CREATED:20130730T215332Z
LAST-MODIFIED:20130730T215332Z
UID:1283-1375520400-1375531200@cflu.org
SUMMARY:CLU Physical Education Car Wash Fundraiser
DESCRIPTION:To help raise money towards their goal of purchasing new physical education equipment\, CLU students are hosting a CAR WASH FUNDRAISER! \nPlease join CLU staff and students at our school’s back entrance behind Smart & Final.  This entrance can be accessed via the Torrance Towne Centre parking lot if you travel towards Goodwill or directly off Airport Drive. \nCar wash tickets can be purchased prior to\, or at\, the event.  Please contact Jeff Haviland for details.  All proceeds will go towards the purchase of new physical education equipment for CLU students. \nStudents: please plan to arrive at 8:30 a.m. to help with set-up activities. \n 
URL:https://cflu.org/event/clu-physical-education-car-wash-fundraiser/
LOCATION:CLU (Back entrance)
END:VEVENT
BEGIN:VEVENT
DTSTART;TZID=America/Los_Angeles:20130801T130000
DTEND;TZID=America/Los_Angeles:20130801T153000
DTSTAMP:20260425T162809
CREATED:20130513T221942Z
LAST-MODIFIED:20130730T120325Z
UID:1180-1375362000-1375371000@cflu.org
SUMMARY:RAP Summer Camp: Adventure Camp (Week 6)
DESCRIPTION:In combination with our educational programs\, we also offer theme-based RAP summer camps starting in late June through early August. \nThemes for RAP summer camps will toggle weekly between cooking or outing/adventure activities. Cooking themed weeks will be filled with fun\, diverse summertime recipes centered around a “recipes from around the world” theme. Adventure themed weeks will include activities like hiking\, bowling\, and picnicking at the beach. Summer Day Camp Activities will be larger scale activities such as visiting the Aquarium of the Pacific\, Beach\, Zoo\, and IMAX. \nFor more information about the CLU summer camp 2013 schedule\, click HERE!
URL:https://cflu.org/event/rap-sum-adventure-camp-week-6-4/
ORGANIZER;CN="Nicholette Villalon":MAILTO:nicholette@cflu.org
END:VEVENT
BEGIN:VEVENT
DTSTART;TZID=America/Los_Angeles:20130731T130000
DTEND;TZID=America/Los_Angeles:20130731T153000
DTSTAMP:20260425T162809
CREATED:20130513T221843Z
LAST-MODIFIED:20130730T220514Z
UID:1178-1375275600-1375284600@cflu.org
SUMMARY:RAP Summer Camp: Adventure Camp (Week 6)
DESCRIPTION:In combination with our educational programs\, we also offer theme-based RAP summer camps starting in late June through early August. \nThemes for RAP summer camps will toggle weekly between cooking or outing/adventure activities. Cooking themed weeks will be filled with fun\, diverse summertime recipes centered around a “recipes from around the world” theme. Adventure themed weeks will include activities like hiking\, bowling\, and picnicking at the beach. Summer Day Camp Activities will be larger scale activities such as visiting the Aquarium of the Pacific\, Beach\, Zoo\, and IMAX. \nFor more information about the CLU summer camp 2013 schedule\, click HERE!
URL:https://cflu.org/event/rap-sum-camp-adventure-camp-week-6-3/
ORGANIZER;CN="Nicholette Villalon":MAILTO:nicholette@cflu.org
END:VEVENT
BEGIN:VEVENT
DTSTART;TZID=America/Los_Angeles:20130730T130000
DTEND;TZID=America/Los_Angeles:20130730T153000
DTSTAMP:20260425T162809
CREATED:20130513T221718Z
LAST-MODIFIED:20130730T220558Z
UID:1176-1375189200-1375198200@cflu.org
SUMMARY:RAP Summer Camp: Adventure Camp (Week 6)
DESCRIPTION:In combination with our educational programs\, we also offer theme-based RAP summer camps starting in late June through early August. \nThemes for RAP summer camps will toggle weekly between cooking or outing/adventure activities. Cooking themed weeks will be filled with fun\, diverse summertime recipes centered around a “recipes from around the world” theme. Adventure themed weeks will include activities like hiking\, bowling\, and picnicking at the beach. Summer Day Camp Activities will be larger scale activities such as visiting the Aquarium of the Pacific\, Beach\, Zoo\, and IMAX. \nFor more information about the CLU summer camp 2013 schedule\, click HERE!
URL:https://cflu.org/event/rap-sum-camp-adventure-camp-week-6-2/
ORGANIZER;CN="Nicholette Villalon":MAILTO:nicholette@cflu.org
END:VEVENT
BEGIN:VEVENT
DTSTART;TZID=America/Los_Angeles:20130729T130000
DTEND;TZID=America/Los_Angeles:20130729T153000
DTSTAMP:20260425T162809
CREATED:20130513T221617Z
LAST-MODIFIED:20130730T220710Z
UID:1174-1375102800-1375111800@cflu.org
SUMMARY:RAP Summer Camp: Adventure Camp (Week 6)
DESCRIPTION:In combination with our educational programs\, we also offer theme-based RAP summer camps starting in late June through early August. \nThemes for RAP summer camps will toggle weekly between cooking or outing/adventure activities. Cooking themed weeks will be filled with fun\, diverse summertime recipes centered around a “recipes from around the world” theme. Adventure themed weeks will include activities like hiking\, bowling\, and picnicking at the beach. Summer Day Camp Activities will be larger scale activities such as visiting the Aquarium of the Pacific\, Beach\, Zoo\, and IMAX. \nFor more information about the CLU summer camp 2013 schedule\, click HERE!
URL:https://cflu.org/event/rap-sum-camp-adv-camp-week-6/
ORGANIZER;CN="Nicholette Villalon":MAILTO:nicholette@cflu.org
END:VEVENT
BEGIN:VEVENT
DTSTART;TZID=America/Los_Angeles:20130725T130000
DTEND;TZID=America/Los_Angeles:20130725T153000
DTSTAMP:20260425T162809
CREATED:20130513T215928Z
LAST-MODIFIED:20130513T223645Z
UID:1158-1374757200-1374766200@cflu.org
SUMMARY:RAP Summer Camp: Cooking Camp (Week 5)
DESCRIPTION:In combination with our educational programs\, we also offer theme-based RAP summer camps starting in late June through early August. \nThemes for RAP summer camps will toggle weekly between cooking or outing/adventure activities. Cooking themed weeks will be filled with fun\, diverse summertime recipes centered around a “recipes from around the world” theme. Adventure themed weeks will include activities like hiking\, bowling\, and picnicking at the beach. Summer Day Camp Activities will be larger scale activities such as visiting the Aquarium of the Pacific\, Beach\, Zoo\, and IMAX. \nFor more information about the CLU summer camp 2013 schedule\, click HERE!
URL:https://cflu.org/event/rap-summer-camp-cooking-camp-week-3-4/
ORGANIZER;CN="Nicholette Villalon":MAILTO:nicholette@cflu.org
END:VEVENT
BEGIN:VEVENT
DTSTART;TZID=America/Los_Angeles:20130724T130000
DTEND;TZID=America/Los_Angeles:20130724T153000
DTSTAMP:20260425T162809
CREATED:20130513T215833Z
LAST-MODIFIED:20130513T223709Z
UID:1156-1374670800-1374679800@cflu.org
SUMMARY:RAP Summer Camp: Cooking Camp (Week 5)
DESCRIPTION:In combination with our educational programs\, we also offer theme-based RAP summer camps starting in late June through early August. \nThemes for RAP summer camps will toggle weekly between cooking or outing/adventure activities. Cooking themed weeks will be filled with fun\, diverse summertime recipes centered around a “recipes from around the world” theme. Adventure themed weeks will include activities like hiking\, bowling\, and picnicking at the beach. Summer Day Camp Activities will be larger scale activities such as visiting the Aquarium of the Pacific\, Beach\, Zoo\, and IMAX. \nFor more information about the CLU summer camp 2013 schedule\, click HERE!
URL:https://cflu.org/event/rap-summer-camp-cooking-camp-week-3-3/
ORGANIZER;CN="Nicholette Villalon":MAILTO:nicholette@cflu.org
END:VEVENT
BEGIN:VEVENT
DTSTART;TZID=America/Los_Angeles:20130723T130000
DTEND;TZID=America/Los_Angeles:20130723T153000
DTSTAMP:20260425T162809
CREATED:20130513T215727Z
LAST-MODIFIED:20130513T223730Z
UID:1154-1374584400-1374593400@cflu.org
SUMMARY:RAP Summer Camp: Cooking Camp (Week 5)
DESCRIPTION:In combination with our educational programs\, we also offer theme-based RAP summer camps starting in late June through early August. \nThemes for RAP summer camps will toggle weekly between cooking or outing/adventure activities. Cooking themed weeks will be filled with fun\, diverse summertime recipes centered around a “recipes from around the world” theme. Adventure themed weeks will include activities like hiking\, bowling\, and picnicking at the beach. Summer Day Camp Activities will be larger scale activities such as visiting the Aquarium of the Pacific\, Beach\, Zoo\, and IMAX. \nFor more information about the CLU summer camp 2013 schedule\, click HERE!
URL:https://cflu.org/event/rap-summer-camp-cooking-camp-week-3-2/
ORGANIZER;CN="Nicholette Villalon":MAILTO:nicholette@cflu.org
END:VEVENT
BEGIN:VEVENT
DTSTART;TZID=America/Los_Angeles:20130722T130000
DTEND;TZID=America/Los_Angeles:20130722T153000
DTSTAMP:20260425T162809
CREATED:20130513T215633Z
LAST-MODIFIED:20130513T223744Z
UID:1152-1374498000-1374507000@cflu.org
SUMMARY:RAP Summer Camp: Cooking Camp (Week 5)
DESCRIPTION:In combination with our educational programs\, we also offer theme-based RAP summer camps starting in late June through early August. \nThemes for RAP summer camps will toggle weekly between cooking or outing/adventure activities. Cooking themed weeks will be filled with fun\, diverse summertime recipes centered around a “recipes from around the world” theme. Adventure themed weeks will include activities like hiking\, bowling\, and picnicking at the beach. Summer Day Camp Activities will be larger scale activities such as visiting the Aquarium of the Pacific\, Beach\, Zoo\, and IMAX. \nFor more information about the CLU summer camp 2013 schedule\, click HERE!
URL:https://cflu.org/event/rap-summer-camp-cooking-camp-week-3/
ORGANIZER;CN="Nicholette Villalon":MAILTO:nicholette@cflu.org
END:VEVENT
BEGIN:VEVENT
DTSTART;TZID=America/Los_Angeles:20130718T130000
DTEND;TZID=America/Los_Angeles:20130718T153000
DTSTAMP:20260425T162809
CREATED:20130513T221522Z
LAST-MODIFIED:20130513T223759Z
UID:1172-1374152400-1374161400@cflu.org
SUMMARY:RAP Summer Camp: Adventure Camp (Week 4)
DESCRIPTION:In combination with our educational programs\, we also offer theme-based RAP summer camps starting in late June through early August. \nThemes for RAP summer camps will toggle weekly between cooking or outing/adventure activities. Cooking themed weeks will be filled with fun\, diverse summertime recipes centered around a “recipes from around the world” theme. Adventure themed weeks will include activities like hiking\, bowling\, and picnicking at the beach. Summer Day Camp Activities will be larger scale activities such as visiting the Aquarium of the Pacific\, Beach\, Zoo\, and IMAX. \nFor more information about the CLU summer camp 2013 schedule\, click HERE!
URL:https://cflu.org/event/rap-summer-camp-adventure-camp-week-4-4/
ORGANIZER;CN="Nicholette Villalon":MAILTO:nicholette@cflu.org
END:VEVENT
END:VCALENDAR