BEGIN:VCALENDAR
VERSION:2.0
PRODID:-//The Center for Learning Unlimited - ECPv6.10.1//NONSGML v1.0//EN
CALSCALE:GREGORIAN
METHOD:PUBLISH
X-WR-CALNAME:The Center for Learning Unlimited
X-ORIGINAL-URL:https://cflu.org
X-WR-CALDESC:Events for The Center for Learning Unlimited
REFRESH-INTERVAL;VALUE=DURATION:PT1H
X-Robots-Tag:noindex
X-PUBLISHED-TTL:PT1H
BEGIN:VTIMEZONE
TZID:America/Los_Angeles
BEGIN:DAYLIGHT
TZOFFSETFROM:-0800
TZOFFSETTO:-0700
TZNAME:PDT
DTSTART:20150308T100000
END:DAYLIGHT
BEGIN:STANDARD
TZOFFSETFROM:-0700
TZOFFSETTO:-0800
TZNAME:PST
DTSTART:20151101T090000
END:STANDARD
END:VTIMEZONE
BEGIN:VEVENT
DTSTART;TZID=America/Los_Angeles:20150601T090000
DTEND;TZID=America/Los_Angeles:20150601T123000
DTSTAMP:20260425T091054
CREATED:20150601T042743Z
LAST-MODIFIED:20150601T042743Z
UID:2782-1433149200-1433161800@cflu.org
SUMMARY:Field Day at the Park (Lower School)
DESCRIPTION:
URL:https://cflu.org/event/lwrpk/
END:VEVENT
BEGIN:VEVENT
DTSTART;TZID=America/Los_Angeles:20150602T130000
DTEND;TZID=America/Los_Angeles:20150602T150000
DTSTAMP:20260425T091054
CREATED:20150515T035258Z
LAST-MODIFIED:20150515T035258Z
UID:2755-1433250000-1433257200@cflu.org
SUMMARY:Torrance Beach Outing (select students)
DESCRIPTION:Please send your student with their swimsuit\, towel\, sunscreen\, and change of clothes.
URL:https://cflu.org/event/bch/
END:VEVENT
BEGIN:VEVENT
DTSTART;TZID=America/Los_Angeles:20150604T103000
DTEND;TZID=America/Los_Angeles:20150604T120000
DTSTAMP:20260425T091054
CREATED:20150528T234405Z
LAST-MODIFIED:20150528T234405Z
UID:2774-1433413800-1433419200@cflu.org
SUMMARY:Hike at Del Cerro (Lower School)
DESCRIPTION:Lower School students and staff will head to a local PV trail for some outdoor fun and exercise.
URL:https://cflu.org/event/hike-at-del-cerro-lower-school-2/
END:VEVENT
BEGIN:VEVENT
DTSTART;TZID=America/Los_Angeles:20150604T130000
DTEND;TZID=America/Los_Angeles:20150604T150000
DTSTAMP:20260425T091054
CREATED:20150515T035349Z
LAST-MODIFIED:20150515T035349Z
UID:2756-1433422800-1433430000@cflu.org
SUMMARY:Torrance Beach Outing (select students)
DESCRIPTION:Please send your student with their swimsuit\, towel\, sunscreen\, and change of clothes.
URL:https://cflu.org/event/bch2/
END:VEVENT
BEGIN:VEVENT
DTSTART;TZID=America/Los_Angeles:20150609T103000
DTEND;TZID=America/Los_Angeles:20150609T120000
DTSTAMP:20260425T091054
CREATED:20150601T042642Z
LAST-MODIFIED:20150601T042642Z
UID:2779-1433845800-1433851200@cflu.org
SUMMARY:Torrance Certified Farmer's Market (Lower School Only)
DESCRIPTION:Students and staff will visit the Torrance Certified Farmer’s Market.  If you wish to send your student with a shopping list and money\, please enclose both in a labeled envelope.
URL:https://cflu.org/event/lstfrm/
LOCATION:Torrance Certified Farmer’s Market
END:VEVENT
BEGIN:VEVENT
DTSTART;TZID=America/Los_Angeles:20150611T103000
DTEND;TZID=America/Los_Angeles:20150611T120000
DTSTAMP:20260425T091054
CREATED:20150109T054230Z
LAST-MODIFIED:20150601T042403Z
UID:2542-1434018600-1434024000@cflu.org
SUMMARY:Hike at Del Cerro (Lower School Only)
DESCRIPTION:Lower school students and staff will be spending part of the morning at Del Cerro.
URL:https://cflu.org/event/lib-low-11/
END:VEVENT
BEGIN:VEVENT
DTSTART;TZID=America/Los_Angeles:20150612T103000
DTEND;TZID=America/Los_Angeles:20150612T130000
DTSTAMP:20260425T091054
CREATED:20140714T230825Z
LAST-MODIFIED:20150529T184128Z
UID:2205-1434105000-1434114000@cflu.org
SUMMARY:Last day of School (Min. Day - 1:00 p.m. Dismissal)
DESCRIPTION:We welcome CLU families\, friends\, and staff to join us on Friday\, June 12th\, as we gather to celebrate the close of another wonderful school year.  You’re welcome to stay for all of the following activities or come when you are able:\n\n10:30 a.m. – Graduation Ceremony\n11:00 a.m. – CLU Student Talent Show\n11:30 a.m. – Potluck BBQ Lunch\n12:30 p.m. – Parents collect student artwork\n1:00 p.m. – Dismissal
URL:https://cflu.org/event/jn12/
LOCATION:CLU Campus
END:VEVENT
BEGIN:VEVENT
DTSTART;TZID=America/Los_Angeles:20150622T090000
DTEND;TZID=America/Los_Angeles:20150622T090000
DTSTAMP:20260425T091054
CREATED:20140714T230903Z
LAST-MODIFIED:20140714T230903Z
UID:2206-1434963600-1434963600@cflu.org
SUMMARY:Summer School Starts
DESCRIPTION:
URL:https://cflu.org/event/summer-school-starts-2/
END:VEVENT
BEGIN:VEVENT
DTSTART;TZID=America/Los_Angeles:20150623T093000
DTEND;TZID=America/Los_Angeles:20150623T093000
DTSTAMP:20260425T091054
CREATED:20150623T181534Z
LAST-MODIFIED:20150623T181534Z
UID:2834-1435051800-1435051800@cflu.org
SUMMARY:Staff Development Reminder (9:30 a.m. late start)
DESCRIPTION:Each Monday\, CLU staff participate in a staff development session before the start of school. \nParents\, please ensure that your student’s transportation provider is aware that school gates will open at 9:30 a.m. for the start of school.
URL:https://cflu.org/event/stafdv2/
END:VEVENT
BEGIN:VEVENT
DTSTART;TZID=America/Los_Angeles:20150623T103000
DTEND;TZID=America/Los_Angeles:20150623T120000
DTSTAMP:20260425T091054
CREATED:20150622T180449Z
LAST-MODIFIED:20150622T180449Z
UID:2786-1435055400-1435060800@cflu.org
SUMMARY:Torrance Certified Farmer's Market (Lower School)
DESCRIPTION:Lower School students will be spending time at the Torrance Certified Farmer’s Market. Staff and students will have an opportunity to talk with local farmers\, sample tasty fare\, and browse a wide selection of cut flowers and nursery stock. Students will return to CLU around lunchtime. \nPer your parental discretion\, students are welcome to bring money to purchase items. Please place monies in a sealed envelope with your student’s name on it.
URL:https://cflu.org/event/summkt1/
LOCATION:Torrance Certified Farmer’s Market\, 2200 Crenshaw Blvd.\, Torrance\, 90505
END:VEVENT
BEGIN:VEVENT
DTSTART;TZID=America/Los_Angeles:20150626T103000
DTEND;TZID=America/Los_Angeles:20150626T120000
DTSTAMP:20260425T091054
CREATED:20150622T185336Z
LAST-MODIFIED:20150622T185336Z
UID:2818-1435314600-1435320000@cflu.org
SUMMARY:Beach Bike Riding (Middle School
DESCRIPTION:Students and staff will head to a local beach for outdoor activity.
URL:https://cflu.org/event/bchbke/
LOCATION:Torrance Beach
END:VEVENT
BEGIN:VEVENT
DTSTART;TZID=America/Los_Angeles:20150630T103000
DTEND;TZID=America/Los_Angeles:20150630T120000
DTSTAMP:20260425T091054
CREATED:20150622T180626Z
LAST-MODIFIED:20150622T180651Z
UID:2789-1435660200-1435665600@cflu.org
SUMMARY:Torrance Certified Farmer's Market (Lower School)
DESCRIPTION:Lower School students will be spending time at the Torrance Certified Farmer’s Market. Staff and students will have an opportunity to talk with local farmers\, sample tasty fare\, and browse a wide selection of cut flowers and nursery stock. Students will return to CLU around lunchtime. \nPer your parental discretion\, students are welcome to bring money to purchase items. Please place monies in a sealed envelope with your student’s name on it.
URL:https://cflu.org/event/summkt2/
LOCATION:Torrance Certified Farmer’s Market\, 2200 Crenshaw Blvd.\, Torrance
END:VEVENT
END:VCALENDAR