BEGIN:VCALENDAR
VERSION:2.0
PRODID:-//The Center for Learning Unlimited - ECPv6.10.1//NONSGML v1.0//EN
CALSCALE:GREGORIAN
METHOD:PUBLISH
X-ORIGINAL-URL:https://cflu.org
X-WR-CALDESC:Events for The Center for Learning Unlimited
REFRESH-INTERVAL;VALUE=DURATION:PT1H
X-Robots-Tag:noindex
X-PUBLISHED-TTL:PT1H
BEGIN:VTIMEZONE
TZID:America/Los_Angeles
BEGIN:DAYLIGHT
TZOFFSETFROM:-0800
TZOFFSETTO:-0700
TZNAME:PDT
DTSTART:20210314T100000
END:DAYLIGHT
BEGIN:STANDARD
TZOFFSETFROM:-0700
TZOFFSETTO:-0800
TZNAME:PST
DTSTART:20211107T090000
END:STANDARD
END:VTIMEZONE
BEGIN:VEVENT
DTSTART;VALUE=DATE:20210507
DTEND;VALUE=DATE:20210508
DTSTAMP:20260425T153009
CREATED:20200805T142936Z
LAST-MODIFIED:20200805T142936Z
UID:4501-1620345600-1620431999@cflu.org
SUMMARY:Staff Development (School Closed)
DESCRIPTION:
URL:https://cflu.org/event/staff-development-school-closed-4/
END:VEVENT
BEGIN:VEVENT
DTSTART;VALUE=DATE:20210528
DTEND;VALUE=DATE:20210529
DTSTAMP:20260425T153009
CREATED:20200805T143016Z
LAST-MODIFIED:20200805T143016Z
UID:4503-1622160000-1622246399@cflu.org
SUMMARY:Minimum Day (Dismissal at 1:05 p.m.)
DESCRIPTION:
URL:https://cflu.org/event/minimum-day-dismissal-at-105-p-m-4/
END:VEVENT
BEGIN:VEVENT
DTSTART;VALUE=DATE:20210531
DTEND;VALUE=DATE:20210601
DTSTAMP:20260425T153009
CREATED:20200805T143057Z
LAST-MODIFIED:20200805T143057Z
UID:4505-1622419200-1622505599@cflu.org
SUMMARY:Memorial Day (School Closed)
DESCRIPTION:
URL:https://cflu.org/event/memorial-day-school-closed-9/
END:VEVENT
END:VCALENDAR