BEGIN:VCALENDAR
VERSION:2.0
PRODID:-//The Center for Learning Unlimited - ECPv6.10.1//NONSGML v1.0//EN
CALSCALE:GREGORIAN
METHOD:PUBLISH
X-WR-CALNAME:The Center for Learning Unlimited
X-ORIGINAL-URL:https://cflu.org
X-WR-CALDESC:Events for The Center for Learning Unlimited
REFRESH-INTERVAL;VALUE=DURATION:PT1H
X-Robots-Tag:noindex
X-PUBLISHED-TTL:PT1H
BEGIN:VTIMEZONE
TZID:America/Los_Angeles
BEGIN:DAYLIGHT
TZOFFSETFROM:-0800
TZOFFSETTO:-0700
TZNAME:PDT
DTSTART:20210314T100000
END:DAYLIGHT
BEGIN:STANDARD
TZOFFSETFROM:-0700
TZOFFSETTO:-0800
TZNAME:PST
DTSTART:20211107T090000
END:STANDARD
END:VTIMEZONE
BEGIN:VEVENT
DTSTART;VALUE=DATE:20210705
DTEND;VALUE=DATE:20210706
DTSTAMP:20260425T105059
CREATED:20200805T143314Z
LAST-MODIFIED:20200805T143314Z
UID:4511-1625443200-1625529599@cflu.org
SUMMARY:Independence Day (School Closed)
DESCRIPTION:
URL:https://cflu.org/event/independence-day-school-closed-8/
END:VEVENT
BEGIN:VEVENT
DTSTART;VALUE=DATE:20210719
DTEND;VALUE=DATE:20210720
DTSTAMP:20260425T105059
CREATED:20200805T143423Z
LAST-MODIFIED:20200805T143423Z
UID:4513-1626652800-1626739199@cflu.org
SUMMARY:Last Day of Academic Summer School
DESCRIPTION:
URL:https://cflu.org/event/last-day-of-academic-summer-school-5/
END:VEVENT
END:VCALENDAR