BEGIN:VCALENDAR
VERSION:2.0
PRODID:-//The Center for Learning Unlimited - ECPv6.10.1//NONSGML v1.0//EN
CALSCALE:GREGORIAN
METHOD:PUBLISH
X-ORIGINAL-URL:https://cflu.org
X-WR-CALDESC:Events for The Center for Learning Unlimited
REFRESH-INTERVAL;VALUE=DURATION:PT1H
X-Robots-Tag:noindex
X-PUBLISHED-TTL:PT1H
BEGIN:VTIMEZONE
TZID:America/Los_Angeles
BEGIN:DAYLIGHT
TZOFFSETFROM:-0800
TZOFFSETTO:-0700
TZNAME:PDT
DTSTART:20230312T100000
END:DAYLIGHT
BEGIN:STANDARD
TZOFFSETFROM:-0700
TZOFFSETTO:-0800
TZNAME:PST
DTSTART:20231105T090000
END:STANDARD
END:VTIMEZONE
BEGIN:VEVENT
DTSTART;VALUE=DATE:20231110
DTEND;VALUE=DATE:20231111
DTSTAMP:20260422T064128
CREATED:20210801T014319Z
LAST-MODIFIED:20230801T211840Z
UID:4711-1699574400-1699660799@cflu.org
SUMMARY:School Closed (Veterans Day)
DESCRIPTION:
URL:https://cflu.org/event/school-closed-veterans-day/
END:VEVENT
BEGIN:VEVENT
DTSTART;TZID=America/Los_Angeles:20231115T131000
DTEND;TZID=America/Los_Angeles:20231115T131000
DTSTAMP:20260422T064128
CREATED:20210801T014702Z
LAST-MODIFIED:20230801T211707Z
UID:4713-1700053800-1700053800@cflu.org
SUMMARY:Parent Conferences (Minimum Day Dismissal)
DESCRIPTION:
URL:https://cflu.org/event/parent-conferences-minimum-day-dismissal-4/
END:VEVENT
BEGIN:VEVENT
DTSTART;TZID=America/Los_Angeles:20231116T131000
DTEND;TZID=America/Los_Angeles:20231116T131000
DTSTAMP:20260422T064128
CREATED:20210801T014737Z
LAST-MODIFIED:20230801T211728Z
UID:4715-1700140200-1700140200@cflu.org
SUMMARY:Parent Conferences (Minimum Day Dismissal)
DESCRIPTION:
URL:https://cflu.org/event/parent-conferences-minimum-day-dismissal-5/
END:VEVENT
BEGIN:VEVENT
DTSTART;TZID=America/Los_Angeles:20231117T131000
DTEND;TZID=America/Los_Angeles:20231117T131000
DTSTAMP:20260422T064128
CREATED:20210801T014831Z
LAST-MODIFIED:20230801T211813Z
UID:4717-1700226600-1700226600@cflu.org
SUMMARY:Spirit Day & Minimum Day Dismissal
DESCRIPTION:
URL:https://cflu.org/event/parent-conferences-minimum-day-dismissal-6/
END:VEVENT
BEGIN:VEVENT
DTSTART;VALUE=DATE:20231120
DTEND;VALUE=DATE:20231125
DTSTAMP:20260422T064128
CREATED:20210801T015036Z
LAST-MODIFIED:20230801T211906Z
UID:4719-1700438400-1700870399@cflu.org
SUMMARY:School Closed (Thanksgiving)
DESCRIPTION:
URL:https://cflu.org/event/school-closed-thanksgiving/
END:VEVENT
END:VCALENDAR