BEGIN:VCALENDAR
VERSION:2.0
PRODID:-//The Center for Learning Unlimited - ECPv6.10.1//NONSGML v1.0//EN
CALSCALE:GREGORIAN
METHOD:PUBLISH
X-ORIGINAL-URL:https://cflu.org
X-WR-CALDESC:Events for The Center for Learning Unlimited
REFRESH-INTERVAL;VALUE=DURATION:PT1H
X-Robots-Tag:noindex
X-PUBLISHED-TTL:PT1H
BEGIN:VTIMEZONE
TZID:America/Los_Angeles
BEGIN:DAYLIGHT
TZOFFSETFROM:-0800
TZOFFSETTO:-0700
TZNAME:PDT
DTSTART:20240310T100000
END:DAYLIGHT
BEGIN:STANDARD
TZOFFSETFROM:-0700
TZOFFSETTO:-0800
TZNAME:PST
DTSTART:20241103T090000
END:STANDARD
END:VTIMEZONE
BEGIN:VEVENT
DTSTART;TZID=America/Los_Angeles:20240216T131000
DTEND;TZID=America/Los_Angeles:20240216T131000
DTSTAMP:20260421T181347
CREATED:20210801T020156Z
LAST-MODIFIED:20230801T212349Z
UID:4733-1708089000-1708089000@cflu.org
SUMMARY:Spirit Day & Minimum Day Dismissal
DESCRIPTION:
URL:https://cflu.org/event/minimum-day-dismissal-105-pm-2/
END:VEVENT
BEGIN:VEVENT
DTSTART;VALUE=DATE:20240219
DTEND;VALUE=DATE:20240220
DTSTAMP:20260421T181347
CREATED:20210801T020248Z
LAST-MODIFIED:20230801T214206Z
UID:4735-1708300800-1708387199@cflu.org
SUMMARY:School Closed (Presidents' Day)
DESCRIPTION:
URL:https://cflu.org/event/school-closed-presidents-day/
END:VEVENT
END:VCALENDAR