BEGIN:VCALENDAR
VERSION:2.0
PRODID:-//The Center for Learning Unlimited - ECPv6.10.1//NONSGML v1.0//EN
CALSCALE:GREGORIAN
METHOD:PUBLISH
X-ORIGINAL-URL:https://cflu.org
X-WR-CALDESC:Events for The Center for Learning Unlimited
REFRESH-INTERVAL;VALUE=DURATION:PT1H
X-Robots-Tag:noindex
X-PUBLISHED-TTL:PT1H
BEGIN:VTIMEZONE
TZID:America/Los_Angeles
BEGIN:DAYLIGHT
TZOFFSETFROM:-0800
TZOFFSETTO:-0700
TZNAME:PDT
DTSTART:20240310T100000
END:DAYLIGHT
BEGIN:STANDARD
TZOFFSETFROM:-0700
TZOFFSETTO:-0800
TZNAME:PST
DTSTART:20241103T090000
END:STANDARD
END:VTIMEZONE
BEGIN:VEVENT
DTSTART;VALUE=DATE:20240401
DTEND;VALUE=DATE:20240406
DTSTAMP:20260421T150404
CREATED:20210801T020841Z
LAST-MODIFIED:20230801T214502Z
UID:4745-1711929600-1712361599@cflu.org
SUMMARY:School Closed (Spring Break)
DESCRIPTION:
URL:https://cflu.org/event/school-closed-spring-break/
END:VEVENT
BEGIN:VEVENT
DTSTART;TZID=America/Los_Angeles:20240410T131000
DTEND;TZID=America/Los_Angeles:20240410T131000
DTSTAMP:20260421T150404
CREATED:20210801T020647Z
LAST-MODIFIED:20230801T214358Z
UID:4741-1712754600-1712754600@cflu.org
SUMMARY:Parent Conferences (Minimum Day Dismissal)
DESCRIPTION:
URL:https://cflu.org/event/parent-conferences-minimum-day-dismissal-8/
END:VEVENT
BEGIN:VEVENT
DTSTART;TZID=America/Los_Angeles:20240411T131000
DTEND;TZID=America/Los_Angeles:20240411T131000
DTSTAMP:20260421T150404
CREATED:20210801T020540Z
LAST-MODIFIED:20230801T214418Z
UID:4739-1712841000-1712841000@cflu.org
SUMMARY:Parent Conferences (Minimum Day Dismissal)
DESCRIPTION:
URL:https://cflu.org/event/parent-conferences-minimum-day-dismissal-7/
END:VEVENT
BEGIN:VEVENT
DTSTART;TZID=America/Los_Angeles:20240412T131000
DTEND;TZID=America/Los_Angeles:20240412T131000
DTSTAMP:20260421T150404
CREATED:20210801T020718Z
LAST-MODIFIED:20230801T214439Z
UID:4743-1712927400-1712927400@cflu.org
SUMMARY:Parent Conferences (Minimum Day Dismissal)
DESCRIPTION:
URL:https://cflu.org/event/parent-conferences-minimum-day-dismissal-9/
END:VEVENT
BEGIN:VEVENT
DTSTART;TZID=America/Los_Angeles:20240426T080000
DTEND;TZID=America/Los_Angeles:20240426T170000
DTSTAMP:20260421T150404
CREATED:20230801T215303Z
LAST-MODIFIED:20230801T215303Z
UID:5079-1714118400-1714150800@cflu.org
SUMMARY:Spirit Day
DESCRIPTION:
URL:https://cflu.org/event/spirit-day/
END:VEVENT
END:VCALENDAR