BEGIN:VCALENDAR
VERSION:2.0
PRODID:-//The Center for Learning Unlimited - ECPv6.10.1//NONSGML v1.0//EN
CALSCALE:GREGORIAN
METHOD:PUBLISH
X-ORIGINAL-URL:https://cflu.org
X-WR-CALDESC:Events for The Center for Learning Unlimited
REFRESH-INTERVAL;VALUE=DURATION:PT1H
X-Robots-Tag:noindex
X-PUBLISHED-TTL:PT1H
BEGIN:VTIMEZONE
TZID:America/Los_Angeles
BEGIN:DAYLIGHT
TZOFFSETFROM:-0800
TZOFFSETTO:-0700
TZNAME:PDT
DTSTART:20240310T100000
END:DAYLIGHT
BEGIN:STANDARD
TZOFFSETFROM:-0700
TZOFFSETTO:-0800
TZNAME:PST
DTSTART:20241103T090000
END:STANDARD
END:VTIMEZONE
BEGIN:VEVENT
DTSTART;VALUE=DATE:20240503
DTEND;VALUE=DATE:20240504
DTSTAMP:20260421T165139
CREATED:20210801T021016Z
LAST-MODIFIED:20230801T214531Z
UID:4747-1714694400-1714780799@cflu.org
SUMMARY:School Closed (Staff Development)
DESCRIPTION:
URL:https://cflu.org/event/school-closed-staff-development-3/
END:VEVENT
BEGIN:VEVENT
DTSTART;TZID=America/Los_Angeles:20240524T131000
DTEND;TZID=America/Los_Angeles:20240524T131000
DTSTAMP:20260421T165139
CREATED:20210801T021131Z
LAST-MODIFIED:20230801T214603Z
UID:4749-1716556200-1716556200@cflu.org
SUMMARY:Spirit Day & Minimum Day Dismissal (1:10 pm)
DESCRIPTION:
URL:https://cflu.org/event/minimum-day-dismissal-105-pm-3/
END:VEVENT
BEGIN:VEVENT
DTSTART;VALUE=DATE:20240527
DTEND;VALUE=DATE:20240528
DTSTAMP:20260421T165139
CREATED:20210801T021247Z
LAST-MODIFIED:20230801T214649Z
UID:4751-1716768000-1716854399@cflu.org
SUMMARY:School Closed (Memorial Day)
DESCRIPTION:
URL:https://cflu.org/event/school-closed-memorial-day/
END:VEVENT
END:VCALENDAR