BEGIN:VCALENDAR
VERSION:2.0
PRODID:-//The Center for Learning Unlimited - ECPv6.10.1//NONSGML v1.0//EN
CALSCALE:GREGORIAN
METHOD:PUBLISH
X-ORIGINAL-URL:https://cflu.org
X-WR-CALDESC:Events for The Center for Learning Unlimited
REFRESH-INTERVAL;VALUE=DURATION:PT1H
X-Robots-Tag:noindex
X-PUBLISHED-TTL:PT1H
BEGIN:VTIMEZONE
TZID:America/Los_Angeles
BEGIN:DAYLIGHT
TZOFFSETFROM:-0800
TZOFFSETTO:-0700
TZNAME:PDT
DTSTART:20240310T100000
END:DAYLIGHT
BEGIN:STANDARD
TZOFFSETFROM:-0700
TZOFFSETTO:-0800
TZNAME:PST
DTSTART:20241103T090000
END:STANDARD
END:VTIMEZONE
BEGIN:VEVENT
DTSTART;VALUE=DATE:20240820
DTEND;VALUE=DATE:20240821
DTSTAMP:20260421T055351
CREATED:20240712T231045Z
LAST-MODIFIED:20240713T003121Z
UID:5116-1724112000-1724198399@cflu.org
SUMMARY:Donuts with Teachers
DESCRIPTION:
URL:https://cflu.org/event/donuts-with-teachers/
ATTACH;FMTTYPE=image/jpeg:https://cflu.org/wp-content/uploads/2024/07/donuts.jpeg
END:VEVENT
BEGIN:VEVENT
DTSTART;TZID=America/Los_Angeles:20240821T131000
DTEND;TZID=America/Los_Angeles:20240821T131000
DTSTAMP:20260421T055351
CREATED:20240712T231313Z
LAST-MODIFIED:20240713T003332Z
UID:5118-1724245800-1724245800@cflu.org
SUMMARY:First Day of School - Minimum Day Dismissal (1:10 pm)
DESCRIPTION:
URL:https://cflu.org/event/first-day-of-school-minimum-day/
END:VEVENT
BEGIN:VEVENT
DTSTART;TZID=America/Los_Angeles:20240830T131000
DTEND;TZID=America/Los_Angeles:20240830T131000
DTSTAMP:20260421T055351
CREATED:20240712T231421Z
LAST-MODIFIED:20240713T002831Z
UID:5120-1725023400-1725023400@cflu.org
SUMMARY:Minimum Day Dismissal (1:10 pm)
DESCRIPTION:
URL:https://cflu.org/event/minimum-day-14/
END:VEVENT
END:VCALENDAR