BEGIN:VCALENDAR
VERSION:2.0
PRODID:-//The Center for Learning Unlimited - ECPv6.10.1//NONSGML v1.0//EN
CALSCALE:GREGORIAN
METHOD:PUBLISH
X-WR-CALNAME:The Center for Learning Unlimited
X-ORIGINAL-URL:https://cflu.org
X-WR-CALDESC:Events for The Center for Learning Unlimited
REFRESH-INTERVAL;VALUE=DURATION:PT1H
X-Robots-Tag:noindex
X-PUBLISHED-TTL:PT1H
BEGIN:VTIMEZONE
TZID:America/Los_Angeles
BEGIN:DAYLIGHT
TZOFFSETFROM:-0800
TZOFFSETTO:-0700
TZNAME:PDT
DTSTART:20240310T100000
END:DAYLIGHT
BEGIN:STANDARD
TZOFFSETFROM:-0700
TZOFFSETTO:-0800
TZNAME:PST
DTSTART:20241103T090000
END:STANDARD
END:VTIMEZONE
BEGIN:VEVENT
DTSTART;VALUE=DATE:20240902
DTEND;VALUE=DATE:20240903
DTSTAMP:20260421T041937
CREATED:20240713T002222Z
LAST-MODIFIED:20240713T003606Z
UID:5123-1725235200-1725321599@cflu.org
SUMMARY:Labor Day (School Closed)
DESCRIPTION:
URL:https://cflu.org/event/labor-day-school-closed-8/
ATTACH;FMTTYPE=image/jpeg:https://cflu.org/wp-content/uploads/2024/07/labor-day.jpg
END:VEVENT
BEGIN:VEVENT
DTSTART;VALUE=DATE:20240903
DTEND;VALUE=DATE:20240907
DTSTAMP:20260421T041937
CREATED:20240713T003939Z
LAST-MODIFIED:20240713T003939Z
UID:5131-1725321600-1725667199@cflu.org
SUMMARY:Spirit Week
DESCRIPTION:
URL:https://cflu.org/event/spirit-week-2/
END:VEVENT
BEGIN:VEVENT
DTSTART;VALUE=DATE:20240919
DTEND;VALUE=DATE:20240920
DTSTAMP:20260421T041937
CREATED:20240714T204057Z
LAST-MODIFIED:20240714T204057Z
UID:5134-1726704000-1726790399@cflu.org
SUMMARY:Back to School Night (Min. Day) Dismissal (1:10 PM)
DESCRIPTION:
URL:https://cflu.org/event/back-to-school-night-min-day-dismissal-110-pm/
END:VEVENT
END:VCALENDAR