BEGIN:VCALENDAR
VERSION:2.0
PRODID:-//The Center for Learning Unlimited - ECPv6.10.1//NONSGML v1.0//EN
CALSCALE:GREGORIAN
METHOD:PUBLISH
X-ORIGINAL-URL:https://cflu.org
X-WR-CALDESC:Events for The Center for Learning Unlimited
REFRESH-INTERVAL;VALUE=DURATION:PT1H
X-Robots-Tag:noindex
X-PUBLISHED-TTL:PT1H
BEGIN:VTIMEZONE
TZID:America/Los_Angeles
BEGIN:DAYLIGHT
TZOFFSETFROM:-0800
TZOFFSETTO:-0700
TZNAME:PDT
DTSTART:20240310T100000
END:DAYLIGHT
BEGIN:STANDARD
TZOFFSETFROM:-0700
TZOFFSETTO:-0800
TZNAME:PST
DTSTART:20241103T090000
END:STANDARD
END:VTIMEZONE
BEGIN:VEVENT
DTSTART;VALUE=DATE:20241004
DTEND;VALUE=DATE:20241005
DTSTAMP:20260421T013648
CREATED:20240714T204228Z
LAST-MODIFIED:20240714T204228Z
UID:5136-1728000000-1728086399@cflu.org
SUMMARY:Staff Development (School Closed)
DESCRIPTION:
URL:https://cflu.org/event/staff-development-school-closed-5/
END:VEVENT
BEGIN:VEVENT
DTSTART;VALUE=DATE:20241025
DTEND;VALUE=DATE:20241026
DTSTAMP:20260421T013648
CREATED:20240714T204418Z
LAST-MODIFIED:20240714T204418Z
UID:5138-1729814400-1729900799@cflu.org
SUMMARY:Spirit Day & End of Quarter (Minimum Day Dismissal 1:10 PM)
DESCRIPTION:
URL:https://cflu.org/event/spirit-day-end-of-quarter-minimum-day-dismissal-110-pm/
END:VEVENT
END:VCALENDAR