BEGIN:VCALENDAR
VERSION:2.0
PRODID:-//The Center for Learning Unlimited - ECPv6.10.1//NONSGML v1.0//EN
CALSCALE:GREGORIAN
METHOD:PUBLISH
X-WR-CALNAME:The Center for Learning Unlimited
X-ORIGINAL-URL:https://cflu.org
X-WR-CALDESC:Events for The Center for Learning Unlimited
REFRESH-INTERVAL;VALUE=DURATION:PT1H
X-Robots-Tag:noindex
X-PUBLISHED-TTL:PT1H
BEGIN:VTIMEZONE
TZID:America/Los_Angeles
BEGIN:DAYLIGHT
TZOFFSETFROM:-0800
TZOFFSETTO:-0700
TZNAME:PDT
DTSTART:20250309T100000
END:DAYLIGHT
BEGIN:STANDARD
TZOFFSETFROM:-0700
TZOFFSETTO:-0800
TZNAME:PST
DTSTART:20251102T090000
END:STANDARD
END:VTIMEZONE
BEGIN:VEVENT
DTSTART;VALUE=DATE:20251003
DTEND;VALUE=DATE:20251004
DTSTAMP:20260421T025534
CREATED:20250625T175759Z
LAST-MODIFIED:20250625T175759Z
UID:5383-1759449600-1759535999@cflu.org
SUMMARY:Staff Development - School Closed
DESCRIPTION:
URL:https://cflu.org/event/staff-development-school-closed-8/
END:VEVENT
BEGIN:VEVENT
DTSTART;TZID=America/Los_Angeles:20251015T120000
DTEND;TZID=America/Los_Angeles:20251015T133000
DTSTAMP:20260421T025534
CREATED:20251013T150634Z
LAST-MODIFIED:20251013T150634Z
UID:5443-1760529600-1760535000@cflu.org
SUMMARY:Hispanic Heritage Month Potluck
DESCRIPTION:
URL:https://cflu.org/event/hispanic-heritage-month-potluck/
END:VEVENT
BEGIN:VEVENT
DTSTART;VALUE=DATE:20251016
DTEND;VALUE=DATE:20251017
DTSTAMP:20260421T025534
CREATED:20251013T151041Z
LAST-MODIFIED:20251013T151041Z
UID:5445-1760572800-1760659199@cflu.org
SUMMARY:The Great Shakeout
DESCRIPTION:For information\, visit: ShakeOut.org
URL:https://cflu.org/event/the-great-shakeout/
END:VEVENT
BEGIN:VEVENT
DTSTART;VALUE=DATE:20251024
DTEND;VALUE=DATE:20251025
DTSTAMP:20260421T025534
CREATED:20250625T175852Z
LAST-MODIFIED:20250625T175852Z
UID:5385-1761264000-1761350399@cflu.org
SUMMARY:End of Quarter - Minimum Day
DESCRIPTION:Spirit Day!
URL:https://cflu.org/event/end-of-quarter-minimum-day-3/
END:VEVENT
END:VCALENDAR